Workbook

Sheet Data
A1: Power Buoy Generator Test 3
A2: Generator with Spring and Electrical Load
A3: 39000 | O3: start | P3: end
N4: time | O4: 4644.2 | P4: 4644.7
A5: Velocity (in/s) | B5: Velocity (m/s) | C5: Gross Force (lbf) | D5: Upper Press (psi) | E5: Lower Press (psi) | F5: Spring Force (lbf) | G5: Net Force (lbf) | H5: Net Force (kgf) | I5: Net Force (N) | J5: Load (ohms) | K5: Output (V) | L5: Output (W) | M5: Efficiency (%) | N5: position | O5: 15.482 | P5: 22.559
A6: 1.5 | B6: =A6/39.37 -> 0.038100076 | C6: 1948 | D6: 59 | E6: 160 | F6: =(E6-D6)*16.5 -> 1666.5 | G6: =C6-F6 -> 281.5 | H6: =G6*0.4536 -> 127.6884 | I6: =H6*9.81 -> 1252.6232 | J6: 1000000000 | K6: 10.1 | L6: =K6^2/J6 -> 1.0201e-07 | M6: =100*L6/(I6*B6) -> 2.1374524e-07 | P6: =(P5-O5)/(P4-O4) -> 14.154 | Q6: 15
A7: 2.5 | B7: =A7/39.37 -> 0.063500127 | C7: 2014 | D7: 60 | E7: 159 | F7: =(E7-D7)*16.5 -> 1633.5 | G7: =C7-F7 -> 380.5 | H7: =G7*0.4536 -> 172.5948 | I7: =H7*9.81 -> 1693.155 | J7: 1000000000 | K7: 18 | L7: =K7^2/J7 -> 3.24e-07 | M7: =100*L7/(I7*B7) -> 3.0135174e-07 | Q7: =(Q6-P6)/Q6 -> 0.0564
A8: 5 | B8: =A8/39.37 -> 0.12700025 | C8: 2405 | D8: 60 | E8: 159 | F8: =(E8-D8)*16.5 -> 1633.5 | G8: =C8-F8 -> 771.5 | H8: =G8*0.4536 -> 349.9524 | I8: =H8*9.81 -> 3433.033 | J8: 1000000000 | K8: 36.6 | L8: =K8^2/J8 -> 1.33956e-06 | M8: =100*L8/(I8*B8) -> 3.072413e-07
A9: 7.5 | B9: =A9/39.37 -> 0.19050038 | C9: 2889 | D9: 58 | E9: 160 | F9: =(E9-D9)*16.5 -> 1683 | G9: =C9-F9 -> 1206 | H9: =G9*0.4536 -> 547.0416 | I9: =H9*9.81 -> 5366.4781 | J9: 1000000000 | K9: 55.9 | L9: =K9^2/J9 -> 3.12481e-06 | M9: =100*L9/(I9*B9) -> 3.0565986e-07
A10: 10 | B10: =A10/39.37 -> 0.25400051 | C10: 3527 | D10: 59 | E10: 159 | F10: =(E10-D10)*16.5 -> 1650 | G10: =C10-F10 -> 1877 | H10: =G10*0.4536 -> 851.4072 | I10: =H10*9.81 -> 8352.3046 | J10: 1000000000 | K10: 71.7 | L10: =K10^2/J10 -> 5.14089e-06 | M10: =100*L10/(I10*B10) -> 2.4232454e-07
A11: 12.5 | B11: =A11/39.37 -> 0.31750064 | C11: 4037 | D11: 60 | E11: 157 | F11: =(E11-D11)*16.5 -> 1600.5 | G11: =C11-F11 -> 2436.5 | H11: =G11*0.4536 -> 1105.1964 | I11: =H11*9.81 -> 10841.977 | J11: 1000000000 | K11: 93 | L11: =K11^2/J11 -> 8.649e-06 | M11: =100*L11/(I11*B11) -> 2.5125391e-07
A12: 15 | B12: =A12/39.37 -> 0.38100076 | C12: 5016 | D12: 60 | E12: 158 | F12: =(E12-D12)*16.5 -> 1617 | G12: =C12-F12 -> 3399 | H12: =G12*0.4536 -> 1541.7864 | I12: =H12*9.81 -> 15124.925 | J12: 1000000000 | K12: 107 | L12: =K12^2/J12 -> 1.1449e-05 | M12: =100*L12/(I12*B12) -> 1.9867741e-07
A13: 1.5 | B13: =A13/39.37 -> 0.038100076 | C13: 2028 | D13: 60 | E13: 160 | F13: =(E13-D13)*16.5 -> 1650 | G13: =C13-F13 -> 378 | H13: =G13*0.4536 -> 171.4608 | I13: =H13*9.81 -> 1682.0304 | J13: 50 | K13: 6.4 | L13: =K13^2/J13 -> 0.8192 | M13: =100*L13/(I13*B13) -> 1.2782925
A14: 2.5 | B14: =A14/39.37 -> 0.063500127 | C14: 2251 | D14: 60 | E14: 160 | F14: =(E14-D14)*16.5 -> 1650 | G14: =C14-F14 -> 601 | H14: =G14*0.4536 -> 272.6136 | I14: =H14*9.81 -> 2674.3394 | J14: 50 | K14: 12.8 | L14: =K14^2/J14 -> 3.2768 | M14: =100*L14/(I14*B14) -> 1.9295623
A15: 5 | B15: =A15/39.37 -> 0.12700025 | C15: 2716 | D15: 59 | E15: 159 | F15: =(E15-D15)*16.5 -> 1650 | G15: =C15-F15 -> 1066 | H15: =G15*0.4536 -> 483.5376 | I15: =H15*9.81 -> 4743.5039 | J15: 50 | K15: 30.4 | L15: =K15^2/J15 -> 18.4832 | M15: =100*L15/(I15*B15) -> 3.0681269
A16: 7.5 | B16: =A16/39.37 -> 0.19050038 | C16: 3171 | D16: 60 | E16: 158 | F16: =(E16-D16)*16.5 -> 1617 | G16: =C16-F16 -> 1554 | H16: =G16*0.4536 -> 704.8944 | I16: =H16*9.81 -> 6915.0141 | J16: 50 | K16: 48.3 | L16: =K16^2/J16 -> 46.6578 | M16: =100*L16/(I16*B16) -> 3.5418922
A17: 10 | B17: =A17/39.37 -> 0.25400051 | C17: 3835 | D17: 58 | E17: 161 | F17: =(E17-D17)*16.5 -> 1699.5 | G17: =C17-F17 -> 2135.5 | H17: =G17*0.4536 -> 968.6628 | I17: =H17*9.81 -> 9502.5821 | J17: 50 | K17: 67.1 | L17: =K17^2/J17 -> 90.0482 | M17: =100*L17/(I17*B17) -> 3.730773
A18: 12.5 | B18: =A18/39.37 -> 0.31750064 | C18: 4487 | D18: 57 | E18: 161 | F18: =(E18-D18)*16.5 -> 1716 | G18: =C18-F18 -> 2771 | H18: =G18*0.4536 -> 1256.9256 | I18: =H18*9.81 -> 12330.44 | J18: 50 | K18: 85.5 | L18: =K18^2/J18 -> 146.205 | M18: =100*L18/(I18*B18) -> 3.7345566
A19: 15 | B19: =A19/39.37 -> 0.38100076 | C19: 5333 | D19: 58 | E19: 159 | F19: =(E19-D19)*16.5 -> 1666.5 | G19: =C19-F19 -> 3666.5 | H19: =G19*0.4536 -> 1663.1244 | I19: =H19*9.81 -> 16315.25 | J19: 50 | K19: 99.7 | L19: =K19^2/J19 -> 198.8018 | M19: =100*L19/(I19*B19) -> 3.198164
... A40: 15 | B40: =A40/39.37 -> 0.38100076 | C40: 6244 | D40: 61 | E40: 157.5 | F40: =(E40-D40)*16.5 -> 1592.25 | G40: =C40-F40 -> 4651.75 | H40: =G40*0.4536 -> 2110.0338 | I40: =H40*9.81 -> 20699.432 | J40: 5 | K40: 59.5 | L40: =K40^2/J40 -> 708.05 | M40: =100*L40/(I40*B40) -> 8.9780013

Sheet Damp
B3: kgf at various loads:
A4: Velocity (m/s) | B4: Open | C4: 50 ohm | D4: 25 ohm | E4: 10 ohm | F4: 5 ohm
A5: =Data!A6/39.37 -> 0.038100076 | B5: =Data!H6 -> 127.6884 | C5: =Data!H13 -> 171.4608 | D5: =Data!H20 -> 191.8728 | E5: =Data!H27 -> 177.8112 | F5: =Data!H34 -> 198.5634
A6: =Data!A7/39.37 -> 0.063500127 | B6: =Data!H7 -> 172.5948 | C6: =Data!H14 -> 272.6136 | D6: =Data!H21 -> 297.108 | E6: =Data!H28 -> 280.3248 | F6: =Data!H35 -> 325.6848
A7: =Data!A8/39.37 -> 0.12700025 | B7: =Data!H8 -> 349.9524 | C7: =Data!H15 -> 483.5376 | D7: =Data!H22 -> 527.7636 | E7: =Data!H29 -> 561.7836 | F7: =Data!H36 -> 675.297
A8: =Data!A9/39.37 -> 0.19050038 | B8: =Data!H9 -> 547.0416 | C8: =Data!H16 -> 704.8944 | D8: =Data!H23 -> 767.2644 | E8: =Data!H30 -> 987.2604 | F8: =Data!H37 -> 979.5492
A9: =Data!A10/39.37 -> 0.25400051 | B9: =Data!H10 -> 851.4072 | C9: =Data!H17 -> 968.6628 | D9: =Data!H24 -> 1043.0532 | E9: =Data!H31 -> 1183.2156 | F9: =Data!H38 -> 1272.2346
A10: =Data!A11/39.37 -> 0.31750064 | B10: =Data!H11 -> 1105.1964 | C10: =Data!H18 -> 1256.9256 | D10: =Data!H25 -> 1462.6332 | E10: =Data!H32 -> 1667.7738 | F10: =Data!H39 -> 1639.5372
A11: =Data!A12/39.37 -> 0.38100076 | B11: =Data!H12 -> 1541.7864 | C11: =Data!H19 -> 1663.1244 | D11: =Data!H26 -> 1737.288 | E11: =Data!H33 -> 1930.7484 | F11: =Data!H40 -> 2110.0338

Sheet Pwr
A4: Velocity (m/s) | B4: 50 ohm | C4: 25 ohm | D4: 10 ohm | E4: 5 ohm
A5: =Data!A6/39.37 -> 0.038100076 | B5: =Data!L13 -> 0.8192 | C5: =Data!L20 -> 1.6384 | D5: =Data!L27 -> 3.136 | E5: =Data!L34 -> 3.698
A6: =Data!A7/39.37 -> 0.063500127 | B6: =Data!L14 -> 3.2768 | C6: =Data!L21 -> 4.7524 | D6: =Data!L28 -> 11.236 | E6: =Data!L35 -> 14.112
A7: =Data!A8/39.37 -> 0.12700025 | B7: =Data!L15 -> 18.4832 | C7: =Data!L22 -> 32.0356 | D7: =Data!L29 -> 60.516 | E7: =Data!L36 -> 72.962
A8: =Data!A9/39.37 -> 0.19050038 | B8: =Data!L16 -> 46.6578 | C8: =Data!L23 -> 82.4464 | D8: =Data!L30 -> 133.956 | E8: =Data!L37 -> 211.25
A9: =Data!A10/39.37 -> 0.25400051 | B9: =Data!L17 -> 90.0482 | C9: =Data!L24 -> 159.7696 | D9: =Data!L31 -> 284.089 | E9: =Data!L38 -> 397.832
A10: =Data!A11/39.37 -> 0.31750064 | B10: =Data!L18 -> 146.205 | C10: =Data!L25 -> 240.8704 | D10: =Data!L32 -> 404.496 | E10: =Data!L39 -> 640.712
A11: =Data!A12/39.37 -> 0.38100076 | B11: =Data!L19 -> 198.8018 | C11: =Data!L26 -> 329.7856 | D11: =Data!L33 -> 609.961 | E11: =Data!L40 -> 708.05

Sheet Eff
A4: Velocity (m/s) | B4: 50 ohm | C4: 25 ohm | D4: 10 ohm | E4: 5 ohm
A5: =Data!A6/39.37 -> 0.038100076 | B5: =Data!M13 -> 1.2782925 | C5: =Data!M20 -> 2.2846079 | D5: =Data!M27 -> 4.718697 | E5: =Data!M34 -> 4.9827931
A6: =Data!A7/39.37 -> 0.063500127 | B6: =Data!M14 -> 1.9295623 | C6: =Data!M21 -> 2.5677636 | D6: =Data!M28 -> 6.4343786 | E6: =Data!M35 -> 6.9558062
A7: =Data!A8/39.37 -> 0.12700025 | B7: =Data!M15 -> 3.0681269 | C7: =Data!M22 -> 4.8721408 | D7: =Data!M29 -> 8.6462455 | E7: =Data!M36 -> 8.6721806
A8: =Data!A9/39.37 -> 0.19050038 | B8: =Data!M16 -> 3.5418922 | C8: =Data!M23 -> 5.7499199 | D8: =Data!M30 -> 7.2604844 | E8: =Data!M37 -> 11.539995
A9: =Data!A10/39.37 -> 0.25400051 | B9: =Data!M17 -> 3.730773 | C9: =Data!M24 -> 6.1472956 | D9: =Data!M31 -> 9.6357814 | E9: =Data!M38 -> 12.549572
A10: =Data!A11/39.37 -> 0.31750064 | B10: =Data!M18 -> 3.7345566 | C10: =Data!M25 -> 5.2873055 | D10: =Data!M32 -> 7.7868799 | E10: =Data!M39 -> 12.546656
A11: =Data!A12/39.37 -> 0.38100076 | B11: =Data!M19 -> 3.198164 | C11: =Data!M26 -> 5.0788457 | D11: =Data!M33 -> 8.452429 | E11: =Data!M40 -> 8.9780013
