<?xml version="1.0" encoding="ISO-8859-1"?>
<!DOCTYPE metadata SYSTEM "http://www.fgdc.gov/metadata/fgdc-std-001-1998.dtd">
<metadata>
	<idinfo>
		<citation>
			<citeinfo>
				<origin>Seafloor Mapping Lab at California State University Monterey Bay</origin>
				<title Sync="TRUE">MC_F06_3m_10clr.tif</title>
				<geoform Sync="TRUE">remote-sensing image</geoform>
				<ftname Sync="TRUE">MC_F06_3m_10clr.tif</ftname><onlink Sync="TRUE">\\013-131-11557\D$\1DATADWNLD_PREP\MonCan_REDO_METADATA\mc06_54_3m10clr\MC_F06_3m_10clr.tif</onlink></citeinfo>
		</citation>
		<descript>
			<abstract>The head of the Monterey Submarine Canyon experiences seasonal flushing events that are hypothesized to cause large amounts of sediment settled in axis along the bottom to be moved downslope.  It is believed that these dams of sediment formed along the axes of the canyon head create a habitat for a unique benthic community endemic to the sediment and debris. Information provided by this project contributes to quantitatively analyzing the magnitude of sediment transported from the head of the canyon into the deep canyon.  The goals of the project proposed here are to: 1) characterize the geomorphology of the headward portion of the Monterey Submarine Canyon, 2) look for evidence consistent with the hypothesis that natural dams form before and are then lost during the winter storm season, and 3) quantify the magnitude of geomorphic changes in the canyon head between pre- and post-storm season periods.  Multibeam bathymetry data was used to create pre- and post-storm, high-resolution (2-4 m horizontal posting) digital elevation models (DEMs) to detect and quantify the magnitude of these predicted sediment movement patterns.</abstract>
			<purpose>Information regarding the occurrence and quantitative effects of seasonal flushing events is needed to assess the risks and benefits associated with dumping dredge material into the Monterey Bay Canyon.  The purpose of the project was to identify the overall change in the morphology of the head of Monterey Bay Submarine Canyon from 10m to 300m in depth between pre- and post-winter storm activity. Specific goals were to find evidence of sediment "dams" forming across the canyon axis and to quantify how the morphology of the canyon changes following the first storms of winter, which are believed to trigger flushing events and removal of the hypothesized dams.  By determining how much sediment is transported from the canyon head into the deep canyon via seasonal flushing events, questions pertaining to the ecosystem of the canyon can be answered with increased certainty by the scientific community.</purpose>
			<supplinf>Bathymetric data of the headward portion (&lt; 300 m in depth) of the Monterey Bay Submarine Canyon is recorded as x,y,z (latitude, longitude, depth) data points that can be used to generate depth contours and digital elevation models (DEM's) to determine volumes of deposition/erosion, wavelength/height of dams of sediment in the canyon, and the presence of hypothesized morphological features.</supplinf>
			<langdata Sync="TRUE">en</langdata></descript>
		<timeperd>
			<timeinfo>
				<sngdate><caldate>20060223</caldate></sngdate></timeinfo>
			<current>ground condition</current>
		</timeperd>
		<status>
			<progress>Complete</progress>
			<update>None planned</update>
		</status>
		<spdom>
			<bounding>
				<westbc Sync="TRUE">-121.845125</westbc>
				<eastbc Sync="TRUE">-121.785196</eastbc>
				<northbc Sync="TRUE">36.817163</northbc>
				<southbc Sync="TRUE">36.771662</southbc>
			</bounding>
			<lboundng><leftbc Sync="TRUE">603063.920000</leftbc><rightbc Sync="TRUE">608349.920000</rightbc><bottombc Sync="TRUE">4070229.880000</bottombc><topbc Sync="TRUE">4075212.880000</topbc></lboundng></spdom>
		<keywords>
			<theme>
				<themekey>Multibeam (colored by depth)</themekey>
				<themekt>REQUIRED: Reference to a formally registered thesaurus or a similar authoritative source of theme keywords.</themekt></theme>
		</keywords>
		<accconst>To be determined by SFML and contractor</accconst>
		<useconst>To be determined by SFML and contractor</useconst>
		<ptcontac>
			<cntinfo>
				<cntperp>
					<cntper>Rikk Kvitek</cntper>
					<cntorg>Seafloor Mapping Lab, California State University Monterey Bay</cntorg>
				</cntperp>
				<cntpos>Director</cntpos>
				<cntaddr>
					<addrtype>mailing and physical address</addrtype>
					<address>California State University Monterey Bay, Institute for Earth Systems Science and Policy,100 Campus Center, Bldg 46A</address>
					<city>Seaside</city>
					<state>California</state>
					<postal>93955</postal>
					<country>USA</country>
				</cntaddr>
				<cntvoice>(831) 582-3529</cntvoice>
				<cntfax>(831) 582-3073</cntfax>
				<cntemail>rikk_kvitek@csumb.edu</cntemail>
			</cntinfo>
		</ptcontac>
		<native Sync="TRUE">Microsoft Windows XP Version 5.1 (Build 2600) Service Pack 2; ESRI ArcCatalog 9.1.0.780</native>
		<natvform Sync="TRUE">Raster Dataset</natvform></idinfo>
	<dataqual>
		<lineage>
			<srcinfo>
				<srctime>
					<timeinfo>
						<sngdate><caldate>20060223</caldate></sngdate></timeinfo>
					<srccurr>ground condition</srccurr>
				</srctime>
			</srcinfo>
			<procstep>
				<procdesc>Multibeam bathymetry data were post processed using CARIS HIPS hydrographic software. Soundings were corrected for vessel motion using Applanix POS/MV data, variations in water column sound velocity using AML SV+ data, and adjusted for variations in water height (tides) using vertical position data from a NavCom 2050 GPS receiver (CNAV). Final x,y,z soundings, surface models, and derived products are relative to the NAVD88 vertical datum. Cleaning to remove erroneous soundings was completed in CARIS HIPS. Geotiffs were exported from Caris Hips and Sips Spatial Editor with a 3m resolution in sunshaded grayscale and rainbow 10 color imagery. 

Color	Min Depth (m)	Max Depth (m)
Red	                  0	20
yellow/orange	20	40
light green	40	60
medium green	60	80
dark green	80	100
light blue	              100	120
dark blue	              120	140
violet	              140	160
purple	              160	180
magenta	              180+	
Geotiff info (Caris)		
Vertical exaggeration	5	
Elevation	                45	
Sun azimuth	45</procdesc>
				<proccont>
					<cntinfo>
						<cntperp>
							<cntper>Pat Iampietro</cntper>
							<cntorg>Seafloor Mapping Lab, California State University Monterey Bay</cntorg>
						</cntperp>
						<cntpos>Project Manager, Chief Hydrographer</cntpos>
						<cntaddr>
							<addrtype>mailing and physical address</addrtype>
							<address>California State University Monterey Bay, Institute for Earth Systems Science and Policy,100 Campus Center, Bldg 46A</address>
							<city>Seaside</city>
							<state>California</state>
							<postal>93933</postal>
							<country>USA</country>
						</cntaddr>
						<cntvoice>(831) 582-4214</cntvoice>
						<cntfax>(831) 582-3073</cntfax>
						<cntemail>pat_iampietro@csumb.edu</cntemail>
					</cntinfo>
				</proccont>
			</procstep>
		</lineage>
	</dataqual>
	<spdoinfo>
		<direct Sync="TRUE">Raster</direct>
		<ptvctinf>
			<sdtsterm>
				<sdtstype>String</sdtstype>
				<ptvctcnt>78</ptvctcnt>
			</sdtsterm>
		</ptvctinf>
	</spdoinfo>
	<spref>
		<horizsys>
			<planar>
				<planci>
					<plance Sync="TRUE">row and column</plance>
					<coordrep>
						<absres Sync="TRUE">3.000000</absres>
						<ordres Sync="TRUE">3.000000</ordres>
					</coordrep>
					<plandu Sync="TRUE">meters</plandu>
				</planci>
				<gridsys><gridsysn Sync="TRUE">Universal Transverse Mercator</gridsysn><utm><utmzone Sync="TRUE">10</utmzone><transmer><sfctrmer Sync="TRUE">0.999600</sfctrmer><longcm Sync="TRUE">-123.000000</longcm><latprjo Sync="TRUE">0.000000</latprjo><feast Sync="TRUE">500000.000000</feast><fnorth Sync="TRUE">0.000000</fnorth></transmer></utm></gridsys></planar>
			<geodetic>
				<horizdn Sync="TRUE">D_WGS_1984</horizdn>
				<ellips Sync="TRUE">WGS_1984</ellips>
				<semiaxis Sync="TRUE">6378137.000000</semiaxis>
				<denflat Sync="TRUE">298.257224</denflat>
			</geodetic>
			<cordsysn><geogcsn Sync="TRUE">GCS_WGS_1984</geogcsn><projcsn Sync="TRUE">WGS_1984_UTM_Zone_10N</projcsn></cordsysn></horizsys>
	</spref>
	<eainfo>
		<detailed>
			<enttyp>
			</enttyp>
			<attr>
				<attrlabl>ObjectID</attrlabl>
				<attrdef>Internal feature number.</attrdef>
				<attrdefs>ESRI</attrdefs>
				<attrdomv>
					<udom>Sequential unique whole numbers that are automatically generated.</udom>
				</attrdomv>
			</attr>
			<attr>
				<attrlabl>Value</attrlabl>
				<attrdef>Feature geometry.</attrdef>
				<attrdefs>ESRI</attrdefs>
				<attrdomv>
					<udom>Coordinates defining the features.</udom>
				</attrdomv>
			</attr>
			<attr>
				<attrlabl>Count</attrlabl>
			</attr>
		</detailed>
	</eainfo>
	<distinfo>
		<resdesc>Downloadable Data</resdesc>
		<stdorder>
			<digform>
				<digtinfo>
					<transize Sync="TRUE">0.000</transize>
					<dssize Sync="TRUE">0.000</dssize></digtinfo>
			</digform>
		</stdorder>
	</distinfo>
	<metainfo>
		<metd Sync="TRUE">20070216</metd>
		<metc>
			<cntinfo>
				<cntperp>
					<cntper>Carrie Bretz</cntper>
					<cntorg>Seafloor Mapping Lab, California State University Monterey Bay</cntorg>
				</cntperp>
				<cntpos>GIS Analyst and Metadata Manager</cntpos>
				<cntaddr>
					<addrtype>mailing and physical address</addrtype>
					<address>California State University Monterey Bay, Institute for Earth Systems Science and Policy,100 Campus Center, Bldg 46A</address>
					<city>Seaside</city>
					<state>California</state>
					<postal>93933</postal>
					<country>USA</country>
				</cntaddr>
				<cntvoice>831-582-4197</cntvoice>
				<cntfax>831-582-3073</cntfax>
				<cntemail>carrie_bretz@csumb.edu</cntemail>
			</cntinfo>
		</metc>
		<metstdn Sync="TRUE">FGDC Content Standards for Digital Geospatial Metadata</metstdn>
		<metstdv Sync="TRUE">FGDC-STD-001-1998</metstdv>
		<mettc Sync="TRUE">local time</mettc>
		<metextns>
			<onlink>http://www.esri.com/metadata/esriprof80.html</onlink>
			<metprof>ESRI Metadata Profile</metprof>
		</metextns>
		<metextns>
			<onlink>http://www.esri.com/metadata/esriprof80.html</onlink>
			<metprof>ESRI Metadata Profile</metprof>
		</metextns>
		<metextns>
			<onlink>http://www.esri.com/metadata/esriprof80.html</onlink>
			<metprof>ESRI Metadata Profile</metprof>
		</metextns>
		<metextns>
			<onlink>http://www.esri.com/metadata/esriprof80.html</onlink>
			<metprof>ESRI Metadata Profile</metprof>
		</metextns>
		<metextns>
			<onlink>http://www.esri.com/metadata/esriprof80.html</onlink>
			<metprof>ESRI Metadata Profile</metprof>
		</metextns>
		<langmeta Sync="TRUE">en</langmeta><metextns><onlink Sync="TRUE">http://www.esri.com/metadata/esriprof80.html</onlink><metprof Sync="TRUE">ESRI Metadata Profile</metprof></metextns></metainfo>
	<Esri><CreaDate>20060628</CreaDate><CreaTime>14253400</CreaTime><SyncOnce>FALSE</SyncOnce><SyncDate>20070216</SyncDate><SyncTime>12400700</SyncTime><ModDate>20070216</ModDate><ModTime>12403300</ModTime><MetaID>{527E92E6-6F93-44A2-9F91-306D872EA99A}</MetaID></Esri><dataIdInfo><envirDesc Sync="TRUE">Microsoft Windows XP Version 5.1 (Build 2600) Service Pack 2; ESRI ArcCatalog 9.1.0.780</envirDesc><dataLang><languageCode Sync="TRUE" value="en"></languageCode></dataLang><idCitation><resTitle Sync="TRUE">MC_F06_3m_10clr.tif</resTitle><presForm><PresFormCd Sync="TRUE" value="005"></PresFormCd></presForm></idCitation><spatRpType><SpatRepTypCd Sync="TRUE" value="002"></SpatRepTypCd></spatRpType><dataExt><geoEle><GeoBndBox esriExtentType="native"><westBL Sync="TRUE">603063.92</westBL><eastBL Sync="TRUE">608349.92</eastBL><northBL Sync="TRUE">4075212.88</northBL><southBL Sync="TRUE">4070229.88</southBL><exTypeCode Sync="TRUE">1</exTypeCode></GeoBndBox></geoEle></dataExt><geoBox esriExtentType="decdegrees"><westBL Sync="TRUE">-121.845125</westBL><eastBL Sync="TRUE">-121.785196</eastBL><northBL Sync="TRUE">36.817163</northBL><southBL Sync="TRUE">36.771662</southBL><exTypeCode Sync="TRUE">1</exTypeCode></geoBox></dataIdInfo><mdLang><languageCode Sync="TRUE" value="en"></languageCode></mdLang><mdStanName Sync="TRUE">ISO 19115 Geographic Information - Metadata</mdStanName><mdStanVer Sync="TRUE">DIS_ESRI1.0</mdStanVer><mdChar><CharSetCd Sync="TRUE" value="004"></CharSetCd></mdChar><mdHrLv><ScopeCd Sync="TRUE" value="005"></ScopeCd></mdHrLv><mdHrLvName Sync="TRUE">dataset</mdHrLvName><distInfo><distributor><distorTran><onLineSrc><orDesc Sync="TRUE">002</orDesc><linkage Sync="TRUE">file://\\013-131-11557\D$\1DATADWNLD_PREP\MonCan_REDO_METADATA\mc06_54_3m10clr\MC_F06_3m_10clr.tif</linkage><protocol Sync="TRUE">Local Area Network</protocol></onLineSrc><transSize Sync="TRUE">0.000</transSize></distorTran><distorFormat><formatName Sync="TRUE">Raster Dataset</formatName></distorFormat></distributor></distInfo><refSysInfo><RefSystem><refSysID><identCode Sync="TRUE">WGS_1984_UTM_Zone_10N</identCode></refSysID></RefSystem></refSysInfo><spatRepInfo><GridSpatRep><numDims Sync="TRUE">2</numDims><cellGeo><CellGeoCd Sync="TRUE" value="002"></CellGeoCd></cellGeo><tranParaAv Sync="TRUE">1</tranParaAv><axDimProps><Dimen><dimName><DimNameTypCd Sync="TRUE" value="002"></DimNameTypCd></dimName><dimSize Sync="TRUE">1762</dimSize><dimResol><value Sync="TRUE">3</value><uom><UomLength><uomName Sync="TRUE">Meter</uomName><conversionToISOstandardUnit Sync="TRUE">1 Meter = 1 Meter(s)</conversionToISOstandardUnit></UomLength></uom></dimResol></Dimen><Dimen><dimName><DimNameTypCd Sync="TRUE" value="001"></DimNameTypCd></dimName><dimSize Sync="TRUE">1661</dimSize><dimResol><value Sync="TRUE">3</value><uom><UomLength><uomName Sync="TRUE">Meter</uomName><conversionToISOstandardUnit Sync="TRUE">1 Meter = 1 Meter(s)</conversionToISOstandardUnit></UomLength></uom></dimResol></Dimen></axDimProps></GridSpatRep></spatRepInfo><mdDateSt Sync="TRUE">20070216</mdDateSt></metadata>
