{"text_format":"1","workbook":"xlsx","n_sheets":7,"sheets":["Chart1","Sheet1","pH_Proc","Chart2","pCO2","CO2_Std","pCO2-pH_Plot"],"not_rendered":{"charts":8,"images":0,"macros":1,"external_links":1,"defined_names":0,"comments":0,"pivot_tables":0},"unopened":[{"sheet":"Chart1","index":0,"reason":"not_a_worksheet"},{"sheet":"Chart2","index":3,"reason":"not_a_worksheet"}],"bounds":{"document_bytes":16777216,"sheet_cells":100000,"rows_first":2000,"rows_last":500,"rows_between":2000,"halvings":0,"cell_chars":16384,"cell_head_chars":4096},"cells_cut":0,"cells_raw":0,"read":"whole","date_system":"1900"}

{"sheet":"Sheet1","index":1,"n_rows":345,"n_cols":39,"rows_kept":345,"cut":false,"hidden":false,"merged":[]}
["pCO2*","latitude","longitude","time","Da e. ime","EquilPumpOn pco2","EquilPumpOn Temp","EquilPumpOn Pressure","EquilPumpOff pco2","EquilPumpOff Temp","EquilPumpOff Pressure","EquilPumpOff Humidity","ZeroPumpOn pco2","ZeroPumpOn Temp","ZeroPumpOn Pressure","ZeroPumpOff pco2","ZeroPumpOff Temp","ZeroPumpOff Pressure","AirPumpOn pco2","AirPumpOn Temp","AirPumpOn Pressure","AirPumpOff pco2","AirPumpOff Temp","AirPumpOff Pressure","AirPumpOff Humidity","StandardFlowOn Pressure","StandardFlowOff pco2","StandardFlowOff Temp","StandardFlowOff Pressure","StandardFlowOff pco2 Humidity","Durafet pH 1","Durafet pH 2","Durafet pH 3","Durafet pH 4","Durafet pH 5","Durafet pH 6","Can Humidity",0,0]
["pCO2",36.802661667000002,-121.78807999999999,"2013-05-09T04:31:04Z","2013-05-09T03:31:27",542.55999999999995,19.835999999999999,86.635999999999996,536.97,19.901,103.05,2.0630999999999999,-2.2418,20.074000000000002,93.694000000000003,-1.5656000000000001,20.106999999999999,101.95,408.8,20.27,86.460999999999999,403.97,20.335000000000001,102.03,2.0135999999999998,0,0,0,0,0,76.48,76.510000000000005,76.47,76.48,76.569999999999993,76.63,1.6294999999999999,0,0]
["pCO2",36.802893333,-121.787773333,"2013-05-09T05:31:06Z","2013-05-09T04:31:27",542.04999999999995,19.792999999999999,86.811000000000007,536.19000000000005,19.869,103.11,2.056,-2.1918000000000002,20.053000000000001,93.99,-1.6505000000000001,20.074000000000002,102.31,410.6,20.248000000000001,86.542000000000002,405.17,20.303000000000001,102.07,2.0110999999999999,0,0,0,0,0,76.680000000000007,83.43,78.98,77.260000000000005,77.03,76.87,1.6263000000000001,0,0]
["pCO2",36.802593332999997,-121.78800833299999,"2013-05-09T06:31:04Z","2013-05-09T05:31:29",542.89,19.771999999999998,86.891999999999996,536.34,19.835999999999999,103.12,2.0478999999999998,-2.2978999999999998,20.009,94.125,-1.6509,20.042000000000002,102.33,412.77,20.216000000000001,86.569000000000003,407.58,20.27,102.1,2.0049000000000001,0,0,0,0,0,76.92,76.88,76.790000000000006,76.900000000000006,76.75,76.95,1.6232,0,0]
["pCO2",36.802799999999998,-121.78792333299999,"2013-05-09T07:31:05Z","2013-05-09T06:31:27",543.26,19.75,86.864999999999995,537.21,19.815000000000001,103.12,2.0476999999999999,-2.2273999999999998,19.988,93.99,-1.4790000000000001,20.02,102.5,413.05,20.183,86.581999999999994,408.21,20.259,102.08,2.0061,0,0,0,0,0,76.95,76.989999999999995,76.97,76.819999999999993,77.010000000000005,77.02,1.6197999999999999,0,0]
["pCO2",36.802513333,-121.787956667,"2013-05-09T08:31:04Z","2013-05-09T07:31:29",544.08000000000004,19.728000000000002,86.864999999999995,538.13,19.792999999999999,103.12,2.0384000000000002,-2.0992000000000002,19.966000000000001,94.555999999999997,-1.5553999999999999,19.998999999999999,102.8,410.37,20.161000000000001,86.677000000000007,405.21,20.225999999999999,102.1,1.9992000000000001,0,0,0,0,0,76.989999999999995,77.12,77.12,77.010000000000005,77.010000000000005,76.95,1.6172,0,0]
["pCO2",36.799941666999999,-121.78729166700001,"2013-05-09T09:31:04Z","2013-05-09T08:31:27",544.48,19.707000000000001,86.784999999999997,537.87,19.782,103.09,2.0402,-2.1187,19.954999999999998,94.125,-1.7065999999999999,19.977,102.58,410.56,20.14,86.555999999999997,405.53,20.216000000000001,102.06,1.9990000000000001,0,0,0,0,0,76.94,77.13,77.05,76.94,76.95,76.989999999999995,1.6142000000000001,0,0]
["pCO2",36.802886667000003,-121.78838,"2013-05-09T10:31:04Z","2013-05-09T09:31:27",544.91,19.707000000000001,86.918999999999997,539.04,19.771000000000001,103.07,2.0388999999999999,-1.9811000000000001,19.943999999999999,94.097999999999999,-1.4555,19.977,102.33,417.6,20.149999999999999,86.716999999999999,412.55,20.216000000000001,102.04,1.9954000000000001,0,0,0,0,0,77.02,77.09,76.989999999999995,77.02,77.02,77.069999999999993,1.6124000000000001,0,0]
["pCO2",36.802881667000001,-121.788015,"2013-05-09T11:31:03Z","2013-05-09T10:31:27",545.88,19.728000000000002,86.744,539.55999999999995,19.803999999999998,103.07,2.0468999999999999,-2.0985,19.988,93.99,-1.6157999999999999,20.009,102.31,416.78,20.183,86.488,411.64,20.236999999999998,102.03,2.0047000000000001,0,0,0,0,0,77.02,77.12,76.069999999999993,77.06,77.069999999999993,77.069999999999993,1.6094999999999999,0,0]
["pCO2",36.802424999999999,-121.78783666699999,"2013-05-09T12:31:05Z","2013-05-09T11:31:27",546.27,19.75,86.65,539.80999999999995,19.803999999999998,103.05,2.0440999999999998,-2.0308999999999999,19.988,94.152000000000001,-1.4961,20.02,102.68,415.36,20.183,86.501999999999995,409.91,20.248000000000001,102.02,2.0028000000000001,0,0,0,0,0,77.05,77.23,77.099999999999994,77.08,77.069999999999993,77.010000000000005,1.609,0,0]
["pCO2",36.802908332999998,-121.78831,"2013-05-09T13:31:04Z","2013-05-09T12:31:29",547.20000000000005,19.75,86.811000000000007,540.47,19.815000000000001,103.04,2.0428999999999999,-2.0383,19.988,94.286000000000001,-1.542,20.02,102.56,415.79,20.193999999999999,86.474999999999994,410.67,20.259,102.02,2.0051000000000001,0,0,0,0,0,77.09,77.08,77.14,77.11,76.97,76.64,1.6059000000000001,0,0]
["pCO2",36.801776666999999,-121.788891667,"2013-05-09T14:31:04Z","2013-05-09T13:31:29",547.45000000000005,19.815000000000001,86.798000000000002,541.16,19.89,103.08,2.0516000000000001,-2.2084000000000001,20.074000000000002,94.433999999999997,-1.7652000000000001,20.096,102.95,417.88,20.27,86.528999999999996,412.92,20.335000000000001,102.04,2.0131999999999999,0,0,0,0,0,76.53,76.7,76.58,76.650000000000006,76.599999999999994,76.36,1.6051,0,0]
["pCO2",36.802871666999998,-121.791746667,"2013-05-09T15:31:05Z","2013-05-09T14:31:27",547.78,19.901,86.986999999999995,541.24,19.966000000000001,103.13,2.0554000000000001,-2.2852000000000001,20.161000000000001,94.460999999999999,-1.5945,20.183,102.69,420.59,20.356999999999999,86.677000000000007,415.28,20.411999999999999,102.11,2.0186999999999999,0,0,0,0,0,76.5,76.64,76.55,76.540000000000006,76.510000000000005,76.47,1.6042000000000001,0,0]
["pCO2",36.802590000000002,-121.78796333299999,"2013-05-09T16:31:06Z","2013-05-09T15:31:29",545.91,19.988,86.96,540.28,20.053000000000001,103.19,2.0648,-2.2353999999999998,20.225999999999999,94.231999999999999,-1.7991999999999999,20.259,102.64,437.54,20.422999999999998,86.677000000000007,432.37,20.488,102.15,2.0224000000000002,0,0,0,0,0,76.47,76.66,76.56,76.540000000000006,76.53,76.52,1.6045,0,0]
["pCO2",36.802706667000002,-121.788033333,"2013-05-09T17:31:05Z","2013-05-09T16:31:29",547.99,19.988,86.891999999999996,541.91999999999996,20.062999999999999,103.2,2.0651999999999999,-2.2761,20.248000000000001,94.447999999999993,-1.6806000000000001,20.27,102.74,444.53,20.443999999999999,86.748999999999995,438.82,20.498999999999999,102.2,2.0188000000000001,0,0,0,0,0,76.53,76.67,76.510000000000005,76.52,76.64,76.59,1.6061000000000001,0,0]
["pCO2",36.803201667000003,-121.787576667,"2013-05-09T18:31:04Z","2013-05-09T17:31:27",548.29,19.966000000000001,86.972999999999999,541.55999999999995,20.042000000000002,103.23,2.0644999999999998,-2.4064999999999999,20.225999999999999,94.111000000000004,-1.7092000000000001,20.248000000000001,102.58,452.53,20.422999999999998,86.703999999999994,448.01,20.477,102.2,2.0209000000000001,0,0,0,0,0,76.599999999999994,76.62,76.430000000000007,76.67,76.59,76.569999999999993,1.6056999999999999,0,0]
["pCO2",36.797089999999997,-121.801818333,"2013-05-09T19:31:05Z","2013-05-09T18:31:27",549.67999999999995,19.943999999999999,86.837999999999994,543.53,20.02,103.18,2.0638000000000001,-2.2925,20.204999999999998,94.3,-1.6391,20.225999999999999,102.68,439.22,20.401,86.623000000000005,433.78,20.454999999999998,102.15,2.0194000000000001,0,0,0,0,0,76.48,76.62,76.540000000000006,76.489999999999995,76.47,76.63,1.605,0,0]
["pCO2",36.802973332999997,-121.788133333,"2013-05-09T20:31:06Z","2013-05-09T19:31:27",549.14,19.922999999999998,86.879000000000005,541.79,19.998000000000001,103.18,2.0569000000000002,-2.3109999999999999,20.183,94.555999999999997,-1.6738999999999999,20.204999999999998,102.8,433.74,20.379000000000001,86.635999999999996,429.11,20.433,102.14,2.0144000000000002,0,0,0,0,0,76.64,76.66,76.569999999999993,76.650000000000006,76.62,76.52,1.6041000000000001,0,0]
["pCO2",36.802886667000003,-121.787816667,"2013-05-09T21:31:04Z","2013-05-09T20:31:29",547.82000000000005,19.901,86.798000000000002,541.4,19.966000000000001,103.16,2.0550999999999999,-2.2572000000000001,20.138999999999999,94.177999999999997,-1.6767000000000001,20.172000000000001,102.61,412.1,20.346,86.596000000000004,407.19,20.401,102.16,2.0116000000000001,103.17,404.56,20.63,102.17,1.8734999999999999,76.510000000000005,77.28,76.64,76.61,76.58,76.59,1.6032,0,0]
["pCO2",36.817534999999999,-121.84939,"2013-05-09T22:31:05Z","2013-05-09T21:31:27",547.6,19.966000000000001,86.864999999999995,540.94000000000005,20.030999999999999,103.15,2.0432999999999999,-2.1968999999999999,20.204999999999998,94.555999999999997,-1.8357000000000001,20.236999999999998,102.97,411.69,20.401,86.581999999999994,406.62,20.454999999999998,102.12,2.0045000000000002,0,0,0,0,0,76.540000000000006,76.680000000000007,76.650000000000006,76.63,76.599999999999994,76.56,1.6006,0,0]
["pCO2",36.802163333000003,-121.787816667,"2013-05-09T23:31:04Z","2013-05-09T22:31:27",547.26,19.901,86.725999999999999,540.45000000000005,19.977,103.12,2.0495000000000001,-2.1389999999999998,20.161000000000001,94.03,-1.6066,20.183,102.46,413.71,20.356999999999999,86.447999999999993,408.87,20.411999999999999,102.07,2.0081000000000002,0,0,0,0,0,76.61,76.760000000000005,76.739999999999995,76.63,76.489999999999995,76.62,1.5989,0,0]
["pCO2",36.802716666999999,-121.787995,"2013-05-10T00:31:05Z","2013-05-09T23:31:27",547.09,19.901,86.716999999999999,541.04,19.977,103.05,2.0493000000000001,-2.1901999999999999,20.161000000000001,93.99,-1.5409999999999999,20.183,102.81,411.56,20.356999999999999,86.569000000000003,406.82,20.411999999999999,102.04,2.0059,0,0,0,0,0,76.59,76.75,76.760000000000005,76.72,76.540000000000006,76.66,1.5979000000000001,0,0]
["pCO2",36.802846666999997,-121.788088333,"2013-05-10T01:31:05Z","2013-05-10T00:31:28",548.47,19.954999999999998,86.677000000000007,542.04,20.02,103.03,2.0608,-2.1945000000000001,20.204999999999998,94.03,-1.7565999999999999,20.225999999999999,102.66,414.32,20.401,86.677000000000007,409.33,20.454999999999998,101.99,2.0078999999999998,0,0,0,0,0,76.73,76.84,76.709999999999994,76.739999999999995,76.63,76.69,1.5966,0,0]
["pCO2",36.801454999999997,-121.791611667,"2013-05-10T02:31:05Z","2013-05-10T01:31:27",547.51,20.009,86.891999999999996,541.47,20.085000000000001,103.04,2.0579000000000001,-2.3906999999999998,20.27,94.070999999999998,-1.8487,20.292000000000002,102.33,411.35,20.466000000000001,86.623000000000005,406.64,20.521000000000001,101.99,2.0087999999999999,0,0,0,0,0,76.64,76.75,76.78,76.78,76.8,76.67,1.5966,0,0]
["pCO2",36.800530000000002,-121.78757166699999,"2013-05-10T03:31:05Z","2013-05-10T02:31:27",547.66999999999996,20.009,86.757999999999996,541.4,20.074000000000002,103.05,2.0577000000000001,-2.3643000000000001,20.259,93.558999999999997,-1.8032999999999999,20.292000000000002,101.72,409.07,20.454999999999998,86.608999999999995,404.14,20.51,102.02,2.0118999999999998,0,0,0,0,0,76.709999999999994,76.81,76.81,76.819999999999993,76.8,76.75,1.5976999999999999,0,0]
["pCO2",36.802750000000003,-121.788346667,"2013-05-10T04:31:05Z","2013-05-10T03:31:27",548.52,19.966000000000001,86.945999999999998,542.1,20.042000000000002,103.08,2.0566,-2.3769,20.225999999999999,93.438000000000002,-1.8260000000000001,20.248000000000001,101.33,410.8,20.422999999999998,86.703999999999994,405.78,20.477,102.08,2.0099999999999998,0,0,0,0,0,76.78,76.91,76.930000000000007,76.849999999999994,76.900000000000006,76.84,1.5988,0,0]
["pCO2",36.801519999999996,-121.787908333,"2013-05-10T05:31:05Z","2013-05-10T04:31:27",548.59,19.943999999999999,87.188999999999993,542.14,20.009,103.15,2.0451000000000001,-2.3462999999999998,20.183,93.599000000000004,-1.7823,20.216000000000001,101.76,412.79,20.379000000000001,86.744,407.92,20.443999999999999,102.14,2.0091000000000001,0,0,0,0,0,76.930000000000007,76.95,76.91,77.010000000000005,76.760000000000005,76.91,1.5981000000000001,0,0]
["pCO2",36.818449999999999,-121.792828333,"2013-05-10T06:31:05Z","2013-05-10T05:31:27",548.36,19.879000000000001,87.081000000000003,541.91999999999996,19.954999999999998,103.16,2.0442,-2.2139000000000002,20.138999999999999,93.356999999999999,-1.7369000000000001,20.149999999999999,101.8,413.74,20.324000000000002,86.784999999999997,409.1,20.39,102.15,2.0011999999999999,0,0,0,0,0,76.900000000000006,76.989999999999995,76.94,76.88,76.94,76.92,1.5965,0,0]
["pCO2",36.812556667000003,-121.783318333,"2013-05-10T07:31:05Z","2013-05-10T06:31:27",548.19000000000005,19.835999999999999,87.093999999999994,541.84,19.901,103.23,2.0432999999999999,-1.9862,20.074000000000002,93.438000000000002,-1.6204000000000001,20.106999999999999,101.38,415.53,20.280999999999999,86.757999999999996,410.52,20.346,102.19,1.9987999999999999,0,0,0,0,0,76.900000000000006,76.92,76.88,76.89,76.790000000000006,76.760000000000005,1.5953999999999999,0,0]
["pCO2",36.755911666999999,-121.771018333,"2013-05-10T08:31:04Z","2013-05-10T07:31:28",548.47,19.815000000000001,87.296000000000006,541.91,19.879000000000001,103.24,2.0388999999999999,-2.1160000000000001,20.053000000000001,93.450999999999993,-1.6760999999999999,20.085000000000001,101.96,422.47,20.259,86.744,418.51,20.324000000000002,102.21,2.0015999999999998,0,0,0,0,0,76.819999999999993,76.900000000000006,76.84,76.72,76.73,76.680000000000007,1.5936999999999999,0,0]
["pCO2",36.755911666999999,-121.771018333,"2013-05-10T09:31:06Z","2013-05-10T08:31:28",549.16,19.792999999999999,87.108000000000004,542.65,19.869,103.22,2.0375000000000001,-2.2932000000000001,20.053000000000001,93.68,-1.5822000000000001,20.064,101.94,422.01,20.248000000000001,86.798000000000002,416.72,20.303000000000001,102.19,1.9970000000000001,0,0,0,0,0,76.77,76.73,76.900000000000006,76.83,76.760000000000005,76.790000000000006,1.5929,0,0]
["pCO2",36.802623333,-121.787718333,"2013-05-10T10:31:05Z","2013-05-10T09:31:27",549.35,19.792999999999999,87.04,542.70000000000005,19.847000000000001,103.16,2.0348999999999999,-2.1574,20.030999999999999,93.384,-1.6173,20.064,101.63,422.61,20.225999999999999,86.69,417.17,20.280999999999999,102.15,1.9968999999999999,0,0,0,0,0,76.73,76.650000000000006,76.87,76.75,76.739999999999995,76.739999999999995,1.5921000000000001,0,0]
["pCO2",36.802754999999998,-121.788051667,"2013-05-10T11:31:06Z","2013-05-10T10:31:27",549.23,19.760999999999999,86.986999999999995,542.64,19.824999999999999,103.18,2.0348999999999999,-2.1495000000000002,20.009,93.572000000000003,-1.7802,20.042000000000002,101.55,419.36,20.204999999999998,86.694999999999993,414.61,20.259,102.14,1.9970000000000001,0,0,0,0,0,76.78,76.88,76.89,76.66,76.849999999999994,76.84,1.5901000000000001,0,0]
["pCO2",36.802691666999998,-121.788018333,"2013-05-10T12:31:04Z","2013-05-10T11:31:28",550.17999999999995,19.75,86.837999999999994,543.65,19.824999999999999,103.11,2.0363000000000002,-2.3412999999999999,20.009,93.29,-1.6080000000000001,20.030999999999999,101.65,417.18,20.204999999999998,86.608999999999995,411.95,20.259,102.06,1.9966999999999999,0,0,0,0,0,76.8,76.900000000000006,76.67,76.790000000000006,76.849999999999994,76.819999999999993,1.5880000000000001,0,0]
["pCO2",36.802991667000001,-121.788465,"2013-05-10T13:31:05Z","2013-05-10T12:31:27",550.34,19.771999999999998,86.918999999999997,544.14,19.824999999999999,103.08,2.0430999999999999,-2.2551000000000001,20.009,93.343000000000004,-1.5640000000000001,20.042000000000002,101.49,418.42,20.204999999999998,86.569000000000003,413.47,20.27,102.06,2.0038,0,0,0,0,0,76.84,76.849999999999994,76.790000000000006,76.89,76.87,76.91,1.5866,0,0]
["pCO2",36.795838332999999,-121.84594333299999,"2013-05-10T18:30:54Z","2013-05-10T17:31:33",421.91,19.652999999999999,85.882000000000005,416.2,19.739000000000001,102.27,2.0002,-2.2867000000000002,19.943999999999999,92.926000000000002,-1.8001,19.977,100.8,420.79,20.183,86.852000000000004,415.48,20.259,102.28,1.9401999999999999,0,0,0,0,0,66.55,66.37,88.08,86.91,88.61,88.15,1.5602,0,0]
["pCO2",36.797525,-121.85374166699999,"2013-05-10T19:30:54Z","2013-05-10T18:31:16",276.41000000000003,16.690000000000001,86.658000000000001,270.38,16.742000000000001,103.03,1.9834000000000001,-7.2758000000000003E-2,16.855,92.495000000000005,5.6204999999999998E-2,16.876000000000001,100.61,417.61,16.978999999999999,86.603999999999999,411.22,17.010000000000002,102.31,1.9741,0,0,0,0,0,88.47,88.65,89.93,91.08,91.44,91.7,1.6493,0,0]
["pCO2",36.795565000000003,-121.865353333,"2013-05-10T20:30:54Z","2013-05-10T19:31:16",231.81,14.714,86.537000000000006,227.62,14.773999999999999,102.65,1.9529000000000001,0.42419000000000001,14.944000000000001,92.165000000000006,0.65652999999999995,14.974,100.57,409.85,15.125,86.497,403.46,15.176,102.28,1.9439,0,0,0,0,0,91.73,91.34,91.3,90.69,90.29,90.11,1.6204000000000001,0,0]
["pCO2",36.794224999999997,-121.87464166700001,"2013-05-10T21:30:54Z","2013-05-10T20:31:16",252.28,14.164999999999999,85.891000000000005,247.39,14.224,102.43,1.9404999999999999,0.60455999999999999,14.404,92.34,0.88441999999999998,14.433999999999999,100.93,409.59,14.593999999999999,86.361999999999995,403.87,14.644,102.25,1.9287000000000001,0,0,0,0,0,89.53,88.2,87.32,86.89,86.69,86.41,1.6079000000000001,0,0]
["pCO2",36.792998333,-121.882078333,"2013-05-10T22:30:55Z","2013-05-10T21:31:17",281.95,13.788,86.497,277.26,13.847,102.37,1.929,0.69742000000000004,14.026,92.716999999999999,0.89978999999999998,14.055,101.11,409.39,14.215,86.846999999999994,403.45,14.273999999999999,102.24,1.9177,0,0,0,0,0,86.77,85.66,85.39,85.08,84.5,84.1,1.6032,0,0]
["pCO2",36.792478332999998,-121.884751667,"2013-05-10T23:30:54Z","2013-05-10T22:31:16",310.64,13.55,85.984999999999999,304.47000000000003,13.609,102.26,1.9268000000000001,1.0059,13.788,92.744,1.1667000000000001,13.817,101.21,409.64,13.986000000000001,86.578000000000003,403.74,14.045999999999999,102.2,1.9258999999999999,0,0,0,0,0,83.64,83.48,82.78,81.69,80.83,80.52,1.6031,0,0]
["pCO2",36.790838333000004,-121.88705166699999,"2013-05-11T00:30:54Z","2013-05-10T23:31:16",361.29,13.353,85.930999999999997,355.98,13.422000000000001,102.33,1.9216,0.89932000000000001,13.609,92.233000000000004,1.0069999999999999,13.638999999999999,100.82,409.47,13.798,86.429000000000002,403.78,13.856999999999999,102.13,1.9244000000000001,0,0,0,0,0,80.569999999999993,79.61,78.73,78.11,78.13,77.930000000000007,1.5972,0,0]
["pCO2",36.789969999999997,-121.89178833299999,"2013-05-11T01:30:56Z","2013-05-11T00:31:16",416.14,13.175000000000001,85.864000000000004,409.27,13.234,102.25,1.925,1.0356000000000001,13.412000000000001,92.3,1.1408,13.441000000000001,101.16,409.6,13.609,86.322000000000003,403.39,13.669,102.08,1.9200999999999999,0,0,0,0,0,76.989999999999995,76.84,76.819999999999993,76.66,76.709999999999994,76.78,1.5955999999999999,0,0]
["pCO2",36.788503333000001,-121.90079666699999,"2013-05-11T02:30:54Z","2013-05-11T01:31:18",422.83,12.988,85.701999999999998,415.63,13.057,102.25,1.9158999999999999,1.1568000000000001,13.234,92.016999999999996,1.2661,13.263999999999999,100.35,409.72,13.432,86.51,403.01,13.491,102.09,1.9164000000000001,0,0,0,0,0,76.63,76.62,76.55,76.53,76.52,76.58,1.5961000000000001,0,0]
["pCO2",36.786524999999997,-121.914253333,"2013-05-11T03:30:55Z","2013-05-11T02:31:16",379.96,12.88,85.864000000000004,373.11,12.949,102.32,1.9175,1.1896,13.125999999999999,92.326999999999998,1.4274,13.146000000000001,100.78,408.93,13.323,86.725999999999999,402.75,13.391999999999999,102.13,1.9142999999999999,0,0,0,0,0,76.64,79.94,79.37,79.27,78.5,77.06,1.5951,0,0]
["pCO2",36.783256667000003,-121.934836667,"2013-05-11T04:30:54Z","2013-05-11T03:31:17",418.01,12.92,85.998999999999995,412.22,12.997999999999999,102.29,1.9119999999999999,1.0351999999999999,13.175000000000001,92.447999999999993,1.1698,13.205,101.03,408.75,13.372,86.739000000000004,402.75,13.432,102.17,1.9103000000000001,0,0,0,0,0,76.78,76.790000000000006,76.83,76.819999999999993,76.989999999999995,77.180000000000007,1.5913999999999999,0,0]
["pCO2",36.780254999999997,-121.95313166699999,"2013-05-11T05:30:56Z","2013-05-11T04:31:16",414.65,12.811999999999999,85.77,408.45,12.88,102.01,1.9129,1.0820000000000001,13.057,92.34,1.3895,13.087,100.65,409.05,13.254,86.739000000000004,403.27,13.313000000000001,102.18,1.9112,0,0,0,0,0,77.33,77.16,76.66,76.83,77.27,77.47,1.5881000000000001,0,0]
["pCO2",36.777756666999998,-121.969351667,"2013-05-11T06:30:55Z","2013-05-11T05:31:17",411.28,12.763,86.12,404.08,12.831,102.21,1.9100999999999999,1.1760999999999999,13.018000000000001,92.474999999999994,1.3552999999999999,13.047000000000001,100.53,411.22,13.215,86.712000000000003,405.3,13.273999999999999,102.2,1.9088000000000001,0,0,0,0,0,77.48,77.349999999999994,77.66,77.81,77.23,77.099999999999994,1.5843,0,0]
["pCO2",36.775323333000003,-121.985195,"2013-05-11T07:30:54Z","2013-05-11T06:31:16",420.38,12.811999999999999,86.147000000000006,413.37,12.88,102.39,1.9117999999999999,1.3581000000000001,13.057,92.313999999999993,1.5529999999999999,13.087,101.01,411.26,13.263999999999999,86.603999999999999,405.16,13.323,102.2,1.9134,0,0,0,0,0,76.92,77.040000000000006,77.23,77.28,77.64,77.78,1.5807,0,0]
["pCO2",36.772666667000003,-122.002585,"2013-05-11T08:30:55Z","2013-05-11T07:31:17",405.01,12.851000000000001,85.77,397.91,12.92,102.33,1.9229000000000001,1.1352,13.097,92.421000000000006,1.3586,13.125999999999999,100.96,410.65,13.303000000000001,86.402000000000001,404.75,13.363,102.22,1.9172,0,0,0,0,0,77.91,78.09,78.2,78.319999999999993,78.42,78.39,1.5801000000000001,0,0]
["pCO2",36.801253332999998,-122.003711667,"2013-05-11T09:30:55Z","2013-05-11T08:31:17",395.97,12.9,85.805000000000007,389.45,12.978999999999999,102.45,1.9202999999999999,1.2157,13.156000000000001,92.501999999999995,1.2283999999999999,13.185,101.23,414.18,13.363,86.415999999999997,407.84,13.412000000000001,102.2,1.9153,0,0,0,0,0,78.489999999999995,78.599999999999994,78.63,78.62,78.599999999999994,78.489999999999995,1.5789,0,0]
["pCO2",36.769931667000002,-122.019775,"2013-05-11T10:30:55Z","2013-05-11T09:31:16",403.88,12.93,86.039000000000001,396.62,12.997999999999999,102.25,1.9141999999999999,1.2655000000000001,13.175000000000001,92.515000000000001,1.1651,13.205,100.72,412.85,13.382,86.563999999999993,406.76,13.442,102.16,1.9129,0,0,0,0,0,78.180000000000007,78.16,78.37,78.48,78.400000000000006,78.5,1.5838000000000001,0,0]
["pCO2",36.767335000000003,-122.035761667,"2013-05-11T11:30:56Z","2013-05-11T10:31:16",402.87,12.92,85.298000000000002,395.28,12.988,101.78,1.9247000000000001,1.1045,13.175000000000001,92.070999999999998,1.3047,13.205,100.76,413.73,13.382,86.12,407.38,13.432,102.09,1.9156,0,0,0,0,0,78.44,78.27,78.27,78.02,77.98,78.02,1.5781000000000001,0,0]
["pCO2",36.765403333000002,-122.04849666699999,"2013-05-11T12:30:55Z","2013-05-11T11:31:17",403.85,12.92,85.594999999999999,396.76,12.978999999999999,102.29,1.9287000000000001,1.2452000000000001,13.156000000000001,92.031000000000006,1.3388,13.185,100.76,416.02,13.363,86.12,410.13,13.432,102.06,1.9208000000000001,0,0,0,0,0,78.08,78.12,78.12,78.08,77.900000000000006,77.819999999999993,1.5738000000000001,0,0]
["pCO2",36.763635000000001,-122.058595,"2013-05-11T13:30:54Z","2013-05-11T12:31:16",410.9,12.91,85.701999999999998,404,12.978999999999999,102.21,1.9220999999999999,1.1273,13.156000000000001,92.152000000000001,1.2503,13.185,100.73,415.96,13.363,86.268000000000001,409.47,13.422000000000001,102.02,1.9149,0,0,0,0,0,77.72,77.73,77.72,77.69,77.73,77.69,1.5720000000000001,0,0]
["pCO2",36.762418332999999,-122.06702333299999,"2013-05-11T14:30:55Z","2013-05-11T13:31:16",413.05,12.9,85.433000000000007,406.3,12.959,102.16,1.9285000000000001,1.2938000000000001,13.146000000000001,91.814999999999998,1.2982,13.166,100.28,416.51,13.343,86.093000000000004,410.41,13.412000000000001,102.06,1.9207000000000001,0,0,0,0,0,77.66,77.66,77.63,77.709999999999994,77.709999999999994,77.75,1.5716000000000001,0,0]
["pCO2",36.760914999999997,-122.076923333,"2013-05-11T15:30:54Z","2013-05-11T14:31:17",412.06,12.88,85.756,405.83,12.949,102.32,1.9206000000000001,1.1937,13.125999999999999,92.043999999999997,1.353,13.146000000000001,100.66,418.24,13.323,86.241,412.03,13.382,102.04,1.9152,0,0,0,0,0,77.709999999999994,77.73,77.67,77.599999999999994,77.48,77.52,1.5731999999999999,0,0]
["pCO2",36.759123332999998,-122.088216667,"2013-05-11T16:30:55Z","2013-05-11T15:31:16",417.69,12.851000000000001,85.540999999999997,411.44,12.92,102.29,1.9273,1.2103999999999999,13.097,92.138000000000005,1.3418000000000001,13.125999999999999,100.84,417.3,13.294,86.12,411.04,13.353,102.08,1.9178999999999999,103.13,406.44,13.58,102.06,1.7899,77.37,77.44,77.36,77.41,77.430000000000007,77.510000000000005,1.5759000000000001,0,0]
["pCO2",36.757966666999998,-122.096133333,"2013-05-11T17:30:55Z","2013-05-11T16:31:17",416.82,12.92,85.567999999999998,409.52,12.988,102.2,1.9206000000000001,1.3369,13.156000000000001,92.084999999999994,1.357,13.185,100.72,412.1,13.363,86.12,406.38,13.422000000000001,102.06,1.9201999999999999,0,0,0,0,0,77.55,77.66,77.739999999999995,77.56,77.62,77.61,1.5739000000000001,0,0]
["pCO2",36.756696667,-122.10336,"2013-05-11T18:30:55Z","2013-05-11T17:31:16",417.11,12.871,86.322000000000003,409.73,12.939,102.3,1.9098999999999999,1.2081,13.116,92.462000000000003,1.4923999999999999,13.146000000000001,100.96,410.96,13.313000000000001,86.537000000000006,404.89,13.372,102.08,1.9131,0,0,0,0,0,77.61,77.64,77.72,77.680000000000007,77.75,77.66,1.5725,0,0]
["pCO2",36.756419999999999,-122.105858333,"2013-05-11T19:30:55Z","2013-05-11T18:31:16",416.07,12.840999999999999,86.147000000000006,409.58,12.91,102.33,1.9114,1.2173,13.097,92.447999999999993,1.3113999999999999,13.125999999999999,100.7,410.43,13.284000000000001,86.497,404.57,13.353,102.09,1.9129,0,0,0,0,0,77.62,77.81,77.53,77.38,77.28,77.22,1.5754999999999999,0,0]
["pCO2",36.755813332999999,-122.109363333,"2013-05-11T20:30:54Z","2013-05-11T19:31:16",424.98,12.821999999999999,86.132999999999996,418.86,12.89,102.3,1.9094,1.1709000000000001,13.077,92.462000000000003,1.2770999999999999,13.106,100.78,410.43,13.273999999999999,86.617999999999995,404.25,13.333,102.09,1.9129,0,0,0,0,0,77.12,77.069999999999993,77.150000000000006,77.03,76.97,77.209999999999994,1.5761000000000001,0,0]
["pCO2",36.754644999999996,-122.116458333,"2013-05-11T21:30:56Z","2013-05-11T20:31:16",421.82,12.821999999999999,85.728999999999999,414.86,12.89,102.33,1.927,1.1173999999999999,13.077,92.447999999999993,1.3433999999999999,13.106,101.19,410.6,13.273999999999999,86.147000000000006,404.41,13.333,102.09,1.9275,0,0,0,0,0,77.31,77.34,77.37,77.14,76.86,76.77,1.5760000000000001,0,0]
["pCO2",36.753418332999999,-122.12482166700001,"2013-05-11T22:30:56Z","2013-05-11T21:31:16",439.74,12.763,85.320999999999998,432.2,12.831,101.74,1.9291,1.2316,13.018000000000001,92.016999999999996,1.3935999999999999,13.047000000000001,100.82,410.72,13.205,86.105999999999995,403.8,13.273999999999999,102.08,1.93,0,0,0,0,0,76.52,76.209999999999994,76.23,76.25,76.31,76.22,1.5752999999999999,0,0]
["pCO2",36.752113332999997,-122.133018333,"2013-05-11T23:30:55Z","2013-05-11T22:31:17",445.16,12.673999999999999,85.406000000000006,437.54,12.743,102.1,1.9363999999999999,1.2517,12.92,91.936999999999998,1.5298,12.949,100.76,410.3,13.125999999999999,85.984999999999999,404.4,13.175000000000001,102.04,1.9326000000000001,0,0,0,0,0,76.180000000000007,75.91,75.67,75.61,75.42,75.150000000000006,1.5744,0,0]
["pCO2",36.751064999999997,-122.14021,"2013-05-12T00:30:51Z","2013-05-11T23:31:16",457.66,12.616,85.513999999999996,449.76,12.675000000000001,101.74,1.9231,1.3072999999999999,12.861000000000001,91.923000000000002,1.4709000000000001,12.89,100.65,410.82,13.057,86.078999999999994,404.49,13.116,102.02,1.9266000000000001,0,0,0,0,0,75.17,75.510000000000005,75.78,75.91,76.12,76.23,1.5757000000000001,0,0]
["pCO2",36.749569999999999,-122.14915000000001,"2013-05-12T01:30:51Z","2013-05-12T00:31:16",447.79,12.577,85.783000000000001,440.69,12.645,102.37,1.9287000000000001,1.4503999999999999,12.821999999999999,92.61,1.5982000000000001,12.851000000000001,101.24,410.99,13.028,86.078999999999994,404.85,13.087,102.01,1.9268000000000001,0,0,0,0,0,76.03,75.8,75.86,75.52,75.53,75.53,1.5742,0,0]
["pCO2",36.747321667000001,-122.163573333,"2013-05-12T02:30:53Z","2013-05-12T01:31:16",452.19,12.537000000000001,85.203999999999994,445.25,12.606,101.86,1.9268000000000001,1.4437,12.782,91.841999999999999,1.4683999999999999,12.811999999999999,100.35,411.14,12.989000000000001,86.052000000000007,404.59,13.047000000000001,101.97,1.9249000000000001,0,0,0,0,0,75.540000000000006,75.819999999999993,76.13,76.25,76.06,75.95,1.5732999999999999,0,0]
["pCO2",36.744484999999997,-122.181145,"2013-05-12T03:30:51Z","2013-05-12T02:31:18",450.14,12.489000000000001,85.186000000000007,443.79,12.557,101.89,1.9280999999999999,1.2574000000000001,12.733000000000001,91.962999999999994,1.6029,12.773,100.63,410.78,12.93,85.984999999999999,404.91,12.997999999999999,102.01,1.9251,0,0,0,0,0,75.83,75.790000000000006,75.83,75.78,75.349999999999994,75.02,1.5713999999999999,0,0]
["pCO2",36.741873333000001,-122.198285,"2013-05-12T04:30:52Z","2013-05-12T03:31:16",467.7,12.459,85.783000000000001,460.63,12.528,102.41,1.9239999999999999,1.3953,12.704000000000001,92.462000000000003,1.6734,12.733000000000001,101.16,410.77,12.9,86.132999999999996,404.9,12.968999999999999,102.02,1.9208000000000001,0,0,0,0,0,74.91,74.739999999999995,74.83,74.709999999999994,75.16,75.31,1.5741000000000001,0,0]
["pCO2",36.738644999999998,-122.218783333,"2013-05-12T05:30:52Z","2013-05-12T04:31:16",461.77,12.41,85.352000000000004,454.01,12.478999999999999,101.71,1.9220999999999999,1.3211999999999999,12.664999999999999,92.058000000000007,1.5478000000000001,12.694000000000001,100.89,411.34,12.861000000000001,86.105999999999995,405.08,12.92,102.12,1.9213,0,0,0,0,0,75.44,75.2,75.31,75.38,75.31,75.599999999999994,1.5734999999999999,0,0]
["pCO2",36.735438332999998,-122.23961166700001,"2013-05-12T06:30:51Z","2013-05-12T05:31:16",456.24,12.43,85.203999999999994,448.52,12.497999999999999,100.92,1.9267000000000001,1.3310999999999999,12.683999999999999,91.397999999999996,1.5217000000000001,12.704000000000001,100.15,410.8,12.881,86.105999999999995,405.05,12.939,102.14,1.9221999999999999,0,0,0,0,0,75.58,75.56,75.08,75.13,75.260000000000005,75.319999999999993,1.5714999999999999,0,0]
["pCO2",36.731659999999998,-122.26356,"2013-05-12T07:30:52Z","2013-05-12T06:31:16",459.55,12.459,85.540999999999997,451.88,12.528,102.2,1.9259999999999999,1.4386000000000001,12.714,91.585999999999999,1.5812999999999999,12.743,100.54,412.17,12.91,86.078999999999994,406.18,12.978999999999999,102.14,1.9229000000000001,0,0,0,0,0,75.28,75.37,75.430000000000007,75.5,75.53,75.5,1.5726,0,0]
["pCO2",36.727958332999997,-122.28707,"2013-05-12T08:30:52Z","2013-05-12T07:31:16",457.22,12.489000000000001,85.662000000000006,449.22,12.557,102.08,1.9221999999999999,1.2806999999999999,12.733000000000001,92.004000000000005,1.5767,12.773,100.93,412.91,12.93,86.105999999999995,406.56,12.997999999999999,102.14,1.923,0,0,0,0,0,75.510000000000005,75.53,75.5,75.540000000000006,75.2,75.069999999999993,1.5768,0,0]
["pCO2",36.724685000000001,-122.30755499999999,"2013-05-12T09:30:52Z","2013-05-12T08:31:17",457.66,12.41,85.671000000000006,450.9,12.489000000000001,102.26,1.9231,1.2569999999999999,12.664999999999999,91.99,1.5268999999999999,12.694000000000001,100.9,412.84,12.861000000000001,86.012,406.29,12.92,102.1,1.9260999999999999,0,0,0,0,0,75.16,75.39,75.62,75.400000000000006,74.72,74.89,1.5767]
["pCO2",36.721703333000001,-122.326543333,"2013-05-12T10:30:53Z","2013-05-12T09:31:17",457.44,12.313000000000001,85.998999999999995,450.11,12.381,102.17,1.9092,1.2670999999999999,12.567,92.272999999999996,1.4134,12.596,101.13,412.14,12.763,86.429000000000002,405.83,12.821999999999999,102.08,1.9159999999999999,0,0,0,0,0,75.12,75.47,75.540000000000006,75.739999999999995,75.89,75.989999999999995,1.5752999999999999,0,0]
["pCO2",36.718451666999997,-122.347321667,"2013-05-12T11:30:52Z","2013-05-12T10:31:17",447.27,12.313000000000001,86.066000000000003,439.4,12.381,102.68,1.9224000000000001,1.4298,12.567,92.326999999999998,1.3645,12.596,101.08,412.61,12.773,86.12,406.25,12.821999999999999,102.09,1.9216,0,0,0,0,0,76.010000000000005,75.86,75.61,75.73,75.540000000000006,75.540000000000006,1.5723,0,0]
["pCO2",36.711931667000002,-122.360791667,"2013-05-12T12:30:52Z","2013-05-12T11:31:16",461.32,12.332000000000001,86.12,454.22,12.401,102.01,1.9081999999999999,1.4946999999999999,12.586,92.596000000000004,1.4890000000000001,12.616,100.81,412.09,12.782,86.483000000000004,406.05,12.840999999999999,102.08,1.9118999999999999,0,0,0,0,0,75.400000000000006,75.27,75.33,75.489999999999995,75.680000000000007,75.78,1.5729,0,0]
["pCO2",36.703891667000001,-122.37002333300001,"2013-05-12T13:30:51Z","2013-05-12T12:31:16",447.53,12.371,86.066000000000003,440.57,12.44,102.56,1.9182999999999999,1.2954000000000001,12.625999999999999,92.866,1.6278999999999999,12.654999999999999,101.46,411.92,12.821999999999999,86.47,405.75,12.881,102.09,1.9151,0,0,0,0,0,75.930000000000007,76.010000000000005,76.099999999999994,76.180000000000007,76.22,76.22,1.5703,0,0]
["pCO2",36.698968333000003,-122.375675,"2013-05-12T14:30:51Z","2013-05-12T13:31:17",445.77,12.459,86.200999999999993,438.15,12.528,102.17,1.9119999999999999,1.3769,12.724,92.555999999999997,1.4755,12.733000000000001,101.21,411.69,12.91,86.563999999999993,405.79,12.978999999999999,102.13,1.9121999999999999,0,0,0,0,0,76.12,76.099999999999994,76.09,76.13,76.150000000000006,76.290000000000006,1.5692999999999999,0,0]
["pCO2",36.698761666999999,-122.37815000000001,"2013-05-12T15:30:52Z","2013-05-12T14:31:16",439.66,12.518000000000001,86.213999999999999,433.17,12.586,102.87,1.9238,1.3037000000000001,12.773,92.489000000000004,1.5264,12.792,101.24,411.95,12.968999999999999,86.132999999999996,405.33,13.038,102.17,1.9263999999999999,103.25,406.21,13.263999999999999,102.17,1.794,76.510000000000005,76.59,76.709999999999994,76.790000000000006,77.010000000000005,77.19,1.5702,0,0]
["pCO2",36.714236667000002,-122.358413333,"2013-05-12T16:30:52Z","2013-05-12T15:31:16",428.96,12.723000000000001,85.876999999999995,421.23,12.792,102.51,1.9285000000000001,1.1585000000000001,12.978999999999999,92.313999999999993,1.4751000000000001,13.007999999999999,101.09,412.79,13.175000000000001,86.105999999999995,405.8,13.234,102.17,1.9320999999999999,0,0,0,0,0,77.33,77.099999999999994,76.959999999999994,76.849999999999994,76.819999999999993,76.77,1.5708,0,0]
["pCO2",36.721218333000003,-122.330415,"2013-05-12T17:30:52Z","2013-05-12T16:31:16",439.71,12.704000000000001,85.81,432.67,12.763,102.25,1.9308000000000001,1.1901999999999999,12.939,92.097999999999999,1.4545999999999999,12.978999999999999,100.9,412.65,13.146000000000001,86.12,406.5,13.205,102.2,1.9348000000000001,0,0,0,0,0,76.540000000000006,76.489999999999995,76.400000000000006,76.45,76.510000000000005,76.52,1.5720000000000001,0,0]
["pCO2",36.726016667000003,-122.29897833299999,"2013-05-12T18:30:52Z","2013-05-12T17:31:16",435,12.664999999999999,85.218000000000004,428.11,12.733000000000001,101.12,1.9248000000000001,1.2897000000000001,12.92,91.91,1.3109,12.949,100.77,412.88,13.116,86.12,406.24,13.175000000000001,102.2,1.9359999999999999,0,0,0,0,0,76.78,76.84,76.89,76.959999999999994,76.83,76.91,1.5689,0,0]
["pCO2",36.730351667000001,-122.272058333,"2013-05-12T19:30:51Z","2013-05-12T18:31:17",434.84,12.664999999999999,85.218000000000004,427.9,12.733000000000001,101.2,1.9224000000000001,1.1744000000000001,12.92,92.058000000000007,1.383,12.939,100.62,412.67,13.106999999999999,86.16,405.99,13.175000000000001,102.17,1.9351,0,0,0,0,0,76.87,76.78,76.69,76.569999999999993,76.36,76.55,1.5704,0,0]
["pCO2",36.733508333000003,-122.25201333299999,"2013-05-12T20:30:53Z","2013-05-12T19:31:16",432.85,12.616,85.742999999999995,425.69,12.683999999999999,101.85,1.9146000000000001,1.3214999999999999,12.871,92.542000000000002,1.4703999999999999,12.89,101.39,412.08,13.067,86.497,406.24,13.125999999999999,102.13,1.9260999999999999,0,0,0,0,0,76.8,76.819999999999993,76.760000000000005,76.790000000000006,76.709999999999994,76.510000000000005,1.5667,0,0]
["pCO2",36.736486667000001,-122.23285666699999,"2013-05-12T21:30:51Z","2013-05-12T20:31:17",440.69,12.596,85.325000000000003,434.51,12.664999999999999,101.56,1.9255,1.1989000000000001,12.840999999999999,92.070999999999998,1.4068000000000001,12.871,100.82,412.23,13.038,86.147000000000006,405.62,13.097,102.1,1.9329000000000001,0,0,0,0,0,76.61,76.44,75.900000000000006,75.959999999999994,75.64,75.27,1.5680000000000001,0,0]
["pCO2",36.738900000000001,-122.21665166699999,"2013-05-12T22:30:52Z","2013-05-12T21:31:16",466.32,12.547000000000001,85.069000000000003,461.43,12.625999999999999,101.59,1.9246000000000001,1.2811999999999999,12.802,91.667000000000002,1.5190999999999999,12.831,100.63,411.94,12.997999999999999,85.998999999999995,405.68,13.057,102.05,1.9365000000000001,0,0,0,0,0,74.98,75.12,75.02,75.41,75.11,75.42,1.5680000000000001,0,0]
["pCO2",36.741034999999997,-122.20295,"2013-05-12T23:30:52Z","2013-05-12T22:31:16",462.3,12.577,85.352000000000004,453.73,12.645,100.93,1.9196,1.1436999999999999,12.821999999999999,91.546000000000006,1.3963000000000001,12.851000000000001,100.22,412.01,13.028,86.308000000000007,405.65,13.087,101.95,1.9257,0,0,0,0,0,75.53,75.63,75.59,75.66,75.67,75.709999999999994,1.5641,0,0]
["pCO2",36.743045000000002,-122.19153666699999,"2013-05-13T00:30:56Z","2013-05-12T23:31:16",461.95,12.616,84.76,452.88,12.683999999999999,101.05,1.9258999999999999,1.3782000000000001,12.861000000000001,91.585999999999999,1.5559000000000001,12.89,100.63,412.17,13.067,85.876999999999995,405.78,13.116,101.91,1.9362999999999999,0,0,0,0,0,75.709999999999994,75.61,75.59,75.489999999999995,75.37,75.260000000000005,1.5648,0,0]
["pCO2",36.744996667000002,-122.178748333,"2013-05-13T01:30:57Z","2013-05-13T00:31:16",473.08,12.596,84.745999999999995,462.63,12.664999999999999,100.8,1.9215,1.2361,12.840999999999999,91.707999999999998,1.5085,12.871,100.51,412.13,13.038,85.864000000000004,406.12,13.097,101.86,1.9329000000000001,0,0,0,0,0,75.12,74.94,74.86,74.77,74.7,74.7,1.5650999999999999,0,0]
["pCO2",36.747304999999997,-122.163916667,"2013-05-13T02:30:56Z","2013-05-13T01:31:16",478.71,12.497999999999999,84.718999999999994,472.22,12.567,101.09,1.9219999999999999,1.1601999999999999,12.743,91.760999999999996,1.4675,12.773,100.31,411.81,12.939,85.876999999999995,405.9,12.997999999999999,101.78,1.9307000000000001,0,0,0,0,0,74.59,74.39,74.31,74.08,74.099999999999994,74.12,1.5667,0,0]
["pCO2",36.749711667,-122.14815666699999,"2013-05-13T03:30:57Z","2013-05-13T02:31:16",483.48,12.371,84.772999999999996,475.66,12.449,100.45,1.9047000000000001,1.3843000000000001,12.625999999999999,91.91,1.3832,12.654999999999999,100.18,412.21,12.821999999999999,86.295000000000002,406.02,12.881,101.77,1.9197,0,0,0,0,0,74.19,74.319999999999993,74.38,74.22,74.36,74.14,1.5631999999999999,0,0]
["pCO2",36.752473332999998,-122.13090333300001,"2013-05-13T04:30:57Z","2013-05-13T03:31:17",494.94,12.273999999999999,84.76,487.53,12.352,100.49,1.9077,1.4394,12.528,91.533000000000001,1.6192,12.557,100.02,411.93,12.724,86.281000000000006,406.1,12.782,101.85,1.9175,0,0,0,0,0,73.819999999999993,73.66,73.599999999999994,73.569999999999993,73.540000000000006,73.41,1.5646,0,0]
["pCO2",36.755310000000001,-122.112851667,"2013-05-13T05:30:56Z","2013-05-13T04:31:17",500.47,12.157,84.262,492.19,12.234999999999999,100.42,1.9120999999999999,1.4319999999999999,12.41,91.95,1.5368999999999999,12.44,100.47,412.45,12.616,86.388999999999996,406.41,12.664999999999999,101.87,1.9131,0,0,0,0,0,73.489999999999995,73.53,73.88,74.02,74.05,75,1.5649999999999999,0,0]
["pCO2",36.758033333,-122.094903333,"2013-05-13T06:30:57Z","2013-05-13T05:31:16",435.82,12.157,84.808999999999997,427.48,12.225,100.53,1.9029,1.3039000000000001,12.41,91.465000000000003,1.5780000000000001,12.44,99.935000000000002,411.76,12.616,86.308000000000007,406.04,12.664999999999999,101.9,1.9169,0,0,0,0,0,76.040000000000006,77.05,77.69,77.92,78.47,78.760000000000005,1.5649,0,0]
["pCO2",36.760635000000001,-122.078268333,"2013-05-13T07:30:57Z","2013-05-13T06:31:16",402.32,12.352,84.921000000000006,394.27,12.42,100.82,1.9131,1.3334999999999999,12.606,91.748000000000005,1.4271,12.635,100.46,412.17,12.811999999999999,86.281000000000006,406,12.881,101.89,1.9189000000000001,0,0,0,0,0,78.89,78.75,79.150000000000006,79.62,79.849999999999994,80.150000000000006,1.5599000000000001,0,0]
["pCO2",36.763084999999997,-122.063186667,"2013-05-13T08:30:55Z","2013-05-13T07:31:18",368.2,12.478999999999999,85.082999999999998,363.05,12.547000000000001,100.73,1.9103000000000001,1.3663000000000001,12.733000000000001,91.787999999999997,1.4502999999999999,12.753,100.34,412.92,12.93,86.295000000000002,406,12.997999999999999,101.89,1.9201999999999999,0,0,0,0,0,80.11,81.86,82.82,83.01,82.93,83.63,1.5628,0,0]
["pCO2",36.765823333,-122.04568500000001,"2013-05-13T09:30:56Z","2013-05-13T08:31:16",328.91,12.733000000000001,85.016000000000005,324.11,12.811999999999999,101.19,1.9204000000000001,1.1666000000000001,12.997999999999999,91.841999999999999,1.4049,13.028,100.19,411.69,13.205,86.213999999999999,405.62,13.263999999999999,101.86,1.9241999999999999,0,0,0,0,0,83.59,83.66,83.76,82.37,82.32,83.04,1.5608,0,0]
["pCO2",36.769058332999997,-122.02468,"2013-05-13T10:30:55Z","2013-05-13T09:31:16",351.92,13.028,84.234999999999999,346.83,13.097,99.988,1.9267000000000001,0.88915,13.273999999999999,91.370999999999995,1.2989999999999999,13.303000000000001,100.2,411.71,13.481,86.186999999999998,405.96,13.55,101.85,1.9275,0,0,0,0,0,82.74,81.52,80.31,79.55,78.400000000000006,77.83,1.5603,0,0]
["pCO2",36.772723333000002,-122.001691667,"2013-05-13T11:30:57Z","2013-05-13T10:31:16",432.3,13.087,84.718999999999994,425.45,13.156000000000001,100.65,1.9326000000000001,1.0581,13.333,91.358000000000004,1.2951999999999999,13.363,100.34,411.75,13.53,86.147000000000006,405.91,13.59,101.83,1.9306000000000001,0,0,0,0,0,77.349999999999994,76.92,76.900000000000006,76.83,76.78,76.75,1.5623,0,0]
["pCO2",36.776646667000001,-121.976651667,"2013-05-13T12:30:56Z","2013-05-13T11:31:16",434.44,12.988,84.257000000000005,425.48,13.057,100.27,1.9347000000000001,1.1416999999999999,13.234,90.858999999999995,1.2632000000000001,13.263999999999999,100.02,412.67,13.442,86.186999999999998,406.58,13.500999999999999,101.82,1.9308000000000001,0,0,0,0,0,76.88,77.14,77.400000000000006,77.75,77.849999999999994,77.709999999999994,1.5626,0,0]
["pCO2",36.779969999999999,-121.95495333300001,"2013-05-13T13:30:56Z","2013-05-13T12:31:16",440.03,12.997999999999999,84.275000000000006,432.86,13.067,100.19,1.9249000000000001,1.1428,13.244,90.953999999999994,1.2712000000000001,13.263999999999999,99.894000000000005,420.94,13.442,86.186999999999998,414.61,13.510999999999999,101.85,1.9252,0,0,0,0,0,77.34,76.58,76.569999999999993,76.7,76.94,76.97,1.5618000000000001,0,0]
["pCO2",36.783041666999999,-121.93532500000001,"2013-05-13T14:30:56Z","2013-05-13T13:31:16",438.87,12.89,84.813999999999993,431.68,12.959,100.7,1.9220999999999999,1.1101000000000001,13.135999999999999,91.438000000000002,1.2162999999999999,13.166,100.24,417.91,13.343,86.281000000000006,411.54,13.391999999999999,101.94,1.9269000000000001,103.04,405.87,13.619,101.94,1.7944,76.83,76.7,76.78,76.790000000000006,77.13,79.16,1.5622,0,0]
["pCO2",36.785798333000002,-121.917938333,"2013-05-13T15:30:56Z","2013-05-13T14:31:17",408.95,13.007999999999999,84.221000000000004,401.79,13.077,100.1,1.92,1.1222000000000001,13.254,91.075000000000003,1.1208,13.284000000000001,99.8,420.2,13.461,86.174000000000007,413.65,13.521000000000001,101.97,1.9289000000000001,0,0,0,0,0,79.08,78.81,78.680000000000007,78.47,79.430000000000007,79.489999999999995,1.5589,0,0]
["pCO2",36.788408333,-121.90076000000001,"2013-05-13T16:30:57Z","2013-05-13T15:31:16",395.76,13.116,84.867999999999995,389.43,13.185,101,1.9311,1.1009,13.372,91.734999999999999,1.1301000000000001,13.401999999999999,100.51,416.14,13.58,86.254000000000005,409.66,13.638999999999999,102.04,1.9334,0,0,0,0,0,79.23,79.400000000000006,80.040000000000006,80.55,80.78,80.84,1.5588,0,0]
["pCO2",36.790961666999998,-121.88484,"2013-05-13T17:30:56Z","2013-05-13T16:31:16",367.52,13.263999999999999,85.218000000000004,360.83,13.333,101.98,1.9404999999999999,0.85958000000000001,13.53,92.043999999999997,0.98087999999999997,13.54,100.85,420.56,13.728,86.227000000000004,413.88,13.788,102.06,1.9419999999999999,0,0,0,0,0,80.77,81.66,82.78,83.59,83.3,82.94,1.5557000000000001,0,0]
["pCO2",36.789373333,-121.87479500000001,"2013-05-13T18:30:57Z","2013-05-13T17:31:16",328.84,13.57,85.245000000000005,322.5,13.638999999999999,102.45,1.9574,0.80884999999999996,13.827,92.542000000000002,0.83955999999999997,13.856999999999999,101.64,421.8,14.036,86.174000000000007,415.19,14.095000000000001,102.06,1.9512,0,0,0,0,0,82.89,84.15,82.41,83.82,84.55,84.56,1.5513999999999999,0,0]
["pCO2",36.792985000000002,-121.861598333,"2013-05-13T19:30:57Z","2013-05-13T18:31:16",288.12,13.768000000000001,85.311999999999998,283.56,13.847,102.4,1.9574,0.61492999999999998,14.026,92.730999999999995,0.83872000000000002,14.055,101.81,411.77,14.225,86.295000000000002,405.66,14.294,102.04,1.9528000000000001,0,0,0,0,0,86.24,86.88,87.25,87.78,90,90.75,1.5568,0,0]
["pCO2",36.796858333000003,-121.847276667,"2013-05-13T20:30:56Z","2013-05-13T19:31:17",239.8,14.016,85.15,235.41,14.085000000000001,102.14,1.9643999999999999,0.63185999999999998,14.263999999999999,92.408000000000001,0.58831,14.304,100.98,411.47,14.484,86.147000000000006,405.69,14.534000000000001,101.97,1.9591000000000001,0,0,0,0,0,91.11,91.05,90.95,90.95,90.87,92.03,1.5545,0,0]
["pCO2",36.797386666999998,-121.854966667,"2013-05-13T21:30:56Z","2013-05-13T20:31:16",215.36,14.164999999999999,85.164000000000001,210.69,14.224,102.29,1.9706999999999999,0.58642000000000005,14.423999999999999,92.542000000000002,0.57796999999999998,14.444000000000001,101.63,411.73,14.624000000000001,86.174000000000007,405.51,14.683999999999999,101.9,1.9614,0,0,0,0,0,92.93,93.46,93.37,92.83,90.78,87.87,1.5565,0,0]
["pCO2",36.794714999999997,-121.871146667,"2013-05-13T22:30:56Z","2013-05-13T21:31:16",294.68,14.215,84.341999999999999,290.17,14.284000000000001,101.27,1.9702999999999999,0.59094999999999998,14.444000000000001,91.680999999999997,0.95886000000000005,14.474,100.55,411.42,14.644,86.066000000000003,405.36,14.704000000000001,101.82,1.9578,0,0,0,0,0,86.64,85.73,82.65,82.46,81.790000000000006,81.069999999999993,1.5565,0,0]
["pCO2",36.792005000000003,-121.887985,"2013-05-13T23:30:56Z","2013-05-13T22:31:17",302.62,13.807,84.153999999999996,297.97000000000003,13.867000000000001,101.16,1.9619,0.57721999999999996,14.045,91.451999999999998,0.67362999999999995,14.074999999999999,100.55,411.91,14.244,85.864000000000004,405.02,14.304,101.74,1.9592000000000001,0,0,0,0,0,83.22,85.46,85.31,84.87,84.39,83.58,1.5612999999999999,0,0]
["pCO2",36.789619999999999,-121.903013333,"2013-05-14T00:30:57Z","2013-05-13T23:31:16",376.02,13.698,83.870999999999995,368.84,13.768000000000001,100.49,1.9515,0.67393000000000003,13.946,91.558999999999997,1.1160000000000001,13.976000000000001,100.12,412.02,14.135,85.944999999999993,405.71,14.195,101.66,1.9524999999999999,0,0,0,0,0,81.849999999999994,80.3,79.760000000000005,80.03,79.41,79.569999999999993,1.5570999999999999,0,0]
["pCO2",36.787738333,-121.914743333,"2013-05-14T01:30:56Z","2013-05-14T00:31:17",389.32,13.451000000000001,84.355999999999995,383.99,13.52,101.08,1.9437,0.97216000000000002,13.708,91.707999999999998,1.0794999999999999,13.728,100.63,412.2,13.897,85.85,406.28,13.956,101.59,1.9462999999999999,0,0,0,0,0,79.72,79.53,79.87,80.19,80.2,80.08,1.5572999999999999,0,0]
["pCO2",36.785910000000001,-121.926211667,"2013-05-14T02:30:57Z","2013-05-14T01:31:16",387.78,13.343,83.965000000000003,380.75,13.412000000000001,100.69,1.9497,0.89559999999999995,13.59,91.438000000000002,1.0102,13.619,100.58,413.08,13.788,85.647999999999996,406.15,13.847,101.58,1.9483999999999999,0,0,0,0,0,79.81,79.64,79.72,79.739999999999995,80.08,80.03,1.5556000000000001,0,0]
["pCO2",36.783443333000001,-121.94136,"2013-05-14T03:30:57Z","2013-05-14T02:31:16",383.31,13.273999999999999,84.207999999999998,376.86,13.333,100.66,1.9433,1.0275000000000001,13.510999999999999,91.129000000000005,1.0381,13.54,99.718999999999994,412.54,13.718,85.930999999999997,406.51,13.778,101.62,1.9388000000000001,0,0,0,0,0,79.91,79.900000000000006,79.959999999999994,79.900000000000006,80.03,80.150000000000006,1.5528999999999999,0,0]
["pCO2",36.780458332999999,-121.9605,"2013-05-14T04:30:56Z","2013-05-14T03:31:18",375.23,13.175000000000001,83.912000000000006,368.48,13.234,100.35,1.9398,0.97224999999999995,13.412000000000001,90.953999999999994,1.206,13.441000000000001,99.733000000000004,413.86,13.619,85.796999999999997,407.65,13.679,101.66,1.9402999999999999,0,0,0,0,0,80.23,80.290000000000006,80.239999999999995,80.22,80.11,80.08,1.5522,0,0]
["pCO2",36.776931666999999,-121.982528333,"2013-05-14T05:30:57Z","2013-05-14T04:31:16",373.96,13.077,83.992000000000004,368.48,13.146000000000001,101.29,1.9489000000000001,1.1069,13.333,91.384,1.1911,13.353,100.46,412.86,13.521000000000001,85.837000000000003,406.65,13.58,101.71,1.9403999999999999,0,0,0,0,0,80.05,80.930000000000007,81.569999999999993,82.14,82.03,82.77,1.5523,0,0]
["pCO2",36.773580000000003,-122.00366333300001,"2013-05-14T06:30:57Z","2013-05-14T05:31:16",343.59,13.047000000000001,84.194000000000003,337.13,13.116,101.32,1.9509000000000001,0.99177000000000004,13.294,91.613,1.0975999999999999,13.323,100.18,413.42,13.491,85.957999999999998,406.61,13.55,101.71,1.9356,0,0,0,0,0,82.73,82.22,81.790000000000006,81.75,81.86,81.95,1.5508,0,0]
["pCO2",36.769753332999997,-122.026478333,"2013-05-14T07:30:56Z","2013-05-14T06:31:17",354.27,12.93,85.230999999999995,347.8,12.997999999999999,102.22,1.9352,1.0858000000000001,13.175000000000001,92.043999999999997,1.2089000000000001,13.205,101.05,414.23,13.382,85.944999999999993,407.68,13.442,101.7,1.9339,0,0,0,0,0,81.790000000000006,81.430000000000007,81.44,80.86,80.36,80.19,1.5501,0,0]
["pCO2",36.765933333,-122.05099666700001,"2013-05-14T08:30:56Z","2013-05-14T07:31:16",401.56,12.782,84.822999999999993,393.97,12.861000000000001,101.73,1.9208000000000001,1.0896999999999999,13.038,92.206000000000003,1.3341000000000001,13.057,101.17,413.89,13.225,85.971999999999994,407.32,13.284000000000001,101.71,1.9283999999999999,0,0,0,0,0,79.3,78.36,77,77.16,77.63,78.08,1.5515000000000001,0,0]
["pCO2",36.762456667000002,-122.072165,"2013-05-14T09:30:56Z","2013-05-14T08:31:16",404.7,12.497999999999999,85.082999999999998,396.99,12.557,102.04,1.9260999999999999,1.3375999999999999,12.743,92.367000000000004,1.2948,12.773,100.93,413.87,12.939,86.012,407.43,12.997999999999999,101.7,1.9242999999999999,0,0,0,0,0,77.95,78.349999999999994,78.56,78.69,78.62,78.930000000000007,1.552,0,0]
["pCO2",36.759684999999998,-122.089845,"2013-05-14T10:30:57Z","2013-05-14T09:31:16",399.59,12.391,84.516999999999996,392.22,12.449,101.44,1.9146000000000001,1.0570999999999999,12.645,92.058000000000007,1.4493,12.664999999999999,101.27,413.53,12.840999999999999,85.957999999999998,407.36,12.9,101.67,1.9178999999999999,0,0,0,0,0,78.900000000000006,78.78,78.36,78.39,77.89,77.8,1.5470999999999999,0,0]
["pCO2",36.756999999999998,-122.106771667,"2013-05-14T11:30:56Z","2013-05-14T10:31:16",428.83,12.391,84.570999999999998,419.58,12.459,101.44,1.9152,1.2295,12.645,91.707999999999998,1.4320999999999999,12.675000000000001,100.94,413.6,12.831,85.876999999999995,407,12.9,101.67,1.9239999999999999,0,0,0,0,0,77.3,76.92,76.81,76.17,75.86,73.58,1.5457000000000001,0,0]
["pCO2",36.754429999999999,-122.122866667,"2013-05-14T12:30:57Z","2013-05-14T11:31:16",497.44,12.254,84.808999999999997,489.83,12.321999999999999,101.7,1.9267000000000001,1.5416000000000001,12.507999999999999,91.95,1.6423000000000001,12.538,101.05,413.86,12.694000000000001,85.796999999999997,407.45,12.753,101.71,1.9273,0,0,0,0,0,73.28,73.16,73,73.010000000000005,73.14,73.209999999999994,1.5483,0,0]
["pCO2",36.752618333000001,-122.134388333,"2013-05-14T13:30:57Z","2013-05-14T12:31:16",498.34,12.03,83.436000000000007,489.21,12.098000000000001,101.67,1.9180999999999999,1.4096,12.282999999999999,91.977000000000004,1.5389999999999999,12.303000000000001,100.94,414.14,12.478999999999999,85.688999999999993,407.18,12.538,101.68,1.9180999999999999,102.78,406.17,12.763,101.68,1.7825,73.22,73.39,73.52,73.63,73.77,73.8,1.5488999999999999,0,0]
["pCO2",36.750868333,-122.144533333,"2013-05-14T14:30:58Z","2013-05-14T13:31:17",491.9,12.079000000000001,83.668999999999997,484.77,12.147,100.55,1.9016,1.5728,12.323,91.222999999999999,1.7399,12.362,100.15,414.27,12.518000000000001,85.944999999999993,407.69,12.587,101.74,1.9127000000000001,0,0,0,0,0,73.8,73.83,73.88,74,73.97,73.989999999999995,1.5446,0,0]
["pCO2",36.749645000000001,-122.152503333,"2013-05-14T15:30:57Z","2013-05-14T14:31:18",492.29,12.03,83.938000000000002,483.51,12.098000000000001,101.51,1.9178999999999999,1.2586999999999999,12.282999999999999,91.613,1.6832,12.303000000000001,100.34,413.76,12.478999999999999,85.728999999999999,407.06,12.547000000000001,101.7,1.9185000000000001,0,0,0,0,0,73.819999999999993,73.7,73.680000000000007,73.709999999999994,73.83,73.819999999999993,1.5426,0,0]
["pCO2",36.748631666999998,-122.158235,"2013-05-14T16:30:57Z","2013-05-14T15:31:16",486.02,12.02,83.816999999999993,478.07,12.087999999999999,101.55,1.9173,1.4956,12.263999999999999,91.492000000000004,1.6715,12.292999999999999,100.68,413.47,12.468999999999999,85.77,407.45,12.528,101.75,1.9227000000000001,0,0,0,0,0,73.87,73.95,73.739999999999995,73.97,73.680000000000007,73.83,1.5412999999999999,0,0]
["pCO2",36.747973332999997,-122.16316500000001,"2013-05-14T17:30:57Z","2013-05-14T16:31:16",485.83,12.02,84.45,477.93,12.087999999999999,102.05,1.91,1.6173999999999999,12.273999999999999,92.326999999999998,1.6337999999999999,12.303000000000001,101.23,413.9,12.478999999999999,85.891000000000005,407.36,12.538,101.79,1.92,0,0,0,0,0,74.13,74.010000000000005,73.930000000000007,73.900000000000006,73.92,73.91,1.5411999999999999,0,0]
["pCO2",36.746826667000001,-122.16936833299999,"2013-05-14T18:30:59Z","2013-05-14T17:31:16",492,12.058999999999999,84.311000000000007,483.79,12.118,101.91,1.9154,1.3796999999999999,12.313000000000001,92.165000000000006,1.4371,12.342000000000001,100.85,413.36,12.518000000000001,86.066000000000003,407.36,12.567,101.83,1.9177999999999999,0,0,0,0,0,73.87,73.77,73.790000000000006,73.64,73.540000000000006,73.540000000000006,1.5403,0,0]
["pCO2",36.745815,-122.17642499999999,"2013-05-14T19:30:57Z","2013-05-14T18:31:18",499.23,12.118,83.852999999999994,491.7,12.186,101.47,1.9188000000000001,1.5551999999999999,12.371,91.707999999999998,1.5007999999999999,12.401,101.03,413.28,12.577,86.105999999999995,406.97,12.645,101.87,1.9207000000000001,0,0,0,0,0,73.48,73.52,73.7,73.77,73.81,73.66,1.5386,0,0]
["pCO2",36.744648333000001,-122.18352166699999,"2013-05-14T20:30:57Z","2013-05-14T19:31:16",496.71,12.196,84.033000000000001,487.13,12.273999999999999,101.16,1.9177999999999999,1.5232000000000001,12.449,91.855999999999995,1.7635000000000001,12.478999999999999,100.76,413.75,12.654999999999999,85.85,406.99,12.714,101.85,1.9267000000000001,0,0,0,0,0,73.680000000000007,73.73,73.64,73.61,73.55,73.62,1.5383,0,0]
["pCO2",36.743888333000001,-122.18837499999999,"2013-05-14T21:30:57Z","2013-05-14T20:31:16",496.11,12.254,84.069000000000003,487.52,12.321999999999999,101.32,1.9147000000000001,1.2976000000000001,12.507999999999999,91.855999999999995,1.5217000000000001,12.538,100.84,413.26,12.714,85.957999999999998,406.63,12.773,101.83,1.9248000000000001,0,0,0,0,0,73.7,73.77,73.900000000000006,73.91,73.97,73.95,1.5395000000000001,0,0]
["pCO2",36.743093332999997,-122.193145,"2013-05-14T22:30:58Z","2013-05-14T21:31:16",492.47,12.332000000000001,84.06,483.52,12.401,101.31,1.9161999999999999,1.2878000000000001,12.586,91.814999999999998,1.5479000000000001,12.616,100.63,413.32,12.782,86.052000000000007,407.02,12.840999999999999,101.79,1.9235,0,0,0,0,0,73.86,74.150000000000006,74.88,75.02,75.16,75.27,1.5386,0,0]
["pCO2",36.741823332999999,-122.200435,"2013-05-14T23:30:58Z","2013-05-14T22:31:16",470.95,12.391,83.587999999999994,464.62,12.449,101.03,1.9161999999999999,1.2545999999999999,12.645,90.980999999999995,1.3343,12.675000000000001,99.881,413.42,12.840999999999999,85.77,406.75,12.9,101.73,1.9245000000000001,0,0,0,0,0,75.290000000000006,75.2,75.14,75.39,75.3,75.400000000000006,1.5376000000000001,0,0]
["pCO2",36.741379999999999,-122.205188333,"2013-05-15T00:30:57Z","2013-05-14T23:31:16",463.92,12.42,84.45,454.82,12.489000000000001,101.83,1.9242999999999999,1.3928,12.664999999999999,92.138000000000005,1.5507,12.694000000000001,100.8,413.43,12.871,85.957999999999998,406.98,12.93,101.77,1.9258999999999999,0,0,0,0,0,75.45,75.44,75.56,75.53,75.67,75.77,1.5365,0,0]
["pCO2",36.739401667000003,-122.216403333,"2013-05-15T01:30:57Z","2013-05-15T00:31:16",459.32,12.567,83.804000000000002,449.08,12.635,100.72,1.9293,1.1212,12.821999999999999,91.195999999999998,1.4410000000000001,12.851000000000001,100.04,413.61,13.018000000000001,85.918000000000006,407.33,13.087,101.78,1.9319,0,0,0,0,0,75.78,75.86,76.08,76.14,75.989999999999995,75.94,1.5336000000000001,0,0]
["pCO2",36.737301666999997,-122.229495,"2013-05-15T02:30:58Z","2013-05-15T01:31:16",454.92,12.616,83.602000000000004,447.78,12.683999999999999,100.8,1.9242999999999999,1.1427,12.861000000000001,91.519000000000005,1.4194,12.89,100.06,413.87,13.067,85.930999999999997,407.6,13.125999999999999,101.79,1.9326000000000001,0,0,0,0,0,75.98,75.86,75.790000000000006,75.64,75.819999999999993,75.69,1.5342,0,0]
["pCO2",36.734931666999998,-122.244075,"2013-05-15T03:30:57Z","2013-05-15T02:31:17",458.96,12.606,84.248000000000005,452.45,12.664999999999999,102.18,1.9326000000000001,1.1902999999999999,12.840999999999999,92.058000000000007,1.1555,12.871,100.82,413.73,13.047000000000001,85.957999999999998,407.63,13.106999999999999,101.85,1.9311,0,0,0,0,0,75.209999999999994,75.58,76.11,76.400000000000006,76.69,76.790000000000006,1.5355000000000001,0,0]
["pCO2",36.732476667,-122.260105,"2013-05-15T04:30:58Z","2013-05-15T03:31:16",432.86,12.625999999999999,83.75,427.2,12.694000000000001,101.5,1.9311,1.1211,12.88,92.165000000000006,1.2919,12.91,100.89,414.28,13.077,86.066000000000003,407.9,13.135999999999999,101.89,1.9298999999999999,0,0,0,0,0,76.819999999999993,76.84,76.849999999999994,76.45,76.09,76.66,1.534,0,0]
["pCO2",36.729970000000002,-122.276221667,"2013-05-15T05:30:57Z","2013-05-15T04:31:16",432.41,12.654999999999999,84.248000000000005,426.61,12.723000000000001,101.7,1.9256,1.3145,12.9,92.058000000000007,1.3838999999999999,12.93,100.81,413.98,13.106999999999999,86.147000000000006,407.82,13.166,101.91,1.9298999999999999,0,0,0,0,0,76.92,77,77.2,77.430000000000007,77.66,77.73,1.5341,0,0]
["pCO2",36.726965,-122.293785,"2013-05-15T06:30:58Z","2013-05-15T05:31:16",420.68,12.821999999999999,84.328999999999994,412.59,12.89,101.4,1.9254,1.0454000000000001,13.077,91.841999999999999,1.4067000000000001,13.106,100.57,414.03,13.284000000000001,86.16,407.59,13.343,101.97,1.9278999999999999,0,0,0,0,0,77.47,77.790000000000006,77.72,77.319999999999993,77.39,77.63,1.5337000000000001,0,0]
["pCO2",36.724098333000001,-122.311763333,"2013-05-15T07:30:57Z","2013-05-15T06:31:16",422.24,12.92,84.1,415.09,12.997999999999999,100.9,1.9124000000000001,1.0609999999999999,13.175000000000001,91.694000000000003,1.2694000000000001,13.205,100.53,413.83,13.382,86.174000000000007,407.86,13.432,101.97,1.9269000000000001,0,0,0,0,0,77.64,77.56,77.400000000000006,77.61,77.86,77.86,1.5325,0,0]
["pCO2",36.72166,-122.327031667,"2013-05-15T08:30:57Z","2013-05-15T07:31:16",424.14,12.949,83.858000000000004,417.88,13.018000000000001,100.76,1.9188000000000001,1.0667,13.195,91.424999999999997,1.2847999999999999,13.225,100.27,414.29,13.401999999999999,86.174000000000007,408.21,13.461,101.95,1.9240999999999999,0,0,0,0,0,77.67,77.47,77.510000000000005,77.53,77.34,77.400000000000006,1.5309999999999999,0,0]
["pCO2",36.719670000000001,-122.339891667,"2013-05-15T09:30:57Z","2013-05-15T08:31:16",425.8,12.939,83.992000000000004,418.92,12.997999999999999,100.8,1.9153,1.0309999999999999,13.175000000000001,91.397999999999996,1.3078000000000001,13.205,100.45,413.94,13.382,86.200999999999993,408.27,13.442,101.94,1.9238,0,0,0,0,0,77.34,77.45,77.45,77.37,77.180000000000007,77.2,1.5327,0,0]
["pCO2",36.718065000000003,-122.3498,"2013-05-15T10:30:59Z","2013-05-15T09:31:16",431.47,12.9,83.683000000000007,425.12,12.968999999999999,100.84,1.913,0.96899999999999997,13.146000000000001,91.451999999999998,1.2601,13.166,100.23,414.25,13.343,86.213999999999999,408.24,13.401999999999999,101.9,1.921,0,0,0,0,0,77.150000000000006,77.05,77.010000000000005,77.010000000000005,76.900000000000006,76.81,1.5334000000000001,0,0]
["pCO2",36.711671666999997,-122.360963333,"2013-05-15T11:30:57Z","2013-05-15T10:31:17",438.4,12.840999999999999,83.494,430.71,12.92,100.57,1.9148000000000001,1.2766,13.097,91.707999999999998,1.4043000000000001,13.125999999999999,100.62,414.52,13.294,86.186999999999998,408.02,13.353,101.91,1.9173,0,0,0,0,0,76.760000000000005,76.709999999999994,76.67,76.25,76.290000000000006,76.349999999999994,1.5324,0,0]
["pCO2",36.701883332999998,-122.37234833300001,"2013-05-15T12:30:58Z","2013-05-15T11:31:17",442.07,12.840999999999999,84.221000000000004,433.81,12.91,101.71,1.9060999999999999,1.0720000000000001,13.087,92.031000000000006,1.2857000000000001,13.125999999999999,101.08,414.07,13.294,86.200999999999993,407.69,13.353,101.89,1.9146000000000001,102.99,406.48,13.57,101.89,1.7717000000000001,76.48,76.52,76.47,76.52,76.48,76.48,1.532,0,0]
["pCO2",36.702398332999998,-122.373601667,"2013-05-15T13:30:57Z","2013-05-15T12:31:16",442.4,12.88,84.262,433.9,12.949,101.46,1.9021999999999999,1.1352,13.125999999999999,91.64,1.1738999999999999,13.146000000000001,100.57,413.81,13.323,86.295000000000002,407.33,13.372,101.91,1.9092,0,0,0,0,0,76.44,76.48,76.5,76.540000000000006,76.59,76.64,1.5308999999999999,0,0]
["pCO2",36.713503332999998,-122.359558333,"2013-05-15T14:30:58Z","2013-05-15T13:31:16",441.03,12.802,84.046000000000006,433.3,12.871,101.03,1.9074,1.2502,13.047000000000001,91.411000000000001,1.4220999999999999,13.067,100.39,414.33,13.244,86.200999999999993,407.96,13.313000000000001,101.98,1.9148000000000001,0,0,0,0,0,76.67,76.709999999999994,76.73,76.72,76.709999999999994,76.739999999999995,1.5282,0,0]
["pCO2",36.719551666999998,-122.341401667,"2013-05-15T15:30:57Z","2013-05-15T14:31:16",442.21,12.792,85.311999999999998,435.02,12.861000000000001,100.85,1.9000999999999999,1.1529,13.038,92.435000000000002,1.3485,13.067,100.72,413.44,13.244,87.224000000000004,407.7,13.313000000000001,101.99,1.9004000000000001,0,0,0,0,0,76.63,76.489999999999995,76.36,76.34,76.28,76.38,1.5243,0,0]
["pCO2",36.722766667000002,-122.31998666699999,"2013-05-15T16:30:58Z","2013-05-15T15:31:17",449.61,12.811999999999999,84.513000000000005,441.41,12.88,100.68,1.9089,1.1943999999999999,13.067,92.070999999999998,1.2343999999999999,13.087,100.11,413.8,13.263999999999999,87.317999999999998,407.54,13.323,102.04,1.9028,0,0,0,0,0,76.239999999999995,76.56,76.53,76.599999999999994,76.72,76.62,1.5266,0,0]
["pCO2",36.726260000000003,-122.297296667,"2013-05-15T17:30:57Z","2013-05-15T16:31:16",441.83,12.88,83.44,434.92,12.949,100.35,1.9313,1.0971,13.135999999999999,91.168999999999997,1.1563000000000001,13.156000000000001,100.19,413.43,13.333,85.957999999999998,407.51,13.391999999999999,102.06,1.9404999999999999,0,0,0,0,0,76.77,76.73,76.48,76.62,77.290000000000006,77.319999999999993,1.5256000000000001,0,0]
["pCO2",36.729928332999997,-122.27455999999999,"2013-05-15T18:30:57Z","2013-05-15T17:31:16",427.05,12.93,83.584000000000003,418.61,12.997999999999999,100.69,1.9295,1.278,13.175000000000001,91.384,1.3068,13.205,100.57,413.75,13.382,86.039000000000001,407.16,13.442,102.08,1.9389000000000001,0,0,0,0,0,77.569999999999993,77.569999999999993,77.819999999999993,77.8,77.75,77.73,1.526,0,0]
["pCO2",36.733206666999997,-122.253326667,"2013-05-15T19:30:58Z","2013-05-15T18:31:16",423.38,13.028,83.736000000000004,415.93,13.097,101,1.9426000000000001,0.93145,13.273999999999999,91.29,1.1547000000000001,13.303000000000001,100.34,414.05,13.481,86.132999999999996,407.56,13.54,102.1,1.9393,0,0,0,0,0,77.67,77.69,77.67,77.63,77.53,77.41,1.5248999999999999,0,0]
["pCO2",36.736255,-122.234433333,"2013-05-15T20:30:58Z","2013-05-15T19:31:16",427.7,13.077,83.722999999999999,421.32,13.146000000000001,100.96,1.9378,1.0517000000000001,13.323,91.896000000000001,0.96718999999999999,13.353,100.88,413.94,13.521000000000001,86.12,407.45,13.59,102.08,1.9429000000000001,0,0,0,0,0,77.38,77.31,77.25,77.14,77.02,76.95,1.5239,0,0]
["pCO2",36.738579999999999,-122.219261667,"2013-05-15T21:30:58Z","2013-05-15T20:31:16",435.39,13.057,84.019000000000005,428.65,13.125999999999999,101,1.9423999999999999,1.0871999999999999,13.313000000000001,91.626999999999995,1.2448999999999999,13.333,101,414,13.510999999999999,86.093000000000004,407.73,13.57,102.06,1.9435,0,0,0,0,0,76.89,76.87,76.88,76.88,76.92,76.92,1.5235000000000001,0,0]
["pCO2",36.74033,-122.208373333,"2013-05-15T22:30:58Z","2013-05-15T21:31:16",432.4,12.997999999999999,83.978999999999999,425.25,13.077,101.29,1.9372,0.82960999999999996,13.254,91.694000000000003,1.1079000000000001,13.284000000000001,100.8,413.18,13.451000000000001,86.980999999999995,406.72,13.510999999999999,102.06,1.9258999999999999,0,0,0,0,0,77.03,77.099999999999994,77.16,77.17,77.14,77.11,1.5244,0,0]
["pCO2",36.741661667000002,-122.19996,"2013-05-15T23:30:59Z","2013-05-15T22:31:16",434.27,12.959,84.14,425.16,13.028,101.31,1.9337,0.94266000000000005,13.215,91.977000000000004,1.3342000000000001,13.244,101.07,413.05,13.412000000000001,86.147000000000006,406.67,13.471,102.02,1.9374,0,0,0,0,0,77.11,77.05,77.06,77.09,77.150000000000006,77.17,1.5217000000000001,0,0]
["pCO2",36.743061666999999,-122.190753333,"2013-05-16T00:30:59Z","2013-05-15T23:31:18",433.27,12.959,83.843999999999994,424.49,13.018000000000001,101.66,1.9433,1.0497000000000001,13.215,91.694000000000003,1.1476999999999999,13.244,100.72,412.7,13.412000000000001,86.281000000000006,406.62,13.471,101.99,1.9403999999999999,0,0,0,0,0,77.12,77.06,77.06,77.03,77.099999999999994,77.03,1.5205,0,0]
["pCO2",36.744813333000003,-122.179736667,"2013-05-16T01:30:58Z","2013-05-16T00:31:16",433.91,12.959,83.978999999999999,427.14,13.018000000000001,101.89,1.9415,0.99343000000000004,13.205,92.218999999999994,1.1174999999999999,13.244,101.44,412.96,13.401999999999999,86.025000000000006,406.73,13.471,101.97,1.9412,0,0,0,0,0,76.930000000000007,76.94,76.930000000000007,76.88,76.91,76.81,1.5223,0,0]
["pCO2",36.747064999999999,-122.165586667,"2013-05-16T02:30:59Z","2013-05-16T01:31:17",435.3,12.92,83.722999999999999,427.3,12.988,101.29,1.9379,1.1402000000000001,13.175000000000001,91.546000000000006,1.2439,13.205,100.73,412.86,13.372,85.81,406.65,13.432,101.93,1.9461999999999999,0,0,0,0,0,76.8,76.78,76.7,76.66,76.77,76.75,1.5214000000000001,0,0]
["pCO2",36.749361667000002,-122.15083166700001,"2013-05-16T03:30:58Z","2013-05-16T02:31:16",439.55,12.851000000000001,83.561000000000007,432.44,12.92,101.09,1.9372,1.0268999999999999,13.097,91.397999999999996,1.1923999999999999,13.125999999999999,100.39,412.54,13.294,85.891000000000005,406.55,13.353,101.91,1.9430000000000001,0,0,0,0,0,76.59,76.41,76.38,76.34,76.16,76.069999999999993,1.5201,0,0]
["pCO2",36.751730000000002,-122.13533333300001,"2013-05-16T04:30:59Z","2013-05-16T03:31:16",448.54,12.733000000000001,83.650999999999996,441.32,12.802,101.38,1.9341999999999999,1.3179000000000001,12.978999999999999,91.613,1.2083999999999999,13.007999999999999,101.11,412.96,13.175000000000001,86.132999999999996,406.72,13.234,101.93,1.9381999999999999,0,0,0,0,0,76.02,75.92,75.94,75.790000000000006,75.69,75.61,1.5222,0,0]
["pCO2",36.754384999999999,-122.118433333,"2013-05-16T05:30:59Z","2013-05-16T04:31:17",461.55,12.616,83.453999999999994,455.82,12.683999999999999,100.81,1.9285000000000001,1.2302,12.861000000000001,91.572999999999993,1.3133999999999999,12.89,101.04,413.21,13.067,86.213999999999999,406.86,13.116,101.95,1.9332,0,0,0,0,0,75.400000000000006,75.17,74.98,74.87,74.58,75.040000000000006,1.5217000000000001,0,0]
["pCO2",36.756920000000001,-122.10225333299999,"2013-05-16T06:30:58Z","2013-05-16T05:31:17",445.55,12.489000000000001,83.494,438.38,12.557,100.98,1.9279999999999999,1.2748999999999999,12.743,91.384,1.444,12.773,100.66,413.23,12.939,85.864000000000004,406.93,12.997999999999999,101.95,1.9375,0,0,0,0,0,75.569999999999993,76.61,76.95,76.88,77.209999999999994,76.510000000000005,1.5202,0,0]
["pCO2",36.759521667000001,-122.08599833300001,"2013-05-16T07:30:59Z","2013-05-16T06:31:16",439.16,12.41,83.412999999999997,432.1,12.489000000000001,100.72,1.9251,1.2587999999999999,12.664999999999999,91.087999999999994,1.538,12.694000000000001,100.39,413.57,12.871,85.837000000000003,407.2,12.92,101.93,1.9363999999999999,0,0,0,0,0,76.5,76.39,76.599999999999994,76.36,76.91,77.06,1.5185999999999999,0,0]
["pCO2",36.762421666999998,-122.06769166700001,"2013-05-16T08:31Z","2013-05-16T07:31:16",428.75,12.391,83.385999999999996,422.02,12.459,100.76,1.9247000000000001,1.2646999999999999,12.645,91.277000000000001,1.4982,12.675000000000001,100.33,414.44,12.851000000000001,85.783000000000001,407.8,12.91,101.9,1.9379,0,0,0,0,0,77.16,77.14,77.03,76.95,76.59,76.12,1.5173000000000001,0,0]
["pCO2",36.765251667000001,-122.049036667,"2013-05-16T09:30:59Z","2013-05-16T08:31:17",465.48,12.478999999999999,83.516999999999996,457.35,12.547000000000001,100.55,1.9278,1.2201,12.733000000000001,90.94,1.3718999999999999,12.753,100.06,414.09,12.93,85.756,408.14,12.989000000000001,101.87,1.9380999999999999,0,0,0,0,0,75.569999999999993,74.98,74.66,74.77,76.09,76.31,1.5145999999999999,0,0]
["pCO2",36.768265,-122.029921667,"2013-05-16T10:30:58Z","2013-05-16T09:31:16",446.96,12.44,83.534999999999997,439.51,12.507999999999999,101.17,1.9303999999999999,1.2283999999999999,12.683999999999999,91.277000000000001,1.2536,12.714,100.51,414.81,12.89,85.742999999999995,407.98,12.939,101.83,1.9383999999999999,0,0,0,0,0,76.349999999999994,76.08,76,76.239999999999995,76.7,77.06,1.5173000000000001,0,0]
["pCO2",36.771093333000003,-122.01163,"2013-05-16T11:30:59Z","2013-05-16T10:31:16",412.12,12.449,83.292000000000002,405.49,12.518000000000001,100.55,1.9267000000000001,1.4583999999999999,12.704000000000001,90.953999999999994,1.5557000000000001,12.733000000000001,100.14,414.83,12.91,85.756,408.29,12.968999999999999,101.83,1.9382999999999999,102.96,405.87,13.205,101.83,1.7971999999999999,77.64,78.38,78.62,78.67,78.84,78.67,1.5159,0,0]
["pCO2",36.774241666999998,-121.992196667,"2013-05-16T12:31Z","2013-05-16T11:31:17",417.58,12.683999999999999,83.369,409.08,12.743,100.46,1.9217,1.0286,12.93,90.994,1.4998,12.949,100.15,414.89,13.125999999999999,85.728999999999999,408.88,13.185,101.83,1.9359,0,0,0,0,0,78.36,78,77.849999999999994,77.400000000000006,76.72,76.38,1.5153000000000001,0,0]
["pCO2",36.777336667,-121.971996667,"2013-05-16T13:31Z","2013-05-16T12:31:18",421.66,12.528,83.453999999999994,414.76,12.596,100.47,1.9253,1.2658,12.773,90.912999999999997,1.3965000000000001,12.802,100.1,416.01,12.968999999999999,85.728999999999999,409.17,13.028,101.79,1.9349000000000001,0,0,0,0,0,76.760000000000005,77.67,78.45,78.650000000000006,78.78,78.91,1.5183,0,0]
["pCO2",36.780556666999999,-121.95170166699999,"2013-05-16T14:30:58Z","2013-05-16T13:31:18",398.33,12.507999999999999,83.602000000000004,391.06,12.577,100.55,1.9186000000000001,1.2179,12.763,91.236000000000004,1.4641,12.792,100.31,425.98,12.959,85.930999999999997,419.89,13.018000000000001,101.83,1.9278999999999999,0,0,0,0,0,79.05,79.06,78.97,79.010000000000005,79.09,79.180000000000007,1.5145,0,0]
["pCO2",36.783805000000001,-121.931161667,"2013-05-16T15:30:58Z","2013-05-16T14:31:16",404.51,12.528,83.978999999999999,397.12,12.596,101.6,1.9259999999999999,1.1263000000000001,12.773,91.6,1.3170999999999999,12.811999999999999,100.97,417.68,12.978999999999999,85.930999999999997,411.5,13.038,101.89,1.9336,0,0,0,0,0,79.05,78.23,77.680000000000007,77.569999999999993,77.42,76.95,1.5150999999999999,0,0]
["pCO2",36.786594999999998,-121.912965,"2013-05-16T16:30:59Z","2013-05-16T15:31:16",436.89,12.468999999999999,83.951999999999998,429.45,12.537000000000001,101.71,1.9280999999999999,1.1296999999999999,12.724,91.841999999999999,1.353,12.753,100.63,420.35,12.92,85.837000000000003,413.88,12.978999999999999,101.91,1.9355,0,0,0,0,0,76.77,76.400000000000006,75.81,74.16,74.13,74.12,1.5142,0,0]
["pCO2",36.789755,-121.892895,"2013-05-16T17:30:59Z","2013-05-16T16:31:17",486.71,12.547000000000001,84.194000000000003,478.9,12.606,101.75,1.9263999999999999,1.1877,12.802,92.26,1.3138000000000001,12.831,101.25,418.71,12.997999999999999,85.891000000000005,411.98,13.057,101.94,1.9357,0,0,0,0,0,74.06,73.95,73.77,73.73,73.64,74.069999999999993,1.5105,0,0]
["pCO2",36.793044999999999,-121.871558333,"2013-05-16T18:31Z","2013-05-16T17:31:16",483.09,12.821999999999999,84.463999999999999,474.52,12.9,102.29,1.9393,1.1228,13.097,92.353999999999999,1.2350000000000001,13.125999999999999,101.59,417.93,13.303000000000001,85.944999999999993,411.91,13.372,101.9,1.9420999999999999,0,0,0,0,0,74.180000000000007,74.19,74.319999999999993,74.92,74.8,77.88,1.5046999999999999,0,0]
["pCO2",36.796268333,-121.851431667,"2013-05-16T19:31Z","2013-05-16T18:31:17",359.75,13.254,84.153999999999996,352.86,13.323,101.97,1.9542999999999999,0.74436000000000002,13.52,92.084999999999994,0.96977000000000002,13.55,101.28,418.28,13.738,85.85,411.87,13.807,101.9,1.9574,0,0,0,0,0,81.36,82.05,81.510000000000005,80.040000000000006,83.56,83.7,1.5018,0,0]
["pCO2",36.798423333000002,-121.847835,"2013-05-16T20:30:59Z","2013-05-16T19:31:16",329.12,13.768000000000001,84.423000000000002,323.01,13.827,102.29,1.9581,0.58511999999999997,14.026,92.3,0.86385999999999996,14.045,101.48,414.33,14.225,85.944999999999993,407.98,14.284000000000001,101.89,1.9602999999999999,0,0,0,0,0,84.43,84.46,84.54,84.58,83.27,80.819999999999993,1.5066999999999999,0,0]
["pCO2",36.797786666999997,-121.85196000000001,"2013-05-16T21:30:58Z","2013-05-16T20:31:16",405.93,13.847,84.826999999999998,399.67,13.916,102.82,1.9618,0.63566999999999996,14.105,92.716999999999999,0.92137999999999998,14.135,101.62,414.26,14.304,85.984999999999999,407.91,14.364000000000001,101.85,1.9603999999999999,0,0,0,0,0,81.209999999999994,77.319999999999993,75.95,75.010000000000005,75.03,74.819999999999993,1.5089999999999999,0,0]
["pCO2",36.796538333000001,-121.85975999999999,"2013-05-16T22:30:59Z","2013-05-16T21:31:16",469.76,13.57,84.652000000000001,461.34,13.629,102.92,1.9601999999999999,0.80530000000000002,13.807,92.582999999999998,1.0402,13.837,101.63,413.52,13.996,86.025000000000006,407.23,14.055999999999999,101.82,1.9551000000000001,0,0,0,0,0,74.83,74.709999999999994,74.599999999999994,74.63,74.45,74.209999999999994,1.5158,0,0]
["pCO2",36.794641667,-121.87162499999999,"2013-05-16T23:30:59Z","2013-05-16T22:31:16",486,13.175000000000001,83.79,478.15,13.234,101.89,1.9437,1.0483,13.412000000000001,91.896000000000001,1.2534000000000001,13.441000000000001,101.33,413.49,13.609,85.715999999999994,407.13,13.669,101.77,1.9497,0,0,0,0,0,74.06,74.12,74.23,74.33,74.45,74.39,1.5133000000000001,0,0]
["pCO2",36.791788333,-121.89020499999999,"2013-05-17T00:31Z","2013-05-16T23:31:16",476.68,12.89,83.759,468.26,12.949,101.52,1.9327000000000001,0.96199000000000001,13.135999999999999,91.855999999999995,1.3335999999999999,13.166,101.08,413.88,13.323,85.944999999999993,407.4,13.391999999999999,101.74,1.9387000000000001,0,0,0,0,0,74.599999999999994,74.709999999999994,74.88,75.319999999999993,75.88,76.709999999999994,1.5121,0,0]
["pCO2",36.788305000000001,-121.911066667,"2013-05-17T01:30:59Z","2013-05-17T00:31:16",347.26,12.763,83.427000000000007,340.68,12.821999999999999,101.17,1.9320999999999999,1.0833999999999999,13.007999999999999,91.6,1.3625,13.028,100.63,413.79,13.205,85.756,407.23,13.273999999999999,101.73,1.9377,0,0,0,0,0,80.31,82.69,82.98,83.82,83.32,82.72,1.5097,0,0]
["pCO2",36.785243332999997,-121.93007,"2013-05-17T02:30:58Z","2013-05-17T01:31:16",327.58,12.821999999999999,83.516999999999996,322.24,12.88,101.03,1.9277,1.0501,13.057,91.424999999999997,1.1192,13.087,100.59,413.51,13.263999999999999,85.662000000000006,407.3,13.323,101.64,1.9382999999999999,0,0,0,0,0,83.85,83.54,82.76,82.34,81.36,80.25,1.5065999999999999,0,0]
["pCO2",36.782871667000002,-121.944656667,"2013-05-17T03:30:59Z","2013-05-17T02:31:16",395.81,12.645,83.561000000000007,389.8,12.714,101.29,1.9319,1.0032000000000001,12.89,91.397999999999996,1.4675,12.91,100.5,413.17,13.087,85.715999999999994,407.15,13.146000000000001,101.68,1.9354,0,0,0,0,0,79.459999999999994,78.56,77.78,77.44,77.27,77.14,1.5093000000000001,0,0]
["pCO2",36.780459999999998,-121.95993166700001,"2013-05-17T04:30:58Z","2013-05-17T03:31:16",421.74,12.528,84.221000000000004,413.82,12.586,102.18,1.9278999999999999,1.1456,12.773,92.058000000000007,1.448,12.792,100.65,413.61,12.968999999999999,85.85,407.09,13.038,101.67,1.9279999999999999,0,0,0,0,0,77.180000000000007,77.17,77.319999999999993,77.760000000000005,78.31,78.11,1.5075000000000001,0,0]
["pCO2",36.778056667000001,-121.975316667,"2013-05-17T05:31:01Z","2013-05-17T04:31:16",415.29,12.507999999999999,83.777000000000001,408.11,12.577,101.51,1.9303999999999999,1.3736999999999999,12.753,91.572999999999993,1.173,12.782,100.47,413.7,12.959,85.837000000000003,407.36,13.018000000000001,101.77,1.9320999999999999,0,0,0,0,0,78.05,77.709999999999994,77.56,77.13,77.31,77.23,1.5081,0,0]
["pCO2",36.775776667000002,-121.98961666700001,"2013-05-17T06:30:59Z","2013-05-17T05:31:17",428.37,12.537000000000001,84.033000000000001,420.24,12.606,101.85,1.9302999999999999,1.2072000000000001,12.782,92.138000000000005,1.3701000000000001,12.811999999999999,101.38,413.65,12.989000000000001,85.903999999999996,407.4,13.047000000000001,101.78,1.9314,0,0,0,0,0,77.069999999999993,77.02,77,76.959999999999994,77.22,77.180000000000007,1.5059,0,0]
["pCO2",36.773811666999997,-122.001443333,"2013-05-17T07:30:58Z","2013-05-17T06:31:16",428.12,12.547000000000001,83.831000000000003,420.54,12.616,101.83,1.9323999999999999,1.2022999999999999,12.802,91.760999999999996,1.2945,12.831,100.46,413.58,12.997999999999999,85.81,407.38,13.057,101.79,1.9347000000000001,0,0,0,0,0,77.09,77.11,76.64,74.53,74.86,74.98,1.506,0,0]
["pCO2",36.772136666999998,-122.011966667,"2013-05-17T08:31Z","2013-05-17T07:31:16",460.05,12.449,84.355999999999995,452.41,12.518000000000001,102.48,1.9294,1.3694999999999999,12.694000000000001,92.016999999999996,1.4428000000000001,12.724,101.05,414.45,12.89,85.728999999999999,408.15,12.949,101.78,1.9352,0,0,0,0,0,75.209999999999994,74.959999999999994,74.349999999999994,74.34,74.349999999999994,74.39,1.5076000000000001,0,0]
["pCO2",36.770141666999997,-122.02464500000001,"2013-05-17T09:30:59Z","2013-05-17T08:31:16",478.83,12.371,84.679000000000002,471.06,12.44,102.59,1.9238999999999999,1.2374000000000001,12.616,92.555999999999997,1.4158999999999999,12.635,101.71,413.77,12.811999999999999,85.81,407.37,12.871,101.77,1.9321999999999999,0,0,0,0,0,74.36,74.14,74.11,74.09,73.97,73.91,1.5059,0,0]
["pCO2",36.767924999999998,-122.038005,"2013-05-17T10:30:59Z","2013-05-17T09:31:16",484.23,12.321999999999999,84.396000000000001,475.79,12.391,102.48,1.9237,1.1633,12.567,92.394000000000005,1.5204,12.596,101.54,414.92,12.773,85.662000000000006,408.73,12.821999999999999,101.74,1.9320999999999999,102.86,406.18,13.048,101.74,1.7878000000000001,73.61,73.91,73.91,73.989999999999995,74.099999999999994,74.23,1.506,0,0]
["pCO2",36.765773332999999,-122.05195500000001,"2013-05-17T11:30:59Z","2013-05-17T10:31:16",474.96,12.313000000000001,84.302000000000007,466.33,12.381,102.51,1.9180999999999999,1.3878999999999999,12.557,92.084999999999994,1.4491000000000001,12.577,101.51,415.23,12.753,85.647999999999996,408.79,12.811999999999999,101.73,1.9279999999999999,0,0,0,0,0,74.430000000000007,74.510000000000005,74.83,74.87,74.849999999999994,75.06,1.5057,0,0]
["pCO2",36.763616667000001,-122.065708333,"2013-05-17T12:30:59Z","2013-05-17T11:31:16",458.77,12.244,84.477000000000004,450.24,12.313000000000001,102.74,1.9189000000000001,1.3152999999999999,12.497999999999999,92.367000000000004,1.4897,12.518000000000001,101.46,415.02,12.694000000000001,85.635000000000005,408.87,12.763,101.75,1.9291,0,0,0,0,0,75.27,75.37,75.5,75.540000000000006,75.55,75.36,1.5033000000000001,0,0]
["pCO2",36.762076667000002,-122.07467,"2013-05-17T13:30:59Z","2013-05-17T12:31:16",461.02,12.292999999999999,84.45,452.78,12.352,102.56,1.9198999999999999,1.3808,12.538,92.26,1.4577,12.557,101.35,414.04,12.733000000000001,85.622,407.88,12.802,101.73,1.9303999999999999,0,0,0,0,0,75.22,75.33,75.22,75.78,75.86,76.12,1.5011000000000001,0,0]
["pCO2",36.760721666999999,-122.08336666700001,"2013-05-17T14:31Z","2013-05-17T13:31:16",444.27,12.381,84.504000000000005,437.26,12.449,102.64,1.9293,1.2022999999999999,12.635,92.272999999999996,1.5305,12.654999999999999,101.52,414.68,12.831,85.674999999999997,408.77,12.9,101.78,1.9350000000000001,0,0,0,0,0,76.09,76.31,76.319999999999993,76.34,76.25,75.739999999999995,1.4995000000000001,0,0]
["pCO2",36.759650000000001,-122.08974499999999,"2013-05-17T15:31Z","2013-05-17T14:31:18",456.58,12.518000000000001,84.41,448.41,12.586,102.51,1.9325000000000001,1.1312,12.773,92.394000000000005,1.5038,12.792,101.47,416.64,12.968999999999999,85.756,409.93,13.038,101.83,1.9378,0,0,0,0,0,75.790000000000006,75.819999999999993,76.05,76.22,76.319999999999993,76.510000000000005,1.5004999999999999,0,0]
["pCO2",36.759453333000003,-122.09231666700001,"2013-05-17T16:30:59Z","2013-05-17T15:31:16",442.09,12.683999999999999,84.813999999999993,434.17,12.753,102.91,1.9355,1.0530999999999999,12.939,92.703999999999994,1.0358000000000001,12.968999999999999,101.83,413.4,13.146000000000001,85.903999999999996,407.45,13.195,101.86,1.9354,0,0,0,0,0,76.569999999999993,76.62,76.59,76.58,76.73,76.83,1.4985999999999999,0,0]
["pCO2",36.757648332999999,-122.09102166700001,"2013-05-17T17:31:01Z","2013-05-17T16:31:16",434.65,12.821999999999999,84.584999999999994,427.24,12.89,102.75,1.9381999999999999,1.1494,13.077,92.394000000000005,1.3601000000000001,13.106,101.21,413.19,13.284000000000001,85.742999999999995,407.09,13.343,101.86,1.9422999999999999,0,0,0,0,0,76.8,76.92,77.06,77.12,77.099999999999994,77.510000000000005,1.4995000000000001,0,0]
["pCO2",36.753129999999999,-122.09453000000001,"2013-05-17T18:30:59Z","2013-05-17T17:31:18",420.78,12.978999999999999,84.531000000000006,414.06,13.047000000000001,102.72,1.9455,0.98353999999999997,13.234,92.489000000000004,1.2007000000000001,13.263999999999999,101.7,412.85,13.442,85.742999999999995,406.56,13.500999999999999,101.89,1.9477,0,0,0,0,0,77.569999999999993,77.69,77.66,77.7,77.62,77.59,1.4972000000000001,0,0]
["pCO2",36.755088333000003,-122.089125,"2013-05-17T19:30:59Z","2013-05-17T18:31:16",422.94,13.116,84.167000000000002,414.75,13.195,102.3,1.9471000000000001,0.87995999999999996,13.372,92.206000000000003,1.2968999999999999,13.401999999999999,101.32,413.38,13.58,85.77,406.26,13.638999999999999,101.9,1.9507000000000001,0,0,0,0,0,77.56,77.459999999999994,77.53,77.66,77.22,77.02,1.4984,0,0]
["pCO2",36.75929,-122.07035,"2013-05-17T20:30:59Z","2013-05-17T19:31:17",433.44,13.175000000000001,83.965000000000003,425.55,13.234,101.71,1.9433,1.0263,13.412000000000001,91.977000000000004,1.1858,13.441000000000001,101.13,412.77,13.619,85.823999999999998,406.55,13.679,101.91,1.9507000000000001,0,0,0,0,0,76.900000000000006,76.959999999999994,76.94,76.86,76.650000000000006,76.650000000000006,1.5016,0,0]
["pCO2",36.763146667000001,-122.05294499999999,"2013-05-17T21:30:59Z","2013-05-17T20:31:16",435.59,13.067,83.843999999999994,427.97,13.135999999999999,101.75,1.9435,0.96214,13.313000000000001,91.694000000000003,1.1749000000000001,13.343,101.04,413.04,13.521000000000001,85.756,406.63,13.57,101.86,1.9519,0,0,0,0,0,76.67,76.84,76.98,77.11,77.37,77.319999999999993,1.5021,0,0]
["pCO2",36.767618333000001,-122.033426667,"2013-05-17T22:31Z","2013-05-17T21:31:16",436.33,13.028,83.453999999999994,429.72,13.097,100.9,1.9374,0.95737000000000005,13.273999999999999,91.572999999999993,1.2895000000000001,13.303000000000001,101.07,413.06,13.481,85.715999999999994,406.64,13.53,101.83,1.9503999999999999,0,0,0,0,0,77.11,76.91,76.63,76.33,76.319999999999993,76.3,1.5015000000000001,0,0]
["pCO2",36.771181667,-122.01804166700001,"2013-05-17T23:30:59Z","2013-05-17T22:31:17",448.2,12.959,83.396000000000001,437.88,13.028,100.81,1.9427000000000001,1.036,13.205,91.102000000000004,1.1369,13.225,100.47,413.53,13.401999999999999,85.662000000000006,406.71,13.461,101.83,1.9514,0,0,0,0,0,76.31,76.33,76.23,76.22,76.08,76.06,1.5004,0,0]
["pCO2",36.773876667000003,-122.005541667,"2013-05-18T00:31Z","2013-05-17T23:31:16",452.25,12.840999999999999,83.346000000000004,443.57,12.9,100.68,1.9419999999999999,1.1758,13.087,91.021000000000001,1.2663,13.106,100.5,412.93,13.284000000000001,85.622,407.33,13.343,101.81,1.9495,0,0,0,0,0,75.989999999999995,76.05,76.209999999999994,76.3,76.28,76.239999999999995,1.5003,0,0]
["pCO2",36.775548333000003,-121.995588333,"2013-05-18T01:30:59Z","2013-05-18T00:31:16",448.1,12.673999999999999,83.063000000000002,441.27,12.743,100.81,1.9300999999999999,1.1898,12.92,91.263000000000005,1.4247000000000001,12.949,100.51,414,13.125999999999999,85.647999999999996,407.09,13.175000000000001,101.83,1.9441999999999999,0,0,0,0,0,76.25,76.19,76.099999999999994,76.16,76.2,76.34,1.5003,0,0]
["pCO2",36.776960000000003,-121.988355,"2013-05-18T02:31:01Z","2013-05-18T01:31:16",443.41,12.557,83.072999999999993,435.02,12.635,101.83,1.9340999999999999,1.2445999999999999,12.802,91.304000000000002,1.4204000000000001,12.831,100.66,413.78,13.007999999999999,85.688999999999993,406.97,13.067,101.85,1.9429000000000001,0,0,0,0,0,76.33,76.48,76.430000000000007,76.34,75.91,75.7,1.4991000000000001,0,0]
["pCO2",36.780128333,-121.977896667,"2013-05-18T03:31:02Z","2013-05-18T02:31:17",466.06,12.468999999999999,83.131,459.21,12.537000000000001,101.17,1.9288000000000001,1.3375999999999999,12.724,91.814999999999998,1.4816,12.753,101.09,412.9,12.91,85.742999999999995,407.2,12.978999999999999,101.86,1.9379,0,0,0,0,0,75.17,75.010000000000005,74.83,74.47,74.489999999999995,74.489999999999995,1.4991000000000001,0,0]
["pCO2",36.783895000000001,-121.961516667,"2013-05-18T04:31Z","2013-05-18T03:31:18",467.7,12.352,83.292000000000002,459.04,12.42,101.99,1.9272,1.1527000000000001,12.606,91.962999999999994,1.4100999999999999,12.625999999999999,101.07,413.88,12.792,85.85,407.28,12.861000000000001,101.91,1.9346000000000001,0,0,0,0,0,74.66,74.86,75.3,75.69,76.03,76.319999999999993,1.4984999999999999,0,0]
["pCO2",36.787268333,-121.947136667,"2013-05-18T05:31Z","2013-05-18T04:31:16",433.47,12.321999999999999,82.564999999999998,425.41,12.391,100.51,1.9194,1.4732000000000001,12.577,91.277000000000001,1.2435,12.596,100.49,413.88,12.773,85.918000000000006,407.68,12.840999999999999,101.98,1.9317,0,0,0,0,0,76.53,77,77.400000000000006,77.91,78.09,78.25,1.4971000000000001,0,0]
["pCO2",36.790095000000001,-121.934595,"2013-05-18T06:31Z","2013-05-18T05:31:16",415.59,12.43,83.036000000000001,408.83,12.497999999999999,100.85,1.9252,1.1274,12.683999999999999,91.236000000000004,1.4343999999999999,12.714,100.22,414.54,12.89,85.930999999999997,408.28,12.949,102.01,1.9352,0,0,0,0,0,78.37,77.67,77.64,77.39,77.34,78.17,1.4953000000000001,0,0]
["pCO2",36.792726666999997,-121.92264,"2013-05-18T07:31Z","2013-05-18T06:31:16",389.22,12.507999999999999,83.507999999999996,382.97,12.577,101.93,1.9242999999999999,1.2927,12.763,91.896000000000001,1.3715999999999999,12.792,101.24,415.48,12.968999999999999,85.918000000000006,408.14,13.018000000000001,102.04,1.9343999999999999,0,0,0,0,0,78.89,79.510000000000005,79.75,79.83,80.13,80.41,1.4961,0,0]
["pCO2",36.795696667000001,-121.90947,"2013-05-18T08:31:01Z","2013-05-18T07:31:16",377.76,12.586,83.507999999999996,371,12.654999999999999,101.95,1.9200999999999999,1.111,12.831,92.367000000000004,1.1313,12.851000000000001,101.89,416.7,13.028,85.957999999999998,410.61,13.097,102.05,1.9327000000000001,0,0,0,0,0,80.150000000000006,79.94,79.86,79.900000000000006,79.760000000000005,79.81,1.4970000000000001,0,0]
["pCO2",36.798828333000003,-121.89588500000001,"2013-05-18T09:31Z","2013-05-18T08:31:18",382.01,12.507999999999999,83.49,374.73,12.577,101.74,1.9166000000000001,1.4065000000000001,12.763,92.191999999999993,1.3997999999999999,12.792,101.35,415.79,12.949,85.998999999999995,409.65,13.007999999999999,102.05,1.9246000000000001,103.17,406.38,13.234999999999999,102.05,1.7859,79.77,79.650000000000006,79.38,79.03,78.459999999999994,77.760000000000005,1.4984,0,0]
["pCO2",36.801589999999997,-121.883568333,"2013-05-18T10:31Z","2013-05-18T09:31:16",425.93,12.449,83.332999999999998,418,12.518000000000001,101.24,1.9072,1.3113999999999999,12.683999999999999,91.558999999999997,1.4970000000000001,12.714,101,417.24,12.881,85.971999999999994,410.68,12.939,102.06,1.9239999999999999,0,0,0,0,0,77.19,77.2,77.52,77.56,77.599999999999994,77.56,1.4981,0,0]
["pCO2",36.804276667000003,-121.871761667,"2013-05-18T11:31:02Z","2013-05-18T10:31:16",420.69,12.361000000000001,83.614999999999995,413.27,12.43,101.91,1.9080999999999999,1.0609999999999999,12.606,91.882999999999996,1.339,12.635,100.98,420.31,12.811999999999999,85.971999999999994,414.89,12.871,102.05,1.9201999999999999,0,0,0,0,0,77.41,77.319999999999993,77.040000000000006,77.28,77.06,76.75,1.4951000000000001,0,0]
["pCO2",36.805911666999997,-121.864088333,"2013-05-18T12:31:01Z","2013-05-18T11:31:17",411.85,12.391,83.466999999999999,401.8,12.459,101.64,1.9016,1.1888000000000001,12.645,91.6,1.4394,12.675000000000001,100.7,426.24,12.840999999999999,86.012,419.85,12.9,102.05,1.9180999999999999,0,0,0,0,0,76.42,80.959999999999994,81.680000000000007,81.98,82.82,83.12,1.4945999999999999,0,0]
["pCO2",36.808340000000001,-121.853603333,"2013-05-18T13:31:02Z","2013-05-18T12:31:18",324.74,12.773,83.71,318.88,12.840999999999999,101.97,1.8988,1.1773,13.038,91.802000000000007,1.2507999999999999,13.067,101.28,425.54,13.244,86.025000000000006,418.97,13.303000000000001,102.08,1.9093,0,0,0,0,0,84.15,83.83,84.81,83.97,84.52,84.32,1.4890000000000001,0,0]
["pCO2",36.809183333,-121.84921,"2013-05-18T14:31:01Z","2013-05-18T13:31:17",314.23,13.097,83.843999999999994,307.83999999999997,13.164999999999999,102.04,1.9141999999999999,0.84594000000000003,13.353,92.070999999999998,1.1821999999999999,13.382,101.58,429.59,13.56,86.093000000000004,423.94,13.609,102.13,1.9215,0,0,0,0,0,84.56,84.94,84.9,85.19,84.91,85.12,1.4895,0,0]
["pCO2",36.809361666999997,-121.85021,"2013-05-18T15:31Z","2013-05-18T14:31:16",251.23,13.263999999999999,83.238,246.2,13.343,100.82,1.9356,0.65144000000000002,13.53,91.519000000000005,0.97150000000000003,13.56,100.73,425.75,13.738,86.227000000000004,419.46,13.807,102.2,1.9384999999999999,0,0,0,0,0,88.2,91.17,91.82,91.83,91.47,91.47,1.4903,0,0]
["pCO2",36.808689999999999,-121.85002166699999,"2013-05-18T16:31:01Z","2013-05-18T15:31:16",243.33,14.105,83.427000000000007,238.42,14.185,101.2,1.9558,0.45374999999999999,14.384,91.492000000000004,0.65673000000000004,14.414,100.7,422.31,14.593999999999999,86.213999999999999,416.06,14.654,102.22,1.9508000000000001,0,0,0,0,0,91.49,91.47,91.46,91.58,91.37,91.05,1.4816,0,0]
["pCO2",36.808391667000002,-121.849785,"2013-05-18T17:31:01Z","2013-05-18T16:31:16",245.38,14.683999999999999,83.587999999999994,241.09,14.754,101.42,1.9715,0.13447999999999999,14.944000000000001,91.572999999999993,0.32821,14.974,100.81,424.86,15.154999999999999,86.268000000000001,418.74,15.215999999999999,102.21,1.9609000000000001,0,0,0,0,0,91.08,91.01,91.05,91.15,91.18,91.18,1.4883,0,0]
["pCO2",36.808476667000001,-121.848401667,"2013-05-18T18:31Z","2013-05-18T17:31:17",243.54,14.984,84.314999999999998,239.24,15.045,102.78,1.9864999999999999,5.2700999999999998E-2,15.226000000000001,92.218999999999994,0.31183,15.256,101.43,418.6,15.428000000000001,86.3,412.35,15.497999999999999,102.25,1.9678,0,0,0,0,0,91.14,91.16,91.01,91.02,90.91,90.61,1.492,0,0]
["pCO2",36.808419999999998,-121.849778333,"2013-05-18T19:31Z","2013-05-18T18:31:16",244.9,15.055,84.194000000000003,240.07,15.125,102.44,1.9825999999999999,6.6716999999999999E-2,15.295999999999999,92.798000000000002,0.38366,15.327,102.04,413.4,15.507999999999999,86.227000000000004,406.68,15.558999999999999,102.23,1.9696,0,0,0,0,0,90.75,90.72,89.64,89.61,90.53,89.95,1.4925999999999999,0,0]
["pCO2",36.808276667000001,-121.847616667,"2013-05-18T20:31Z","2013-05-18T19:31:16",245.08,14.914,84.019000000000005,240.86,14.984,102.3,1.9784999999999999,2.6838999999999998E-2,15.164999999999999,92.26,0.31341000000000002,15.186,101.55,412.68,15.347,86.186999999999998,407.06,15.417999999999999,102.17,1.9650000000000001,0,0,0,0,0,90.79,90.18,90.55,90.13,88.63,85.39,1.4913000000000001,0,0]
["pCO2",36.808243333,-121.848696667,"2013-05-18T21:31:01Z","2013-05-18T20:31:16",307,14.474,84.234999999999999,300.27999999999997,14.544,102.22,1.9706999999999999,0.32845000000000002,14.704000000000001,92.138000000000005,0.43325000000000002,14.734,101.39,413.38,14.904,86.16,407.23,14.954000000000001,102.14,1.9596,0,0,0,0,0,86.4,84.6,83.78,83.15,82.96,82.94,1.5007999999999999,0,0]
["pCO2",36.808345000000003,-121.849665,"2013-05-18T22:31Z","2013-05-18T21:31:16",340.42,13.867000000000001,83.912000000000006,334.18,13.936,102.16,1.9524999999999999,0.75731999999999999,14.105,92.125,0.89510999999999996,14.135,101.19,413.01,14.294,86.186999999999998,406.79,14.353999999999999,102.12,1.9479,0,0,0,0,0,82.44,81.8,80.739999999999995,80.67,80.64,81.31,1.4993000000000001,0,0]
["pCO2",36.808414999999997,-121.849156667,"2013-05-18T23:31Z","2013-05-18T22:31:17",329.74,13.292999999999999,83.75,324.20999999999998,13.362,102.04,1.9461999999999999,0.7419,13.54,92.637,1.1827000000000001,13.56,100.98,412.84,13.728,86.132999999999996,406.8,13.788,102.05,1.9391,0,0,0,0,0,82.16,83.45,83.13,83.31,83.96,83.06,1.4991000000000001,0,0]
["pCO2",36.809220000000003,-121.84891,"2013-05-19T00:31Z","2013-05-18T23:31:16",329.97,13.007999999999999,83.521000000000001,323.77999999999997,13.077,101.33,1.9327000000000001,1.0771999999999999,13.254,91.585999999999999,1.3847,13.284000000000001,100.78,412.85,13.451000000000001,86.105999999999995,406.38,13.510999999999999,102.04,1.9366000000000001,0,0,0,0,0,83.1,83.17,82.48,82.81,83.01,82.42,1.4964,0,0]
["pCO2",36.809195000000003,-121.85008500000001,"2013-05-19T01:31:02Z","2013-05-19T00:31:17",345.01,12.811999999999999,83.319000000000003,339.13,12.88,101.28,1.9331,0.99024000000000001,13.057,91.506,1.3127,13.087,100.62,412.7,13.254,86.281000000000006,406.51,13.313000000000001,102.01,1.9292,0,0,0,0,0,81.96,81.63,80.81,81.790000000000006,80.61,81,1.4947999999999999,0,0]
["pCO2",36.808818332999998,-121.849445,"2013-05-19T02:31Z","2013-05-19T01:31:18",352.43,12.714,82.727000000000004,347.69,12.782,100.47,1.9238,0.98118000000000005,12.959,90.980999999999995,1.2271000000000001,12.988,100.37,413.28,13.166,86.186999999999998,406.93,13.215,102.02,1.9319,0,0,0,0,0,80.349999999999994,81.38,81.069999999999993,83.31,82.27,83.04,1.4941,0,0]
["pCO2",36.808430000000001,-121.849231667,"2013-05-19T03:31:01Z","2013-05-19T02:31:16",325.06,12.840999999999999,82.968999999999994,319.20999999999998,12.91,100.43,1.9232,0.85228000000000004,13.097,91.25,1.0922000000000001,13.125999999999999,100.3,412.42,13.303000000000001,86.16,406.81,13.363,102.01,1.9331,0,0,0,0,0,83.26,84.1,87.9,88.49,88.93,88.89,1.4899,0,0]
["pCO2",36.808318333000003,-121.84898,"2013-05-19T04:31Z","2013-05-19T03:31:17",270.2,13.372,82.875,264.52,13.441000000000001,100.23,1.9380999999999999,0.82321,13.629,91.168999999999997,0.88226000000000004,13.659000000000001,100.45,412.6,13.837,85.984999999999999,406.67,13.907,102.05,1.9407000000000001,0,0,0,0,0,88.63,87.99,88.4,88.18,88.37,88.64,1.4861,0,0]
["pCO2",36.809105000000002,-121.847783333,"2013-05-19T05:31Z","2013-05-19T04:31:16",259.81,13.659000000000001,83.427000000000007,254.57,13.728,101.68,1.952,0.66913,13.926,92.058000000000007,0.69750000000000001,13.946,100.73,414.81,14.125,86.12,407.99,14.185,102.08,1.9480999999999999,0,0,0,0,0,89.15,88.85,89.97,89.04,90.53,90.01,1.4891000000000001,0,0]
["pCO2",36.808839999999996,-121.84995499999999,"2013-05-19T06:31Z","2013-05-19T05:31:16",242.36,13.827,83.614999999999995,238.06,13.906000000000001,102.06,1.9545999999999999,0.61007999999999996,14.085000000000001,91.855999999999995,0.79362999999999995,14.115,100.92,417.38,14.294,86.12,411.1,14.353999999999999,102.12,1.95,0,0,0,0,0,90.61,90.5,90.63,90.44,90.54,90.58,1.4888999999999999,0,0]
["pCO2",36.808824999999999,-121.847436667,"2013-05-19T07:31:01Z","2013-05-19T06:31:16",241.16,13.965999999999999,83.036000000000001,236.23,14.026,100.65,1.9460999999999999,0.57545000000000002,14.225,91.370999999999995,0.59343999999999997,14.244,100.28,417.48,14.423999999999999,86.954999999999998,411.56,14.474,102.12,1.9307000000000001,0,0,0,0,0,90.44,90.58,90.81,90.67,91.19,90.65,1.4894000000000001,0,0]
["pCO2",36.808315,-121.848961667,"2013-05-19T08:31:02Z","2013-05-19T07:31:16",231.11,14.036,83.816999999999993,226.24,14.105,102.37,1.9522999999999999,0.45255000000000001,14.284000000000001,91.748000000000005,0.59423999999999999,14.314,100.98,418.27,14.484,86.16,412.37,14.554,102.13,1.9467000000000001,103.26,405.61,14.784000000000001,102.13,1.7985,91.33,91.44,90.87,91.6,90.5,91.32,1.4896,0,0]
["pCO2",36.808898333000002,-121.84987833300001,"2013-05-19T09:31Z","2013-05-19T08:31:18",240.76,14.164999999999999,83.507999999999996,236.22,14.244,101.82,1.9376,0.32730999999999999,14.423999999999999,91.841999999999999,0.60387999999999997,14.444000000000001,101.08,417.39,14.614000000000001,86.052000000000007,410.66,14.673999999999999,102.08,1.9392,0,0,0,0,0,90.94,90.48,91.23,90.44,90.09,91.45,1.4890000000000001,0,0]
["pCO2",36.809265000000003,-121.849665,"2013-05-19T10:31Z","2013-05-19T09:31:16",239.6,14.065,84.543999999999997,234.78,14.125,101.5,1.9103000000000001,0.45932000000000001,14.304,92.825000000000003,0.73080999999999996,14.334,100.84,423.41,14.504,87.049000000000007,416.94,14.564,102.05,1.9101999999999999,0,0,0,0,0,89.88,91.19,91.4,89.56,91.63,90.61,1.4903,0,0]
["pCO2",36.809278333000002,-121.849646667,"2013-05-19T11:31:01Z","2013-05-19T10:31:16",246.83,13.996,84.611999999999995,242.82,14.065,101.09,1.8976999999999999,0.55386999999999997,14.244,92.435000000000002,0.62085999999999997,14.263999999999999,100.94,423.58,14.444000000000001,87.534000000000006,417.46,14.494,102.04,1.8959999999999999,0,0,0,0,0,88.89,89.68,88.62,88.23,88.29,87.71,1.492,0,0]
["pCO2",36.809179999999998,-121.84837166699999,"2013-05-19T12:31:02Z","2013-05-19T11:31:17",273.2,13.817,85.554000000000002,268.64,13.887,102.17,1.8795999999999999,0.48558000000000001,14.065,92.918999999999997,0.63614000000000004,14.095000000000001,101.38,419.85,14.254,86.429000000000002,414.5,14.314,102.04,1.9035,0,0,0,0,0,87.45,87.08,87.01,86.79,86.81,86.2,1.4921,0,0]
["pCO2",36.809154999999997,-121.848283333,"2013-05-19T13:31:01Z","2013-05-19T12:31:18",287.69,13.629,85.043000000000006,282.56,13.698,101.7,1.8956999999999999,0.49959999999999999,13.887,92.716999999999999,0.86612,13.907,100.94,419.94,14.074999999999999,87.465999999999994,413.97,14.135,102.02,1.8934,0,0,0,0,0,86.22,86.15,85.69,85.88,85.9,85.55,1.4923999999999999,0,0]
["pCO2",36.809171667000001,-121.849405,"2013-05-19T14:31:03Z","2013-05-19T13:31:17",284.7,13.52,85.257999999999996,280.07,13.59,102.36,1.8837999999999999,0.59962000000000004,13.768000000000001,93.484999999999999,0.71135000000000004,13.797000000000001,102.01,418.9,13.965999999999999,87.290999999999997,413.05,14.036,102.06,1.8934,0,0,0,0,0,85.91,86.01,84.87,85.25,84.99,84.34,1.4903999999999999,0,0]
["pCO2",36.809236667,-121.84998,"2013-05-19T15:31:02Z","2013-05-19T14:31:18",297.42,13.422000000000001,85.379000000000005,292.51,13.491,102.28,1.8869,0.67540999999999995,13.669,93.471000000000004,0.98443000000000003,13.698,101.59,419.44,13.867000000000001,87.668000000000006,413.35,13.936,102.09,1.8923000000000001,0,0,0,0,0,84.53,85.17,85.34,85.35,85.45,85.2,1.4923999999999999,0,0]
["pCO2",36.809143333000002,-121.85006666699999,"2013-05-19T16:31:02Z","2013-05-19T15:31:17",297.18,13.481,85.581000000000003,291.97000000000003,13.55,102.24,1.903,0.64849999999999997,13.728,93.430999999999997,0.80564999999999998,13.757999999999999,101.32,419.36,13.926,87.56,413.43,13.996,102.08,1.8995,0,0,0,0,0,85.26,85.39,85.59,85.77,85.89,86.15,1.488,0,0]
["pCO2",36.808706667000003,-121.84992666700001,"2013-05-19T17:31Z","2013-05-19T16:31:18",289.68,13.728,85.379000000000005,284.20999999999998,13.797000000000001,102.14,1.9096,0.43786999999999998,13.986000000000001,92.933000000000007,0.68432000000000004,14.016,101.46,420.26,14.195,87.694999999999993,415.18,14.254,102.08,1.9019999999999999,0,0,0,0,0,86.55,86.46,86.32,86.36,86.49,87.13,1.4850000000000001,0,0]
["pCO2",36.809094999999999,-121.850006667,"2013-05-19T18:31:02Z","2013-05-19T17:31:16",281.95,13.956,85.688999999999993,276.83999999999997,14.026,102.75,1.9218,0.23563000000000001,14.205,93.430999999999997,0.77303999999999995,14.234,101.35,419.38,14.404,87.116,413.39,14.474,102.06,1.9242999999999999,0,0,0,0,0,86.87,87.32,88.45,87.56,86.95,87.72,1.488,0,0]
["pCO2",36.809313332999999,-121.848436667,"2013-05-19T19:31:01Z","2013-05-19T18:31:16",271.88,14.026,84.665999999999997,266.57,14.085000000000001,101.79,1.9339,0.36585000000000001,14.284000000000001,92.972999999999999,0.72723000000000004,14.304,101.15,419.84,14.484,87.278000000000006,413.99,14.534000000000001,102.02,1.9176,0,0,0,0,0,87.56,87.51,86.84,87.42,87.15,87.3,1.4894000000000001,0,0]
["pCO2",36.808325000000004,-121.849458333,"2013-05-19T20:31:01Z","2013-05-19T19:31:16",274.44,13.956,85.622,270.33999999999997,14.026,102.82,1.9307000000000001,0.47936000000000001,14.205,93.713999999999999,0.88802999999999999,14.234,102.17,418.5,14.404,87.453000000000003,412.43,14.454000000000001,101.95,1.9187000000000001,0,0,0,0,0,86.33,86.74,84.95,84.01,83.93,84.03,1.4903999999999999,0,0]
["pCO2",36.808456667000002,-121.84831833299999,"2013-05-19T21:31:02Z","2013-05-19T20:31:16",283.76,13.728,84.733000000000004,278.88,13.788,102.26,1.9404999999999999,0.5716,13.965999999999999,92.703999999999994,0.77481,13.996,101.6,416.57,14.185,86.980999999999995,410.66,14.234999999999999,101.91,1.9339999999999999,0,0,0,0,0,84.04,85.94,85.95,86.41,86.11,85.85,1.4936,0,0]
["pCO2",36.808393332999998,-121.848198333,"2013-05-19T22:31:01Z","2013-05-19T21:31:17",285.42,13.837,83.656000000000006,280.12,13.906000000000001,100.58,1.931,0.45863999999999999,14.085000000000001,92.179000000000002,0.92884,14.105,100.66,416.31,14.263999999999999,86.873999999999995,410.36,14.334,101.81,1.9224000000000001,0,0,0,0,0,85.44,86.14,86.74,86.67,87.51,87.08,1.49,0,0]
["pCO2",36.808266666999998,-121.849146667,"2013-05-19T23:31:02Z","2013-05-19T22:31:17",286.94,13.372,83.912000000000006,281.85000000000002,13.441000000000001,100.46,1.9280999999999999,0.86167000000000005,13.609,91.263000000000005,0.89776999999999996,13.638999999999999,99.908000000000001,415.84,13.807,86.968000000000004,409.94,13.856999999999999,101.79,1.9184000000000001,0,0,0,0,0,86.95,86.06,85.74,85.74,85.16,85.23,1.4919,0,0]
["pCO2",36.808433333000004,-121.849961667,"2013-05-20T00:31:01Z","2013-05-19T23:31:17",298.23,13.135999999999999,84.463999999999999,292.52,13.205,101.24,1.9112,0.53093999999999997,13.391999999999999,92.097999999999999,0.86384000000000005,13.422000000000001,100.59,415.6,13.59,86.766000000000005,409.4,13.648999999999999,101.71,1.9179999999999999,0,0,0,0,0,85.2,85.37,85.22,85.45,85.43,85.45,1.4886999999999999,0,0]
["pCO2",36.809221667000003,-121.847933333,"2013-05-20T01:31:01Z","2013-05-20T00:31:16",293.12,13.234,84.234999999999999,288.07,13.292999999999999,101.33,1.9129,0.68230999999999997,13.491,92.421000000000006,0.90802000000000005,13.510999999999999,100.65,415.04,13.689,86.900999999999996,409.22,13.747999999999999,101.67,1.9155,0,0,0,0,0,85.71,85.76,86.3,86.8,86.85,87.22,1.4885999999999999,0,0]
["pCO2",36.809048333,-121.850226667,"2013-05-20T02:31:01Z","2013-05-20T01:31:16",268.31,13.215,83.924999999999997,263.63,13.273999999999999,101.05,1.9217,0.75609000000000004,13.451000000000001,92.206000000000003,1.2000999999999999,13.481,100.42,415,13.659000000000001,86.805999999999997,409,13.718,101.58,1.9174,0,0,0,0,0,87.47,87.6,87.2,87.32,87.28,86.61,1.4876,0,0]
["pCO2",36.809228333,-121.849386667,"2013-05-20T03:31:02Z","2013-05-20T02:31:16",290.11,13.125999999999999,63.889000000000003,280.81,13.195,99.260999999999996,1.9632000000000001,0.91247,13.382,91.061000000000007,1.0335000000000001,13.401999999999999,99.531000000000006,414.88,13.58,86.671999999999997,408.54,13.648999999999999,101.6,1.8972,0,0,0,0,0,86.64,86.97,86.66,86.91,87.57,87.52,1.4905999999999999,0,0]
["pCO2",36.809170000000002,-121.84952833299999,"2013-05-20T04:31:01Z","2013-05-20T03:31:17",270.52999999999997,13.412000000000001,83.587999999999994,265.88,13.481,100.57,1.9206000000000001,0.58914,13.669,91.828999999999994,1.0156000000000001,13.698,99.745999999999995,414.93,13.877000000000001,87.034999999999997,408.84,13.936,101.63,1.9106000000000001,0,0,0,0,0,87.37,87.38,87.19,87.03,87.15,87.03,1.4837,0,0]
["pCO2",36.809175000000003,-121.848711667,"2013-05-20T05:31:02Z","2013-05-20T04:31:16",279.38,13.52,83.870999999999995,274.70999999999998,13.59,101.2,1.9181999999999999,0.63361000000000001,13.768000000000001,92.474999999999994,0.87131000000000003,13.797000000000001,100.8,414.98,13.965999999999999,86.887,409.15,14.026,101.68,1.921,0,0,0,0,0,86.68,86.65,86.69,86.3,86.58,86.73,1.4849000000000001,0,0]
["pCO2",36.80829,-121.847645,"2013-05-20T06:31Z","2013-05-20T05:31:18",284.02,13.481,83.938000000000002,278.87,13.55,101.31,1.9233,0.60538000000000003,13.728,92.138000000000005,0.76519999999999999,13.757999999999999,100.08,417.06,13.926,87.116,411.39,13.996,101.73,1.9154,0,0,0,0,0,86.57,86.32,86.01,85.97,85.84,85.84,1.4861,0,0]
["pCO2",36.808383333000002,-121.849548333,"2013-05-20T07:31:01Z","2013-05-20T06:31:16",289.99,13.432,83.912000000000006,284.23,13.500999999999999,101.59,1.9213,0.60141999999999995,13.689,92.515000000000001,0.98877999999999999,13.708,100.74,417.65,13.887,86.766000000000005,412.02,13.936,101.71,1.9226000000000001,102.87,406.41,14.164999999999999,101.73,1.7768999999999999,86.14,85.83,86.47,87.79,87.67,88.16,1.4853000000000001,0,0]
["pCO2",36.808338333000002,-121.84804,"2013-05-20T08:31:01Z","2013-05-20T07:31:16",269.58999999999997,13.609,83.978999999999999,264.64999999999998,13.679,101.51,1.9227000000000001,0.50421000000000005,13.867000000000001,92.381,0.82257999999999998,13.887,100.88,422.65,14.065,86.832999999999998,416.9,14.115,101.68,1.9188000000000001,0,0,0,0,0,87.84,87.69,88.36,88.02,87.05,87.45,1.4832000000000001,0,0]
["pCO2",36.808321667000001,-121.849291667,"2013-05-20T09:31:02Z","2013-05-20T08:31:17",283.3,13.54,84.76,278.45,13.609,102.21,1.9217,0.56401000000000001,13.778,92.65,0.81420999999999999,13.807,101.03,422.79,13.976000000000001,86.900999999999996,416.64,14.036,101.67,1.9123000000000001,0,0,0,0,0,86.57,86.5,86.63,86.58,86.22,86.37,1.4851000000000001,0,0]
["pCO2",36.809411666999999,-121.84905999999999,"2013-05-20T10:31:01Z","2013-05-20T09:31:16",283.32,13.263999999999999,84.436999999999998,277.83999999999997,13.333,102.12,1.9221999999999999,0.88600999999999996,13.510999999999999,92.784999999999997,0.96060999999999996,13.54,101.33,419.16,13.708,87.088999999999999,413.54,13.768000000000001,101.66,1.9100999999999999,0,0,0,0,0,86.42,86.31,86.29,86.11,85.98,86,1.4859,0,0]
["pCO2",36.808351666999997,-121.848293333,"2013-05-20T11:31:02Z","2013-05-20T10:31:16",284.81,13.175000000000001,85.164000000000001,279.83999999999997,13.244,102.82,1.9206000000000001,0.76166,13.432,92.918999999999997,1.0012000000000001,13.451000000000001,101.58,427.11,13.629,86.698999999999998,421.06,13.689,101.62,1.9137999999999999,0,0,0,0,0,86.37,86.11,86.28,86.81,87.62,86.9,1.4841,0,0]
["pCO2",36.809286667000002,-121.84972999999999,"2013-05-20T12:31:02Z","2013-05-20T11:31:17",273.23,13.125999999999999,85.055999999999997,268.08999999999997,13.195,102.48,1.9105000000000001,0.79283000000000003,13.372,93.31,1.1941999999999999,13.401999999999999,101.43,427.49,13.58,86.941000000000003,421.8,13.638999999999999,101.64,1.9048,0,0,0,0,0,86.53,87.14,87.77,87.12,87.22,86.81,1.4837,0,0]
["pCO2",36.808843332999999,-121.850015,"2013-05-20T13:31:02Z","2013-05-20T12:31:16",282.33,13.067,84.881,277.38,13.135999999999999,102.09,1.9044000000000001,0.95445000000000002,13.313000000000001,92.811999999999998,1.0570999999999999,13.343,101.28,428.87,13.521000000000001,87.102999999999994,422.87,13.58,101.62,1.8989,0,0,0,0,0,86.5,86.3,86.23,86.18,86.04,85.57,1.4833000000000001,0,0]
["pCO2",36.809255,-121.850365,"2013-05-20T14:31:02Z","2013-05-20T13:31:16",284.45,12.997999999999999,85.352000000000004,278.79000000000002,13.067,102.67,1.8978999999999999,0.88466999999999996,13.254,93.525000000000006,1.1051,13.284000000000001,101.43,424.89,13.451000000000001,87.197000000000003,418.68,13.510999999999999,101.67,1.8909,0,0,0,0,0,86.13,86.01,86.01,86.39,86.25,86.62,1.4829000000000001,0,0]
["pCO2",36.808349999999997,-121.84983333300001,"2013-05-20T15:31:02Z","2013-05-20T14:31:18",278.07,12.988,84.180999999999997,272.64999999999998,13.057,101.6,1.9126000000000001,0.76288,13.234,92.394000000000005,1.0102,13.263999999999999,100.9,432.44,13.442,87.116,426.5,13.500999999999999,101.7,1.9029,0,0,0,0,0,86.74,87,87.2,87.68,87.84,87.42,1.4826999999999999,0,0]
["pCO2",36.807888333000001,-121.849101667,"2013-05-20T16:31:01Z","2013-05-20T15:31:16",278.38,13.057,85.028999999999996,272.8,13.116,102.75,1.9226000000000001,0.61214999999999997,13.313000000000001,93.108000000000004,1.0886,13.333,101.05,424.79,13.521000000000001,87.061999999999998,419.08,13.58,101.68,1.9071,0,0,0,0,0,87.34,87.47,87.79,88.09,88.14,88.59,1.4813000000000001,0,0]
["pCO2",36.798605000000002,-121.84722499999999,"2013-05-20T17:31:02Z","2013-05-20T16:31:16",258.83999999999997,13.510999999999999,85.069000000000003,254.01,13.59,102.82,1.9348000000000001,0.42706,13.778,93.228999999999999,0.80913000000000002,13.807,101.4,427.98,13.986000000000001,86.914000000000001,422.12,14.055999999999999,101.67,1.9186000000000001,0,0,0,0,0,88.82,89.4,89.65,91.13,91.84,92.12,1.4748000000000001,0,0]
["pCO2",36.795858332999998,-121.86417166699999,"2013-05-20T18:31:02Z","2013-05-20T17:31:16",229.66,14.374000000000001,85.472999999999999,224.86,14.444000000000001,102.82,1.9449000000000001,0.29791000000000001,14.644,93.403999999999996,0.40295999999999998,14.673999999999999,101.4,429.66,14.864000000000001,86.757999999999996,423.85,14.933999999999999,101.67,1.9358,0,0,0,0,0,92.22,92.11,92.03,91.61,90.75,89.5,1.4706999999999999,0,0]
["pCO2",36.794053333000001,-121.87522166700001,"2013-05-20T19:31:02Z","2013-05-20T18:31:16",247.98,14.404,84.584999999999994,243.4,14.464,101.93,1.9414,0.56064999999999998,14.634,92.730999999999995,0.58521000000000001,14.664,100.78,425.28,14.814,87.143000000000001,419.22,14.874000000000001,101.68,1.9319,0,0,0,0,0,88.65,89.35,89.38,89.33,89.7,89.48,1.4913000000000001,0,0]
["pCO2",36.792193333,-121.88660166699999,"2013-05-20T20:31:03Z","2013-05-20T19:31:16",249.17,13.877000000000001,85.11,244.73,13.936,102.21,1.9274,0.55091999999999997,14.105,92.838999999999999,0.81157999999999997,14.135,101.12,415.6,14.304,87.102999999999994,409.59,14.353999999999999,101.67,1.9157999999999999,0,0,0,0,0,89.55,89.22,89.47,89.93,89.59,90.61,1.4862,0,0]
["pCO2",36.791303333000002,-121.89269,"2013-05-20T21:31:02Z","2013-05-20T20:31:19",221.25,13.54,84.691999999999993,217.43,13.609,101.89,1.9297,0.61495999999999995,13.788,92.555999999999997,1.0696000000000001,13.817,101.04,416.55,13.986000000000001,87.156999999999996,410.62,14.055999999999999,101.68,1.9177,0,0,0,0,0,90.97,91.73,91.49,90.85,89.1,89.77,1.4833000000000001,0,0]
["pCO2",36.790113333000001,-121.899248333,"2013-05-20T22:31:02Z","2013-05-20T21:31:16",228.77,13.491,84.341999999999999,225.25,13.57,101.7,1.927,0.59575,13.747999999999999,92.421000000000006,0.82342000000000004,13.778,100.94,415.39,13.946,87.022000000000006,409.75,14.016,101.63,1.9184000000000001,0,0,0,0,0,90.29,90.63,90.13,90.46,90.29,89.37,1.4802,0,0]
["pCO2",36.789389999999997,-121.90423333299999,"2013-05-20T23:31:03Z","2013-05-20T22:31:16",255.95,13.471,84.302000000000007,250.91,13.54,101.48,1.9180999999999999,0.82467000000000001,13.718,92.326999999999998,1.0032000000000001,13.738,100.61,414.45,13.917,86.995000000000005,409.03,13.976000000000001,101.54,1.9137,0,0,0,0,0,89.04,88.63,88.17,87.99,86.98,87.67,1.4815,0,0]
["pCO2",36.788119999999999,-121.91224,"2013-05-21T00:31:02Z","2013-05-20T23:31:18",264.86,13.215,84.275000000000006,260.56,13.273999999999999,101.44,1.9167000000000001,0.60163,13.451000000000001,92.313999999999993,0.99373,13.481,100.31,414.43,13.648999999999999,86.698999999999998,408.58,13.708,101.47,1.9174,0,0,0,0,0,88.18,88.01,87.61,88.45,88.35,88.81,1.4843,0,0]
["pCO2",36.786283333,-121.923426667,"2013-05-21T01:31:02Z","2013-05-21T00:31:17",258.57,13.125999999999999,83.992000000000004,254.98,13.195,100.74,1.9136,0.71745000000000003,13.372,91.95,0.78702000000000005,13.401999999999999,100.46,413.78,13.57,86.846999999999994,408.35,13.638999999999999,101.42,1.9119999999999999,0,0,0,0,0,89.01,88.29,86.84,86.22,85.45,84.45,1.4821,0,0]
["pCO2",36.783911666999998,-121.938551667,"2013-05-21T02:31:01Z","2013-05-21T01:31:16",315.61,12.988,83.641999999999996,309.42,13.057,100.51,1.8997999999999999,0.87577000000000005,13.234,91.760999999999996,1.1233,13.263999999999999,100.02,412.57,13.432,86.753,407.45,13.491,101.38,1.9046000000000001,0,0,0,0,0,83.73,83.15,83.58,83.06,83.86,83.07,1.4839,0,0]
["pCO2",36.781485000000004,-121.95371666699999,"2013-05-21T03:31:03Z","2013-05-21T02:31:16",339.29,12.792,83.816999999999993,332.91,12.861000000000001,100.53,1.9080999999999999,0.97033000000000003,13.038,91.869,1.1338999999999999,13.067,99.881,413.89,13.234,86.82,407.9,13.294,101.42,1.9056,0,0,0,0,0,82.39,82.31,80.94,79.95,78.349999999999994,75.489999999999995,1.4832000000000001,0,0]
["pCO2",36.779404999999997,-121.967391667,"2013-05-21T04:31:04Z","2013-05-21T03:31:17",473.81,12.497999999999999,83.683000000000007,464.32,12.567,100.06,1.9087000000000001,1.0738000000000001,12.743,91.465000000000003,1.6209,12.773,99.947999999999993,413.49,12.93,86.725999999999999,408.05,12.989000000000001,101.47,1.9048,0,0,0,0,0,72.53,74.09,74.44,75.06,75.930000000000007,76.52,1.4844999999999999,0,0]
["pCO2",36.776298333,-121.986741667,"2013-05-21T05:31:02Z","2013-05-21T04:31:18",539.83000000000004,12.313000000000001,84.006,544.14,12.371,100.81,1.897,1.3927,12.547000000000001,91.95,1.3592,12.577,100.16,414.06,12.743,86.980999999999995,408.48,12.802,101.55,1.8888,0,0,0,0,0,75.08,67.45,66.400000000000006,66.08,65.650000000000006,65.02,1.4778,0,0]
["pCO2",36.773195000000001,-122.005493333,"2013-05-21T06:31:02Z","2013-05-21T05:31:16",688.03,11.757999999999999,82.83,676.48,11.826000000000001,100.85,1.8754999999999999,1.5851999999999999,12.000999999999999,91.707999999999998,1.8188,12.03,100.26,414.52,12.186,86.753,408.75,12.254,101.62,1.8794999999999999,102.75,406.82,12.459,101.6,1.7427999999999999,64.760000000000005,65.03,65.62,66.34,66.680000000000007,67.25,1.4853000000000001,0,0]
["pCO2",36.770571666999999,-122.02210833300001,"2013-05-21T07:31:02Z","2013-05-21T06:31:16",617.16999999999996,11.622,81.272000000000006,607.86,11.69,101.51,1.8697999999999999,1.6660999999999999,11.865,92.191999999999993,1.877,11.894,100.18,414.4,12.069000000000001,86.658000000000001,408.31,12.137,101.59,1.871,0,0,0,0,0,67.98,68.36,68.930000000000007,68.92,68.989999999999995,69.05,1.4810000000000001,0,0]
["pCO2",36.767926666999998,-122.03841166700001,"2013-05-21T08:31:02Z","2013-05-21T07:31:16",579.66999999999996,11.593,82.471000000000004,568.61,11.651,102.86,1.8734999999999999,1.5084,11.835000000000001,92.852000000000004,1.7396,11.865,101.07,414.05,12.04,86.980999999999995,408.1,12.098000000000001,101.58,1.8652,0,0,0,0,0,69.58,69.430000000000007,69.86,69.959999999999994,70.14,70.239999999999995,1.4776,0,0]
["pCO2",36.765168332999998,-122.05594499999999,"2013-05-21T09:31:02Z","2013-05-21T08:31:16",552.66999999999996,11.573,82.564999999999998,542.77,11.651,102.59,1.8646,1.7748999999999999,11.826000000000001,93.067999999999998,1.8078000000000001,11.855,101.17,412.83,12.03,86.941000000000003,407.05,12.098000000000001,101.54,1.861,0,0,0,0,0,70.58,70.88,71.45,71.849999999999994,71.900000000000006,70.72,1.4761,0,0]
["pCO2",36.761521666999997,-122.07868000000001,"2013-05-21T10:31:02Z","2013-05-21T09:31:16",588.12,11.651,82.548000000000002,578.04999999999995,11.718999999999999,102.67,1.8664000000000001,1.6620999999999999,11.903,93.054000000000002,1.6877,11.933,101.33,412.44,12.098000000000001,87.007999999999996,406.94,12.157,101.54,1.8574999999999999,0,0,0,0,0,69.739999999999995,68.989999999999995,68.58,68.91,68.7,68.73,1.4774,0,0]
["pCO2",36.757586666999998,-122.10298,"2013-05-21T11:31:03Z","2013-05-21T10:31:16",604.33000000000004,11.563000000000001,82.911000000000001,593.66999999999996,11.631,102.69,1.8651,1.5029999999999999,11.805999999999999,93.108000000000004,1.7941,11.835000000000001,101.43,413.31,12.010999999999999,86.941000000000003,407.04,12.079000000000001,101.52,1.8584000000000001,0,0,0,0,0,68.319999999999993,68.25,67.900000000000006,66.31,66.84,67.2,1.4782,0,0]
["pCO2",36.753816667000002,-122.126851667,"2013-05-21T12:31:03Z","2013-05-21T11:31:18",625.16999999999996,11.476000000000001,82.793999999999997,614.14,11.544,102.74,1.871,1.5713999999999999,11.728,93.188999999999993,1.8003,11.757999999999999,101.29,412.91,11.923,87.034999999999997,407.41,11.981,101.55,1.8596999999999999,0,0,0,0,0,67.45,67.680000000000007,67.849999999999994,67.92,67.98,67.95,1.4777,0,0]
["pCO2",36.750313333000001,-122.14855666699999,"2013-05-21T13:31:03Z","2013-05-21T12:31:17",618.02,11.505000000000001,83.197999999999993,607.86,11.573,102.91,1.8669,1.7116,11.747999999999999,93.120999999999995,2.0024000000000002,11.776999999999999,101.28,414.05,11.952,86.968000000000004,407.73,12.02,101.6,1.8631,0,0,0,0,0,67.88,68.03,68.069999999999993,68.209999999999994,68.39,68.5,1.4769000000000001,0,0]
["pCO2",36.746928333,-122.169441667,"2013-05-21T14:31:02Z","2013-05-21T13:31:16",602.63,11.563000000000001,83.224999999999994,592.42999999999995,11.622,102.76,1.8660000000000001,1.6463000000000001,11.805999999999999,93.418000000000006,1.8677999999999999,11.835000000000001,101.51,414.65,12.010999999999999,87.049000000000007,408.87,12.079000000000001,101.64,1.8602000000000001,0,0,0,0,0,68.61,68.709999999999994,68.78,68.61,68.33,68.17,1.4769000000000001,0,0]
["pCO2",36.743871667000001,-122.188183333,"2013-05-21T15:31:04Z","2013-05-21T14:31:16",604.29999999999995,11.544,82.75,592.64,11.612,102.74,1.8779999999999999,1.7039,11.787000000000001,93.27,1.7599,11.816000000000001,101.82,415.31,11.991,87.251000000000005,409.21,12.058999999999999,101.7,1.8648,0,0,0,0,0,68.44,68.78,68.959999999999994,69.260000000000005,69.59,69.86,1.4775,0,0]
["pCO2",36.739215000000002,-122.19595,"2013-05-21T16:31:04Z","2013-05-21T15:31:18",592.42999999999995,11.651,81.757000000000005,581.15,11.718999999999999,101.4,1.8688,1.5284,11.903,92.784999999999997,1.5563,11.933,101.08,414.13,12.108000000000001,86.968000000000004,408.38,12.166,101.74,1.871,0,0,0,0,0,69.75,69.42,68.66,66.88,66.84,67.05,1.4731000000000001,0,0]
["pCO2",36.735263332999999,-122.19083500000001,"2013-05-21T17:31:02Z","2013-05-21T16:31:18",634.14,11.573,83.44,621.6,11.631,102.88,1.8734999999999999,1.6944999999999999,11.816000000000001,93.62,1.9127000000000001,11.835000000000001,102.02,414.26,12.010999999999999,86.778999999999996,408.28,12.079000000000001,101.82,1.8794,0,0,0,0,0,67.28,67.42,67.400000000000006,67.37,67.55,67.34,1.4778,0,0]
["pCO2",36.733429999999998,-122.18145833299999,"2013-05-21T18:31:03Z","2013-05-21T17:31:16",631.55999999999995,11.496,82.534000000000006,620.39,11.554,102.65,1.8775999999999999,1.5311999999999999,11.747999999999999,93.188999999999993,1.9246000000000001,11.776999999999999,101.2,413.51,11.942,87.13,407.82,12.000999999999999,101.83,1.8743000000000001,0,0,0,0,0,67.31,67.3,67.040000000000006,67.13,67.31,67.37,1.4757,0,0]
["pCO2",36.732126667000003,-122.174375,"2013-05-21T19:31:02Z","2013-05-21T18:31:16",649.84,11.476000000000001,82.426000000000002,639.16,11.544,102.04,1.8712,1.4308000000000001,11.728,92.664000000000001,1.8288,11.757999999999999,101.01,414.01,11.923,86.900999999999996,407.88,11.991,101.87,1.8727,0,0,0,0,0,66.959999999999994,66.819999999999993,66.28,66.2,66.39,66.58,1.4741,0,0]
["pCO2",36.731756666999999,-122.16853,"2013-05-21T20:31:03Z","2013-05-21T19:31:16",655.78,11.457000000000001,82.548000000000002,640.61,11.534000000000001,101.94,1.8720000000000001,1.536,11.709,93.054000000000002,1.8126,11.738,101.38,414.2,11.913,87.061999999999998,408.19,11.972,101.87,1.8758999999999999,0,0,0,0,0,66.680000000000007,66.540000000000006,66.489999999999995,66.349999999999994,66.599999999999994,66.63,1.4735,0,0]
["pCO2",36.731618333,-122.165838333,"2013-05-21T21:31:02Z","2013-05-21T20:31:16",664.75,11.465999999999999,81.986000000000004,653.4,11.534000000000001,100.66,1.8668,1.6879,11.709,92.058000000000007,2.0217999999999998,11.738,100.19,414.55,11.913,87.143000000000001,408.87,11.972,101.86,1.8675999999999999,0,0,0,0,0,66.61,66.53,66.33,66.3,66.599999999999994,66.83,1.4734,0,0]
["pCO2",36.734830000000002,-122.165213333,"2013-05-21T22:31:02Z","2013-05-21T21:31:16",655.24,11.486000000000001,81.945999999999998,644.91,11.554,100.68,1.8615999999999999,1.7173,11.728,91.775000000000006,1.7927,11.757999999999999,100.34,414.57,11.942,87.075999999999993,408.55,11.991,101.82,1.8682000000000001,0,0,0,0,0,66.900000000000006,66.849999999999994,66.78,66.64,66.67,66.739999999999995,1.4731000000000001,0,0]
["pCO2",36.741003333000002,-122.163791667,"2013-05-21T23:31:03Z","2013-05-21T22:31:16",657.46,11.496,82.013000000000005,645.74,11.563000000000001,100.63,1.8694999999999999,1.6167,11.747999999999999,92.031000000000006,1.9205000000000001,11.776999999999999,99.988,414.09,11.942,86.914000000000001,408.36,12.000999999999999,101.77,1.8702000000000001,0,0,0,0,0,66.78,66.89,66.87,66.73,66.599999999999994,66.5,1.4730000000000001,0,0]
["pCO2",36.735556666999997,-122.15975,"2013-05-22T00:31:04Z","2013-05-21T23:31:17",667.88,11.486000000000001,81.905000000000001,655.9,11.554,100.78,1.8649,1.6836,11.747999999999999,92.623000000000005,1.7509999999999999,11.766999999999999,100.73,414.28,11.942,86.805999999999997,408.26,12.000999999999999,101.7,1.8762000000000001,0,0,0,0,0,66.39,66.48,66.48,66.5,66.27,66.13,1.4725999999999999,0,0]
["pCO2",36.724081667,-122.166433333,"2013-05-22T01:31:02Z","2013-05-22T00:31:17",673.41,11.446999999999999,81.945999999999998,661.05,11.515000000000001,100.51,1.8694999999999999,1.8130999999999999,11.699,91.977000000000004,1.9350000000000001,11.718999999999999,100.38,414.43,11.894,86.927999999999997,408.39,11.962,101.68,1.8725000000000001,0,0,0,0,0,66.33,66.59,66.959999999999994,66.349999999999994,66.47,66.19,1.4737,0,0]
["pCO2",36.723531667000003,-122.18264000000001,"2013-05-22T02:31:03Z","2013-05-22T01:31:16",668.21,11.398999999999999,81.147999999999996,655.4,11.465999999999999,100.37,1.8701000000000001,1.7453000000000001,11.651,91.465000000000003,1.89,11.68,99.462999999999994,414.55,11.845000000000001,86.698999999999998,408.3,11.913,101.64,1.8764000000000001,0,0,0,0,0,66.87,66.55,66.44,66.510000000000005,67.400000000000006,67.98,1.4731000000000001,0,0]
["pCO2",36.723268333,-122.19031,"2013-05-22T03:31:03Z","2013-05-22T02:31:16",625.63,11.436999999999999,80.894999999999996,613.08000000000004,11.505000000000001,101.16,1.869,1.6415,11.69,92.394000000000005,1.7404999999999999,11.718999999999999,100.37,414.39,11.894,87.022000000000006,408.11,11.952,101.68,1.8677999999999999,0,0,0,0,0,68.02,68.02,68.569999999999993,68.5,68.44,68.37,1.4703999999999999,0,0]
["pCO2",36.723005000000001,-122.190018333,"2013-05-22T04:31:03Z","2013-05-22T03:31:16",619.80999999999995,11.544,81.069999999999993,608.79999999999995,11.612,100.76,1.8707,1.5893999999999999,11.795999999999999,92.004000000000005,1.6501999999999999,11.816000000000001,100.5,414.96,11.991,87.17,408.58,12.058999999999999,101.68,1.8620000000000001,0,0,0,0,0,68.569999999999993,68.48,68.77,70.290000000000006,69.069999999999993,69.09,1.4715,0,0]
["pCO2",36.723035000000003,-122.18512333300001,"2013-05-22T05:31:03Z","2013-05-22T04:31:16",627.57000000000005,11.631,81.066999999999993,615.71,11.699,100.82,1.8680000000000001,1.6418999999999999,11.884,92.138000000000005,1.8917999999999999,11.913,100.58,414.8,12.087999999999999,86.887,408.67,12.137,101.79,1.8705000000000001,102.92,406.6,12.362,101.77,1.7270000000000001,68.239999999999995,67.86,67.73,70.16,70.180000000000007,69.36,1.4721,0,0]
["pCO2",36.723418332999998,-122.183856667,"2013-05-22T06:31:04Z","2013-05-22T05:31:17",621.13,11.738,82.025999999999996,610.80999999999995,11.805999999999999,102.57,1.8727,1.6605000000000001,11.981,92.986999999999995,1.7842,12.01,100.96,414.6,12.186,86.954999999999998,408.41,12.234999999999999,101.77,1.8685,0,0,0,0,0,68.47,67.400000000000006,67.180000000000007,66.77,66.66,67.3,1.4715,0,0]
["pCO2",36.723026666999999,-122.19922,"2013-05-22T07:31:03Z","2013-05-22T06:31:17",646.39,11.525,80.989999999999995,635.32000000000005,11.593,101.91,1.8689,1.6325000000000001,11.766999999999999,92.528999999999996,1.9587000000000001,11.795999999999999,100.89,414.35,11.972,86.753,408.59,12.03,101.75,1.8711,0,0,0,0,0,67.3,67.150000000000006,66.97,66.930000000000007,67.42,67.67,1.4721,0,0]
["pCO2",36.721978333000003,-122.226203333,"2013-05-22T08:31:02Z","2013-05-22T07:31:16",627.47,11.476000000000001,80.837999999999994,617.78,11.544,100.42,1.8606,1.5654999999999999,11.728,92.191999999999993,1.8818999999999999,11.757999999999999,100.61,414.67,11.923,86.739000000000004,408.17,11.991,101.78,1.8664000000000001,0,0,0,0,0,67.75,68.260000000000005,68.53,68.900000000000006,69.34,69.55,1.4717,0,0]
["pCO2",36.720951667000001,-122.25709999999999,"2013-05-22T09:31:03Z","2013-05-22T08:31:16",573.04,11.544,80.801000000000002,566.27,11.612,100.55,1.8603000000000001,1.514,11.805999999999999,92.218999999999994,1.7907,11.826000000000001,100.8,414.52,12.000999999999999,86.846999999999994,408.17,12.058999999999999,101.71,1.8633999999999999,0,0,0,0,0,70.069999999999993,70.47,70.77,71.12,71.709999999999994,71.930000000000007,1.4715,0,0]
["pCO2",36.719916667,-122.284785,"2013-05-22T10:31:03Z","2013-05-22T09:31:16",540.32000000000005,11.69,80.245999999999995,531.41999999999996,11.757999999999999,101.59,1.8568,1.4835,11.942,91.802000000000007,1.6736,11.972,100.16,414.97,12.147,86.846999999999994,409.44,12.205,101.7,1.8605,0,0,0,0,0,71.78,71.66,71.14,70.5,70.98,70.349999999999994,1.4724999999999999,0,0]
["pCO2",36.719071667000001,-122.30629999999999,"2013-05-22T11:31:04Z","2013-05-22T10:31:17",566.1,11.67,80.716999999999999,554.54,11.747999999999999,100.76,1.8591,1.5279,11.923,92.34,1.7122999999999999,11.952,100.92,415.14,12.118,87.061999999999998,409.88,12.176,101.66,1.8573,0,0,0,0,0,70.05,70.7,70.8,70.73,70.39,69.459999999999994,1.4735,0,0]
["pCO2",36.718591666999998,-122.32303,"2013-05-22T12:31:03Z","2013-05-22T11:31:16",606.77,11.583,80.811000000000007,594.1,11.651,100.42,1.8587,1.7273000000000001,11.826000000000001,92.771000000000001,1.8696999999999999,11.855,100.93,416.05,12.03,87.034999999999997,409.76,12.087999999999999,101.67,1.8545,0,0,0,0,0,68.989999999999995,68.48,66.459999999999994,65.489999999999995,64.709999999999994,63.78,1.4731000000000001,0,0]
["pCO2",36.718003332999999,-122.338256667,"2013-05-22T13:31:03Z","2013-05-22T12:31:16",716.34,11.234,81.349999999999994,703.41,11.292,100.97,1.8517999999999999,1.8952,11.476000000000001,91.855999999999995,2.0207000000000002,11.496,100.41,416.75,11.661,86.644999999999996,409.95,11.718999999999999,101.68,1.8573999999999999,0,0,0,0,0,64.11,64.41,64.790000000000006,65.02,65.58,65.849999999999994,1.4761,0,0]
["pCO2",36.715113332999998,-122.35718166700001,"2013-05-22T14:31:03Z","2013-05-22T13:31:16",673.66,11.05,80.989999999999995,662.27,11.118,101.32,1.8554999999999999,1.6963999999999999,11.302,92.058000000000007,1.7613000000000001,11.331,100.59,416.51,11.505000000000001,86.617999999999995,410.13,11.564,101.75,1.8604000000000001,0,0,0,0,0,66.010000000000005,66.25,66.459999999999994,66.849999999999994,66.92,67.08,1.4714,0,0]
["pCO2",36.697369999999999,-122.379218333,"2013-05-22T15:31:03Z","2013-05-22T14:31:17",643.1,11.128,81.043999999999997,631.47,11.195,101.05,1.8537999999999999,1.5066999999999999,11.379,92.058000000000007,1.9722,11.407999999999999,100.38,415.69,11.583,86.82,409.93,11.641,101.71,1.8553999999999999,0,0,0,0,0,67.28,67.55,67.89,68.2,68.44,68.69,1.4704999999999999,0,0]
["pCO2",36.701336667,-122.37289666700001,"2013-05-22T16:31:03Z","2013-05-22T15:31:16",607.29999999999995,11.244,80.891999999999996,596.76,11.311,100.93,1.8597999999999999,1.6369,11.496,91.95,1.8593,11.525,100.45,415.78,11.699,87.156999999999996,409.4,11.757999999999999,101.78,1.8520000000000001,0,0,0,0,0,68.97,68.900000000000006,68.61,68.84,68.739999999999995,68.66,1.4698,0,0]
["pCO2",36.707178333000002,-122.366275,"2013-05-22T17:31:03Z","2013-05-22T16:31:16",605.30999999999995,11.311,79.36,592.15,11.388999999999999,100.63,1.8575999999999999,1.6319999999999999,11.573,92.031000000000006,1.8382000000000001,11.602,100.07,415.96,11.766999999999999,87.102999999999994,410.11,11.835000000000001,101.81,1.8502000000000001,0,0,0,0,0,68.87,68.94,69.010000000000005,68.97,68.900000000000006,68.849999999999994,1.47,0,0]
["pCO2",36.713418333,-122.35893166699999,"2013-05-22T18:31:04Z","2013-05-22T17:31:16",612.77,11.36,62.719000000000001,596.62,11.436999999999999,100.26,1.8369,1.7067000000000001,11.612,91.572999999999993,1.7021999999999999,11.641,99.409000000000006,415.68,11.816000000000001,87.224000000000004,409.45,11.884,101.85,1.8107,0,0,0,0,0,68.98,69,68.78,68.91,69.13,69.22,1.4702999999999999,0,0]
["pCO2",36.718383332999998,-122.348085,"2013-05-22T19:31:04Z","2013-05-22T18:31:16",587.63,11.388999999999999,79.36,576.19000000000005,11.457000000000001,103.1,1.8613,1.5004,11.651,93,1.671,11.68,101.58,415.23,11.845000000000001,86.968000000000004,409.15,11.904,101.81,1.8509,0,0,0,0,0,69.290000000000006,69.260000000000005,69.3,69.31,69.489999999999995,69.510000000000005,1.47,0,0]
["pCO2",36.721068332999998,-122.33125666700001,"2013-05-22T20:31:02Z","2013-05-22T19:31:17",587.42999999999995,11.428000000000001,78.795000000000002,575.9,11.496,102.78,1.8581000000000001,1.6656,11.68,93.040999999999997,1.5345,11.709,101.04,415.36,11.884,86.980999999999995,409.05,11.942,101.75,1.8493999999999999,0,0,0,0,0,69.319999999999993,69.400000000000006,69.319999999999993,69.27,69.47,69.37,1.4693000000000001,0,0]
["pCO2",36.723641667000003,-122.314056667,"2013-05-22T21:31:04Z","2013-05-22T20:31:16",604.01,11.457000000000001,78,589.99,11.515000000000001,100.85,1.8402000000000001,1.5429999999999999,11.709,92.111999999999995,1.7439,11.738,100.49,414.8,11.903,86.927999999999997,408.23,11.962,101.71,1.8443000000000001,0,0,0,0,0,69.180000000000007,68.819999999999993,68.510000000000005,68.31,67.7,67.510000000000005,1.4689000000000001,0,0]
["pCO2",36.726211667000001,-122.298013333,"2013-05-22T22:31:03Z","2013-05-22T21:31:16",624.71,11.388999999999999,50.518999999999998,600.85,11.457000000000001,98.695999999999998,1.7685,1.7664,11.641,90.9,1.7547999999999999,11.661,99.126999999999995,414.76,11.835000000000001,86.698999999999998,408.74,11.904,101.77,1.7523,0,0,0,0,0,67.39,67.08,66.709999999999994,66.62,66.430000000000007,66.44,1.4710000000000001,0,0]
["pCO2",36.728893333000002,-122.280733333,"2013-05-22T23:31:02Z","2013-05-22T22:31:17",569.30999999999995,11.292,54.777000000000001,546.70000000000005,11.36,102.01,1.62,1.4594,11.534000000000001,91.99,1.8504,11.563000000000001,100.88,413.99,11.738,86.524000000000001,408.15,11.805999999999999,101.71,1.6816,0,0,0,0,0,66.349999999999994,66.099999999999994,65.88,65.81,65.77,65.7,1.4711000000000001,0,0]
["pCO2",36.731678332999998,-122.26354000000001,"2013-05-23T00:31:04Z","2013-05-22T23:31:16",566.77,11.186,55.850999999999999,542.67999999999995,11.253,103.37,1.6254999999999999,1.7201,11.436999999999999,93.27,1.9986999999999999,11.467000000000001,102.09,414.3,11.641,86.376000000000005,408.18,11.699,101.68,1.69,0,0,0,0,0,65.62,65.58,65.37,65.400000000000006,65.459999999999994,65.14,1.4701,0,0]
["pCO2",36.734430000000003,-122.24612,"2013-05-23T01:31:04Z","2013-05-23T00:31:16",556.79999999999995,11.118,56.674999999999997,534.28,11.186,103.58,1.6388,1.704,11.36,93.512,1.8283,11.388999999999999,101.79,414.62,11.564,86.415999999999997,408.47,11.631,101.63,1.6923999999999999,0,0,0,0,0,65.06,64.900000000000006,64.680000000000007,64.430000000000007,64.180000000000007,63.79,1.4695,0,0]
["pCO2",36.736873332999998,-122.230705,"2013-05-23T02:31:05Z","2013-05-23T01:31:17",723.62,11.021000000000001,56.74,697,11.089,101.37,1.6315999999999999,1.8713,11.273,92.542000000000002,1.9326000000000001,11.292,100.5,414.32,11.467000000000001,87.546999999999997,408.67,11.525,101.62,1.6621999999999999,0,0,0,0,0,63.79,63.64,63.45,63.53,63.38,63.36,1.4701,0,0]
["pCO2",36.738765000000001,-122.21771,"2013-05-23T03:31:05Z","2013-05-23T02:31:16",617.77,10.925000000000001,57.55,592.4,10.992000000000001,104.08,1.6458999999999999,2.0911,11.166,93.498000000000005,1.9411,11.195,101.99,414.5,11.37,86.524000000000001,408.26,11.436999999999999,101.62,1.6924999999999999,0,0,0,0,0,62.66,63.2,63.03,63.02,63.56,63.71,1.4715,0,0]
["pCO2",36.740850000000002,-122.20411166700001,"2013-05-23T04:31:03Z","2013-05-23T03:31:16",603.98,10.867000000000001,36.670999999999999,602.87,10.933999999999999,36.752000000000002,1.6234,2.7730999999999999,11.128,59.405999999999999,2.6614,11.147,66.528999999999996,418.04,11.331,86.483000000000004,411.68,11.388999999999999,101.62,1.5602,102.78,407,11.612,101.6,1.4435,63.72,63.74,63.55,63.45,63.2,63.33,1.4686999999999999,0,0]
["pCO2",36.743088333000003,-122.190845,"2013-05-23T05:31:04Z","2013-05-23T04:31:16",441.86,10.944000000000001,36.563000000000002,440.4,11.012,36.866,1.6361000000000001,3.3534999999999999,11.186,52.04,2.6623999999999999,11.215,58.408999999999999,416.04,11.388999999999999,86.968000000000004,410.04,11.446999999999999,101.62,1.5376000000000001,0,0,0,0,0,63.23,63.22,62.97,62.75,62.45,62.19,1.4695,0,0]
["pCO2",36.745631666999998,-122.174685,"2013-05-23T06:31:04Z","2013-05-23T05:31:16",437.11,10.819000000000001,36.523000000000003,436.33,10.877000000000001,36.569000000000003,1.6384000000000001,3.3643000000000001,11.07,49.643999999999998,2.9500999999999999,11.099,55.823999999999998,415.85,11.273,86.887,409.2,11.331,101.64,1.5383,0,0,0,0,0,61.85,61.55,61.34,60.99,60.7,60.47,1.4706999999999999,0,0]
["pCO2",36.748440000000002,-122.15631500000001,"2013-05-23T07:31:04Z","2013-05-23T06:31:16",439.98,10.673999999999999,36.414999999999999,438.23,10.742000000000001,36.65,1.6295999999999999,3.0831,10.925000000000001,48.715000000000003,3.1663999999999999,10.954000000000001,54.774000000000001,416.29,11.128,86.900999999999996,409.95,11.186,101.6,1.5354000000000001,0,0,0,0,0,60.29,60.25,60.01,59.99,59.93,59.74,1.4718,0,0]
["pCO2",36.752201667000001,-122.13256666700001,"2013-05-23T08:31:04Z","2013-05-23T07:31:16",438.46,10.558999999999999,36.523000000000003,438.97,10.625999999999999,36.576999999999998,1.6271,3.4885000000000002,10.798999999999999,48.634,2.9862000000000002,10.827999999999999,54.68,415.48,11.012,87.088999999999999,409.34,11.07,101.66,1.5318000000000001,0,0,0,0,0,59.58,59.68,59.4,59.09,59.3,59.26,1.4716,0,0]
["pCO2",36.756131666999998,-122.10751,"2013-05-23T09:31:05Z","2013-05-23T08:31:16",439.14,10.462,36.590000000000003,437.58,10.53,36.825000000000003,1.6346000000000001,3.4095,10.722,48.808999999999997,3.3085,10.750999999999999,54.801000000000002,416.67,10.925000000000001,87.022000000000006,410.13,10.983000000000001,101.66,1.5316000000000001,0,0,0,0,0,59.04,59.04,59,58.93,58.78,58.52,1.4706999999999999,0,0]
["pCO2",36.759671666999999,-122.08445,"2013-05-23T10:31:05Z","2013-05-23T09:31:16",440.69,10.395,36.442,438.71,10.462,36.563000000000002,1.6372,3.5415000000000001,10.645,48.436,3.2248999999999999,10.673999999999999,54.518000000000001,417.03,10.848000000000001,87.007999999999996,410.72,10.906000000000001,101.6,1.524,0,0,0,0,0,58.12,58.03,57.89,57.57,59.56,59.73,1.4714,0,0]
["pCO2",36.763170000000002,-122.06313166699999,"2013-05-23T11:31:05Z","2013-05-23T10:31:16",439.09,10.308,36.509,438.45,10.375999999999999,36.616999999999997,1.6617999999999999,4.1623999999999999,10.568,48.392000000000003,3.4539,10.597,54.533999999999999,417.79,10.771000000000001,86.725999999999999,411.54,10.837999999999999,101.62,1.5341,0,0,0,0,0,61.39,62.02,62.25,62.49,62.49,62.65,1.4702999999999999,0,0]
["pCO2",36.766813333000002,-122.03852999999999,"2013-05-23T12:31:05Z","2013-05-23T11:31:17",439.36,10.491,36.536000000000001,438.9,10.558999999999999,36.542999999999999,1.7002999999999999,3.3412000000000002,10.742000000000001,47.759,3.3986999999999998,10.771000000000001,53.911999999999999,416.66,10.954000000000001,86.846999999999994,410.45,11.012,101.62,1.5430999999999999,0,0,0,0,0,63.16,64.11,64.16,64.33,64.3,64.25,1.4686999999999999,0,0]
["pCO2",36.770983332999997,-122.01252833300001,"2013-05-23T13:31:05Z","2013-05-23T12:31:17",438.88,10.645,34.988,438.76,10.702999999999999,35.204000000000001,1.7170000000000001,3.6433,10.896000000000001,47.597000000000001,3.3961999999999999,10.925000000000001,53.32,416.81,11.108000000000001,86.793000000000006,410.23,11.166,101.66,1.5481,0,0,0,0,0,64.5,65.05,65.23,65.739999999999995,66.11,66.069999999999993,1.4686999999999999,0,0]
["pCO2",36.775055000000002,-121.986438333,"2013-05-23T14:31:05Z","2013-05-23T13:31:16",440.21,10.731999999999999,36.442,438.75,10.798999999999999,36.622999999999998,1.7222,3.0733000000000001,10.992000000000001,48.378,2.9415,11.021000000000001,54.463999999999999,415.95,11.195,86.900999999999996,408.98,11.253,101.66,1.5496000000000001,0,0,0,0,0,65.849999999999994,65.599999999999994,65.36,65.010000000000005,64.92,65.22,1.4673,0,0]
["pCO2",36.778756667000003,-121.96306166700001,"2013-05-23T15:31:04Z","2013-05-23T14:31:16",437.74,10.712999999999999,36.515999999999998,437.73,10.78,36.569000000000003,1.6927000000000001,3.6274000000000002,10.954000000000001,47.947000000000003,3.1408,10.983000000000001,54.046999999999997,414.91,11.166,86.725999999999999,408.42,11.224,101.7,1.5502,0,0,0,0,0,65.58,66.459999999999994,67.010000000000005,67.25,67.599999999999994,67.87,1.4696,0,0]

{"sheet":"pH_Proc","index":2,"n_rows":2065,"n_cols":18,"rows_kept":2065,"cut":false,"hidden":false,"merged":[]}
["pCO2*","latitude","longitude","time","Da e. ime","Durafet pH 1","Durafet pH 2","Durafet pH 3","Durafet pH 4","Durafet pH 5","Durafet pH 6",null,null,null,"pH Time","pH voltage","Temperature"]
["pCO2",36.802661667000002,-121.78807999999999,"2013-05-09T04:31:04Z","2013-05-09T03:31:27",76.48,76.510000000000005,76.47,76.48,76.569999999999993,76.63,null,null,null,"2013-05-09T03:31:27",76.48,{"$f":"VLOOKUP(O2,[1]Raw!$D:$K,8)","v":{"$error":"#N/A"}}]
["pCO2",36.802893333,-121.787773333,"2013-05-09T05:31:06Z","2013-05-09T04:31:27",76.680000000000007,83.43,78.98,77.260000000000005,77.03,76.87,null,null,null,"2013-05-09T03:41:27",76.510000000000005,{"$f":"VLOOKUP(O3,[1]Raw!$D:$K,8)","v":{"$error":"#N/A"}}]
["pCO2",36.802593332999997,-121.78800833299999,"2013-05-09T06:31:04Z","2013-05-09T05:31:29",76.92,76.88,76.790000000000006,76.900000000000006,76.75,76.95,null,null,null,"2013-05-09T03:51:27",76.47,{"$f":"VLOOKUP(O4,[1]Raw!$D:$K,8)","v":{"$error":"#N/A"}}]
["pCO2",36.802799999999998,-121.78792333299999,"2013-05-09T07:31:05Z","2013-05-09T06:31:27",76.95,76.989999999999995,76.97,76.819999999999993,77.010000000000005,77.02,null,null,null,"2013-05-09T04:01:27",76.48,{"$f":"VLOOKUP(O5,[1]Raw!$D:$K,8)","v":{"$error":"#N/A"}}]
["pCO2",36.802513333,-121.787956667,"2013-05-09T08:31:04Z","2013-05-09T07:31:29",76.989999999999995,77.12,77.12,77.010000000000005,77.010000000000005,76.95,null,null,null,"2013-05-09T04:11:27",76.569999999999993,{"$f":"VLOOKUP(O6,[1]Raw!$D:$K,8)","v":19.172199248999998}]
["pCO2",36.799941666999999,-121.78729166700001,"2013-05-09T09:31:04Z","2013-05-09T08:31:27",76.94,77.13,77.05,76.94,76.95,76.989999999999995,null,null,null,"2013-05-09T04:21:27",76.63,{"$f":"VLOOKUP(O7,[1]Raw!$D:$K,8)","v":19.183000565}]
["pCO2",36.802886667000003,-121.78838,"2013-05-09T10:31:04Z","2013-05-09T09:31:27",77.02,77.09,76.989999999999995,77.02,77.02,77.069999999999993,null,null,null,"2013-05-09T04:31:27",76.680000000000007,{"$f":"VLOOKUP(O8,[1]Raw!$D:$K,8)","v":19.181800842000001},7.9689164626975657]
["pCO2",36.802881667000001,-121.788015,"2013-05-09T11:31:03Z","2013-05-09T10:31:27",77.02,77.12,76.069999999999993,77.06,77.069999999999993,77.069999999999993,null,null,null,"2013-05-09T04:41:27",83.43,{"$f":"VLOOKUP(O9,[1]Raw!$D:$K,8)","v":19.179800033999999},8.0853081458717817]
["pCO2",36.802424999999999,-121.78783666699999,"2013-05-09T12:31:05Z","2013-05-09T11:31:27",77.05,77.23,77.099999999999994,77.08,77.069999999999993,77.010000000000005,null,null,null,"2013-05-09T04:51:27",78.98,{"$f":"VLOOKUP(O10,[1]Raw!$D:$K,8)","v":19.184900284000001},8.0085372730030553]
["pCO2",36.802908332999998,-121.78831,"2013-05-09T13:31:04Z","2013-05-09T12:31:29",77.09,77.08,77.14,77.11,76.97,76.64,null,null,null,"2013-05-09T05:01:27",77.260000000000005,{"$f":"VLOOKUP(O11,[1]Raw!$D:$K,8)","v":19.184000014999999},7.9788936246600528]
["pCO2",36.801776666999999,-121.788891667,"2013-05-09T14:31:04Z","2013-05-09T13:31:29",76.53,76.7,76.58,76.650000000000006,76.599999999999994,76.36,null,null,null,"2013-05-09T05:11:27",77.03,{"$f":"VLOOKUP(O12,[1]Raw!$D:$K,8)","v":19.185800552},7.9749103482599324]
["pCO2",36.802871666999998,-121.791746667,"2013-05-09T15:31:05Z","2013-05-09T14:31:27",76.5,76.64,76.55,76.540000000000006,76.510000000000005,76.47,null,null,null,"2013-05-09T05:21:27",76.87,{"$f":"VLOOKUP(O13,[1]Raw!$D:$K,8)","v":19.187799454},7.9721319159813753]
["pCO2",36.802590000000002,-121.78796333299999,"2013-05-09T16:31:06Z","2013-05-09T15:31:29",76.47,76.66,76.56,76.540000000000006,76.53,76.52,null,null,null,"2013-05-09T05:31:29",76.92,{"$f":"VLOOKUP(O14,[1]Raw!$D:$K,8)","v":19.187799454},7.9729939045085745]
["pCO2",36.802706667000002,-121.788033333,"2013-05-09T17:31:05Z","2013-05-09T16:31:29",76.53,76.67,76.510000000000005,76.52,76.64,76.59,null,null,null,"2013-05-09T05:41:29",76.88,{"$f":"VLOOKUP(O15,[1]Raw!$D:$K,8)","v":19.188199997000002},7.9723002958081306]
["pCO2",36.803201667000003,-121.787576667,"2013-05-09T18:31:04Z","2013-05-09T17:31:27",76.599999999999994,76.62,76.430000000000007,76.67,76.59,76.569999999999993,null,null,null,"2013-05-09T05:51:29",76.790000000000006,{"$f":"VLOOKUP(O16,[1]Raw!$D:$K,8)","v":19.188100814999999},7.9707497129601439]
["pCO2",36.797089999999997,-121.801818333,"2013-05-09T19:31:05Z","2013-05-09T18:31:27",76.48,76.62,76.540000000000006,76.489999999999995,76.47,76.63,null,null,null,"2013-05-09T06:01:29",76.900000000000006,{"$f":"VLOOKUP(O17,[1]Raw!$D:$K,8)","v":19.189199448},7.9726350640433683]
["pCO2",36.802973332999997,-121.788133333,"2013-05-09T20:31:06Z","2013-05-09T19:31:27",76.64,76.66,76.569999999999993,76.650000000000006,76.62,76.52,null,null,null,"2013-05-09T06:11:29",76.75,{"$f":"VLOOKUP(O18,[1]Raw!$D:$K,8)","v":19.189399719000001},7.970047103464668]
["pCO2",36.802886667000003,-121.787816667,"2013-05-09T21:31:04Z","2013-05-09T20:31:29",76.510000000000005,77.28,76.64,76.61,76.58,76.59,null,null,null,"2013-05-09T06:21:29",76.95,{"$f":"VLOOKUP(O19,[1]Raw!$D:$K,8)","v":19.190000533999999},7.9734890094662889]
["pCO2",36.817534999999999,-121.84939,"2013-05-09T22:31:05Z","2013-05-09T21:31:27",76.540000000000006,76.680000000000007,76.650000000000006,76.63,76.599999999999994,76.56,null,null,null,"2013-05-09T06:31:27",76.95,{"$f":"VLOOKUP(O20,[1]Raw!$D:$K,8)","v":19.182100296000002},7.9735682910516754]
["pCO2",36.802163333000003,-121.787816667,"2013-05-09T23:31:04Z","2013-05-09T22:31:27",76.61,76.760000000000005,76.739999999999995,76.63,76.489999999999995,76.62,null,null,null,"2013-05-09T06:41:27",76.989999999999995,{"$f":"VLOOKUP(O21,[1]Raw!$D:$K,8)","v":19.192699432000001},7.974151505348928]
["pCO2",36.802716666999999,-121.787995,"2013-05-10T00:31:05Z","2013-05-09T23:31:27",76.59,76.75,76.760000000000005,76.72,76.540000000000006,76.66,null,null,null,"2013-05-09T06:51:27",76.97,{"$f":"VLOOKUP(O22,[1]Raw!$D:$K,8)","v":19.189500808999998},7.9738388176545554]
["pCO2",36.802846666999997,-121.788088333,"2013-05-10T01:31:05Z","2013-05-10T00:31:28",76.73,76.84,76.709999999999994,76.739999999999995,76.63,76.69,null,null,null,"2013-05-09T07:01:27",76.819999999999993,{"$f":"VLOOKUP(O23,[1]Raw!$D:$K,8)","v":19.193399428999999},7.9712137744728855]
["pCO2",36.801454999999997,-121.791611667,"2013-05-10T02:31:05Z","2013-05-10T01:31:27",76.64,76.75,76.78,76.78,76.8,76.67,null,null,null,"2013-05-09T07:11:27",77.010000000000005,{"$f":"VLOOKUP(O24,[1]Raw!$D:$K,8)","v":19.194599151999999},7.9744772249114293]
["pCO2",36.800530000000002,-121.78757166699999,"2013-05-10T03:31:05Z","2013-05-10T02:31:27",76.709999999999994,76.81,76.81,76.819999999999993,76.8,76.75,null,null,null,"2013-05-09T07:21:27",77.02,{"$f":"VLOOKUP(O25,[1]Raw!$D:$K,8)","v":19.194200515999999},7.9746536204723979]
["pCO2",36.802750000000003,-121.788346667,"2013-05-10T04:31:05Z","2013-05-10T03:31:27",76.78,76.91,76.930000000000007,76.849999999999994,76.900000000000006,76.84,null,null,null,"2013-05-09T07:31:29",76.989999999999995,{"$f":"VLOOKUP(O26,[1]Raw!$D:$K,8)","v":19.194200515999999},7.9741364386803504]
["pCO2",36.801519999999996,-121.787908333,"2013-05-10T05:31:05Z","2013-05-10T04:31:27",76.930000000000007,76.95,76.91,77.010000000000005,76.760000000000005,76.91,null,null,null,"2013-05-09T07:41:29",77.12,{"$f":"VLOOKUP(O27,[1]Raw!$D:$K,8)","v":19.195699692000002},7.9763625009233614]
["pCO2",36.818449999999999,-121.792828333,"2013-05-10T06:31:05Z","2013-05-10T05:31:27",76.900000000000006,76.989999999999995,76.94,76.88,76.94,76.92,null,null,null,"2013-05-09T07:51:29",77.12,{"$f":"VLOOKUP(O28,[1]Raw!$D:$K,8)","v":19.195699692000002},7.9763625009233614]
["pCO2",36.812556667000003,-121.783318333,"2013-05-10T07:31:05Z","2013-05-10T06:31:27",76.900000000000006,76.92,76.88,76.89,76.790000000000006,76.760000000000005,null,null,null,"2013-05-09T08:01:29",77.010000000000005,{"$f":"VLOOKUP(O29,[1]Raw!$D:$K,8)","v":19.196100234999999},7.974462156678352]
["pCO2",36.755911666999999,-121.771018333,"2013-05-10T08:31:04Z","2013-05-10T07:31:28",76.819999999999993,76.900000000000006,76.84,76.72,76.73,76.680000000000007,null,null,null,"2013-05-09T08:11:29",77.010000000000005,{"$f":"VLOOKUP(O30,[1]Raw!$D:$K,8)","v":19.198099136},7.9744420914683891]
["pCO2",36.755911666999999,-121.771018333,"2013-05-10T09:31:06Z","2013-05-10T08:31:28",76.77,76.73,76.900000000000006,76.83,76.760000000000005,76.790000000000006,null,null,null,"2013-05-09T08:21:29",76.95,{"$f":"VLOOKUP(O31,[1]Raw!$D:$K,8)","v":19.197900772000001},7.9734097321658188]
["pCO2",36.802623333,-121.787718333,"2013-05-10T10:31:05Z","2013-05-10T09:31:27",76.73,76.650000000000006,76.87,76.75,76.739999999999995,76.739999999999995,null,null,null,"2013-05-09T08:31:27",76.94,{"$f":"VLOOKUP(O32,[1]Raw!$D:$K,8)","v":19.184299468999999},7.9733738213999734]
["pCO2",36.802754999999998,-121.788051667,"2013-05-10T11:31:06Z","2013-05-10T10:31:27",76.78,76.88,76.89,76.66,76.849999999999994,76.84,null,null,null,"2013-05-09T08:41:27",77.13,{"$f":"VLOOKUP(O33,[1]Raw!$D:$K,8)","v":19.185699462999999},7.9766353526401375]
["pCO2",36.802691666999998,-121.788018333,"2013-05-10T12:31:04Z","2013-05-10T11:31:28",76.8,76.900000000000006,76.67,76.790000000000006,76.849999999999994,76.819999999999993,null,null,null,"2013-05-09T08:51:27",77.05,{"$f":"VLOOKUP(O34,[1]Raw!$D:$K,8)","v":19.197900772000001},7.9751336496526948]
["pCO2",36.802991667000001,-121.788465,"2013-05-10T13:31:05Z","2013-05-10T12:31:27",76.84,76.849999999999994,76.790000000000006,76.89,76.87,76.91,null,null,null,"2013-05-09T09:01:27",76.94,{"$f":"VLOOKUP(O35,[1]Raw!$D:$K,8)","v":19.190399169999999},7.9733126129591563]
["pCO2",36.795838332999999,-121.84594333299999,"2013-05-10T18:30:54Z","2013-05-10T17:31:33",66.55,66.37,88.08,86.91,88.61,88.15,null,null,null,"2013-05-09T09:11:27",76.95,{"$f":"VLOOKUP(O36,[1]Raw!$D:$K,8)","v":19.199600220000001},7.9733926791066887]
["pCO2",36.797525,-121.85374166699999,"2013-05-10T19:30:54Z","2013-05-10T18:31:16",88.47,88.65,89.93,91.08,91.44,91.7,null,null,null,"2013-05-09T09:21:27",76.989999999999995,{"$f":"VLOOKUP(O37,[1]Raw!$D:$K,8)","v":19.199699402},7.9740812466263664]
["pCO2",36.795565000000003,-121.865353333,"2013-05-10T20:30:54Z","2013-05-10T19:31:16",91.73,91.34,91.3,90.69,90.29,90.11,null,null,null,"2013-05-09T09:31:27",77.02,{"$f":"VLOOKUP(O38,[1]Raw!$D:$K,8)","v":19.198799133000001},7.9746074560976625]
["pCO2",36.794224999999997,-121.87464166700001,"2013-05-10T21:30:54Z","2013-05-10T20:31:16",89.53,88.2,87.32,86.89,86.69,86.41,null,null,null,"2013-05-09T09:41:27",77.09,{"$f":"VLOOKUP(O39,[1]Raw!$D:$K,8)","v":19.200399398999998},7.9757981236922548]
["pCO2",36.792998333,-121.882078333,"2013-05-10T22:30:55Z","2013-05-10T21:31:17",86.77,85.66,85.39,85.08,84.5,84.1,null,null,null,"2013-05-09T09:51:27",76.989999999999995,{"$f":"VLOOKUP(O40,[1]Raw!$D:$K,8)","v":19.202199936},7.9740561495737543]
["pCO2",36.792478332999998,-121.884751667,"2013-05-10T23:30:54Z","2013-05-10T22:31:16",83.64,83.48,82.78,81.69,80.83,80.52,null,null,null,"2013-05-09T10:01:27",77.02,{"$f":"VLOOKUP(O41,[1]Raw!$D:$K,8)","v":19.203800201},7.9745572532657318]
["pCO2",36.790838333000004,-121.88705166699999,"2013-05-11T00:30:54Z","2013-05-10T23:31:16",80.569999999999993,79.61,78.73,78.11,78.13,77.930000000000007,null,null,null,"2013-05-09T10:11:27",77.02,{"$f":"VLOOKUP(O42,[1]Raw!$D:$K,8)","v":19.203500748},7.9745602592530256]
["pCO2",36.789969999999997,-121.89178833299999,"2013-05-11T01:30:56Z","2013-05-11T00:31:16",76.989999999999995,76.84,76.819999999999993,76.66,76.709999999999994,76.78,null,null,null,"2013-05-09T10:21:27",77.069999999999993,{"$f":"VLOOKUP(O43,[1]Raw!$D:$K,8)","v":19.200799942},7.9754493211217063]
["pCO2",36.788503333000001,-121.90079666699999,"2013-05-11T02:30:54Z","2013-05-11T01:31:18",76.63,76.62,76.55,76.53,76.52,76.58,null,null,null,"2013-05-09T10:31:27",77.02,{"$f":"VLOOKUP(O44,[1]Raw!$D:$K,8)","v":19.205400467},7.9745411894827498]
["pCO2",36.786524999999997,-121.914253333,"2013-05-11T03:30:55Z","2013-05-11T02:31:16",76.64,79.94,79.37,79.27,78.5,77.06,null,null,null,"2013-05-09T10:41:27",77.12,{"$f":"VLOOKUP(O45,[1]Raw!$D:$K,8)","v":19.206499099999998},7.9762540280774425]
["pCO2",36.783256667000003,-121.934836667,"2013-05-11T04:30:54Z","2013-05-11T03:31:17",76.78,76.790000000000006,76.83,76.819999999999993,76.989999999999995,77.180000000000007,null,null,null,"2013-05-09T10:51:27",76.069999999999993,{"$f":"VLOOKUP(O46,[1]Raw!$D:$K,8)","v":19.201499939000001},7.9582033295496277]
["pCO2",36.780254999999997,-121.95313166699999,"2013-05-11T05:30:56Z","2013-05-11T04:31:16",77.33,77.16,76.66,76.83,77.27,77.47,null,null,null,"2013-05-09T11:01:27",77.06,{"$f":"VLOOKUP(O47,[1]Raw!$D:$K,8)","v":19.207700728999999},7.9752076431912924]
["pCO2",36.777756666999998,-121.969351667,"2013-05-11T06:30:55Z","2013-05-11T05:31:17",77.48,77.349999999999994,77.66,77.81,77.23,77.099999999999994,null,null,null,"2013-05-09T11:11:27",77.069999999999993,{"$f":"VLOOKUP(O48,[1]Raw!$D:$K,8)","v":19.208299637},7.9753740155798623]
["pCO2",36.775323333000003,-121.985195,"2013-05-11T07:30:54Z","2013-05-11T06:31:16",76.92,77.040000000000006,77.23,77.28,77.64,77.78,null,null,null,"2013-05-09T11:21:27",77.069999999999993,{"$f":"VLOOKUP(O49,[1]Raw!$D:$K,8)","v":19.200399398999998},7.9754533431416359]
["pCO2",36.772666667000003,-122.002585,"2013-05-11T08:30:55Z","2013-05-11T07:31:17",77.91,78.09,78.2,78.319999999999993,78.42,78.39,null,null,null,"2013-05-09T11:31:27",77.05,{"$f":"VLOOKUP(O50,[1]Raw!$D:$K,8)","v":19.192199707},7.9751908918824617]
["pCO2",36.801253332999998,-122.003711667,"2013-05-11T09:30:55Z","2013-05-11T08:31:17",78.489999999999995,78.599999999999994,78.63,78.62,78.599999999999994,78.489999999999995,null,null,null,"2013-05-09T11:41:27",77.23,{"$f":"VLOOKUP(O51,[1]Raw!$D:$K,8)","v":19.203399657999999},7.9781814326516542]
["pCO2",36.769931667000002,-122.019775,"2013-05-11T10:30:55Z","2013-05-11T09:31:16",78.180000000000007,78.16,78.37,78.48,78.400000000000006,78.5,null,null,null,"2013-05-09T11:51:27",77.099999999999994,{"$f":"VLOOKUP(O52,[1]Raw!$D:$K,8)","v":19.204900742},7.9759253067694651]
["pCO2",36.767335000000003,-122.035761667,"2013-05-11T11:30:56Z","2013-05-11T10:31:16",78.44,78.27,78.27,78.02,77.98,78.02,null,null,null,"2013-05-09T12:01:27",77.08,{"$f":"VLOOKUP(O53,[1]Raw!$D:$K,8)","v":19.204900742},7.9755805315273784]
["pCO2",36.765403333000002,-122.04849666699999,"2013-05-11T12:30:55Z","2013-05-11T11:31:17",78.08,78.12,78.12,78.08,77.900000000000006,77.819999999999993,null,null,null,"2013-05-09T12:11:27",77.069999999999993,{"$f":"VLOOKUP(O54,[1]Raw!$D:$K,8)","v":19.190999985000001},7.9755477297561255]
["pCO2",36.763635000000001,-122.058595,"2013-05-11T13:30:54Z","2013-05-11T12:31:16",77.72,77.73,77.72,77.69,77.73,77.69,null,null,null,"2013-05-09T12:21:27",77.010000000000005,{"$f":"VLOOKUP(O55,[1]Raw!$D:$K,8)","v":19.205900192000001},7.9743637861498131]
["pCO2",36.762418332999999,-122.06702333299999,"2013-05-11T14:30:55Z","2013-05-11T13:31:16",77.66,77.66,77.63,77.709999999999994,77.709999999999994,77.75,null,null,null,"2013-05-09T12:31:29",77.09,{"$f":"VLOOKUP(O56,[1]Raw!$D:$K,8)","v":19.209499358999999},7.9757067391720584]
["pCO2",36.760914999999997,-122.076923333,"2013-05-11T15:30:54Z","2013-05-11T14:31:17",77.709999999999994,77.73,77.67,77.599999999999994,77.48,77.52,null,null,null,"2013-05-09T12:41:29",77.08,{"$f":"VLOOKUP(O57,[1]Raw!$D:$K,8)","v":19.209499358999999},7.9755343542625559]
["pCO2",36.759123332999998,-122.088216667,"2013-05-11T16:30:55Z","2013-05-11T15:31:16",77.37,77.44,77.36,77.41,77.430000000000007,77.510000000000005,null,null,null,"2013-05-09T12:51:29",77.14,{"$f":"VLOOKUP(O58,[1]Raw!$D:$K,8)","v":19.209499358999999},7.9765686637195712]
["pCO2",36.757966666999998,-122.096133333,"2013-05-11T17:30:55Z","2013-05-11T16:31:17",77.55,77.66,77.739999999999995,77.56,77.62,77.61,null,null,null,"2013-05-09T13:01:29",77.11,{"$f":"VLOOKUP(O59,[1]Raw!$D:$K,8)","v":19.210100174000001},7.9760454749188057]
["pCO2",36.756696667,-122.10336,"2013-05-11T18:30:55Z","2013-05-11T17:31:16",77.61,77.64,77.72,77.680000000000007,77.75,77.66,null,null,null,"2013-05-09T13:11:29",76.97,{"$f":"VLOOKUP(O60,[1]Raw!$D:$K,8)","v":19.207300186000001},7.9736601889292134]
["pCO2",36.756419999999999,-122.105858333,"2013-05-11T19:30:55Z","2013-05-11T18:31:16",77.62,77.81,77.53,77.38,77.28,77.22,null,null,null,"2013-05-09T13:21:29",76.64,{"$f":"VLOOKUP(O61,[1]Raw!$D:$K,8)","v":19.212999344},7.9679143647287027]
["pCO2",36.755813332999999,-122.109363333,"2013-05-11T20:30:54Z","2013-05-11T19:31:16",77.12,77.069999999999993,77.150000000000006,77.03,76.97,77.209999999999994,null,null,null,"2013-05-09T13:31:29",76.53,{"$f":"VLOOKUP(O62,[1]Raw!$D:$K,8)","v":19.213100433000001},7.9660171416527925]
["pCO2",36.754644999999996,-122.116458333,"2013-05-11T21:30:56Z","2013-05-11T20:31:16",77.31,77.34,77.37,77.14,76.86,76.77,null,null,null,"2013-05-09T13:41:29",76.7,{"$f":"VLOOKUP(O63,[1]Raw!$D:$K,8)","v":19.215099335000001},7.9689276226679109]
["pCO2",36.753418332999999,-122.12482166700001,"2013-05-11T22:30:56Z","2013-05-11T21:31:16",76.52,76.209999999999994,76.23,76.25,76.31,76.22,null,null,null,"2013-05-09T13:51:29",76.58,{"$f":"VLOOKUP(O64,[1]Raw!$D:$K,8)","v":19.215900421000001},7.9668510233004044]
["pCO2",36.752113332999997,-122.133018333,"2013-05-11T23:30:55Z","2013-05-11T22:31:17",76.180000000000007,75.91,75.67,75.61,75.42,75.150000000000006,null,null,null,"2013-05-09T14:01:29",76.650000000000006,{"$f":"VLOOKUP(O65,[1]Raw!$D:$K,8)","v":19.217699051},7.9680396769923876]
["pCO2",36.751064999999997,-122.14021,"2013-05-12T00:30:51Z","2013-05-11T23:31:16",75.17,75.510000000000005,75.78,75.91,76.12,76.23,null,null,null,"2013-05-09T14:11:29",76.599999999999994,{"$f":"VLOOKUP(O66,[1]Raw!$D:$K,8)","v":19.218799591},7.967166757466825]
["pCO2",36.749569999999999,-122.14915000000001,"2013-05-12T01:30:51Z","2013-05-12T00:31:16",76.03,75.8,75.86,75.52,75.53,75.53,null,null,null,"2013-05-09T14:21:29",76.36,{"$f":"VLOOKUP(O67,[1]Raw!$D:$K,8)","v":19.217100143},7.9630466429459252]
["pCO2",36.747321667000001,-122.163573333,"2013-05-12T02:30:53Z","2013-05-12T01:31:16",75.540000000000006,75.819999999999993,76.13,76.25,76.06,75.95,null,null,null,"2013-05-09T14:31:27",76.5,{"$f":"VLOOKUP(O68,[1]Raw!$D:$K,8)","v":19.220100403},7.9654299466099356]
["pCO2",36.744484999999997,-122.181145,"2013-05-12T03:30:51Z","2013-05-12T02:31:18",75.83,75.790000000000006,75.83,75.78,75.349999999999994,75.02,null,null,null,"2013-05-09T14:41:27",76.64,{"$f":"VLOOKUP(O69,[1]Raw!$D:$K,8)","v":19.218700409},7.9678572684604294]
["pCO2",36.741873333000001,-122.198285,"2013-05-12T04:30:52Z","2013-05-12T03:31:16",74.91,74.739999999999995,74.83,74.709999999999994,75.16,75.31,null,null,null,"2013-05-09T14:51:27",76.55,{"$f":"VLOOKUP(O70,[1]Raw!$D:$K,8)","v":19.225200653000002},7.9662407902489258]
["pCO2",36.738644999999998,-122.218783333,"2013-05-12T05:30:52Z","2013-05-12T04:31:16",75.44,75.2,75.31,75.38,75.31,75.599999999999994,null,null,null,"2013-05-09T15:01:27",76.540000000000006,{"$f":"VLOOKUP(O71,[1]Raw!$D:$K,8)","v":19.221099853999998},7.9661094579441407]
["pCO2",36.735438332999998,-122.23961166700001,"2013-05-12T06:30:51Z","2013-05-12T05:31:16",75.58,75.56,75.08,75.13,75.260000000000005,75.319999999999993,null,null,null,"2013-05-09T15:11:27",76.510000000000005,{"$f":"VLOOKUP(O72,[1]Raw!$D:$K,8)","v":19.216999053999999},7.9656333609900862]
["pCO2",36.731659999999998,-122.26356,"2013-05-12T07:30:52Z","2013-05-12T06:31:16",75.28,75.37,75.430000000000007,75.5,75.53,75.5,null,null,null,"2013-05-09T15:21:27",76.47,{"$f":"VLOOKUP(O73,[1]Raw!$D:$K,8)","v":19.218999863000001},7.9649238212509959]
["pCO2",36.727958332999997,-122.28707,"2013-05-12T08:30:52Z","2013-05-12T07:31:16",75.510000000000005,75.53,75.5,75.540000000000006,75.2,75.069999999999993,null,null,null,"2013-05-09T15:31:29",76.47,{"$f":"VLOOKUP(O74,[1]Raw!$D:$K,8)","v":19.215599059999999},7.9649578459292885]
["pCO2",36.724685000000001,-122.30755499999999,"2013-05-12T09:30:52Z","2013-05-12T08:31:17",75.16,75.39,75.62,75.400000000000006,74.72,74.89,null,null,null,"2013-05-09T15:41:29",76.66,{"$f":"VLOOKUP(O75,[1]Raw!$D:$K,8)","v":19.216699599999998},7.9682220676730706]
["pCO2",36.721703333000001,-122.326543333,"2013-05-12T10:30:53Z","2013-05-12T09:31:17",75.12,75.47,75.540000000000006,75.739999999999995,75.89,75.989999999999995,null,null,null,"2013-05-09T15:51:29",76.56,{"$f":"VLOOKUP(O76,[1]Raw!$D:$K,8)","v":19.221200942999999},7.966453202188978]
["pCO2",36.718451666999997,-122.347321667,"2013-05-12T11:30:52Z","2013-05-12T10:31:17",76.010000000000005,75.86,75.61,75.73,75.540000000000006,75.540000000000006,null,null,null,"2013-05-09T16:01:29",76.540000000000006,{"$f":"VLOOKUP(O77,[1]Raw!$D:$K,8)","v":19.215999603},7.9661605060351368]
["pCO2",36.711931667000002,-122.360791667,"2013-05-12T12:30:52Z","2013-05-12T11:31:16",75.400000000000006,75.27,75.33,75.489999999999995,75.680000000000007,75.78,null,null,null,"2013-05-09T16:11:29",76.53,{"$f":"VLOOKUP(O78,[1]Raw!$D:$K,8)","v":19.215999603},7.9659881249583098]
["pCO2",36.703891667000001,-122.37002333300001,"2013-05-12T13:30:51Z","2013-05-12T12:31:16",75.930000000000007,76.010000000000005,76.099999999999994,76.180000000000007,76.22,76.22,null,null,null,"2013-05-09T16:21:29",76.52,{"$f":"VLOOKUP(O79,[1]Raw!$D:$K,8)","v":19.220100403},7.9657747039279352]
["pCO2",36.698968333000003,-122.375675,"2013-05-12T14:30:51Z","2013-05-12T13:31:17",76.12,76.099999999999994,76.09,76.13,76.150000000000006,76.290000000000006,null,null,null,"2013-05-09T16:31:29",76.53,{"$f":"VLOOKUP(O80,[1]Raw!$D:$K,8)","v":19.215499877999999},7.9659931264755182]
["pCO2",36.698761666999999,-122.37815000000001,"2013-05-12T15:30:52Z","2013-05-12T14:31:16",76.510000000000005,76.59,76.709999999999994,76.790000000000006,77.010000000000005,77.19,null,null,null,"2013-05-09T16:41:29",76.67,{"$f":"VLOOKUP(O81,[1]Raw!$D:$K,8)","v":19.217399597},7.9683874366740337]
["pCO2",36.714236667000002,-122.358413333,"2013-05-12T16:30:52Z","2013-05-12T15:31:16",77.33,77.099999999999994,76.959999999999994,76.849999999999994,76.819999999999993,76.77,null,null,null,"2013-05-09T16:51:29",76.510000000000005,{"$f":"VLOOKUP(O82,[1]Raw!$D:$K,8)","v":19.219600676999999},7.9656073260665812]
["pCO2",36.721218333000003,-122.330415,"2013-05-12T17:30:52Z","2013-05-12T16:31:16",76.540000000000006,76.489999999999995,76.400000000000006,76.45,76.510000000000005,76.52,null,null,null,"2013-05-09T17:01:29",76.52,{"$f":"VLOOKUP(O83,[1]Raw!$D:$K,8)","v":19.212999344},7.965845770578869]
["pCO2",36.726016667000003,-122.29897833299999,"2013-05-12T18:30:52Z","2013-05-12T17:31:16",76.78,76.84,76.89,76.959999999999994,76.83,76.91,null,null,null,"2013-05-09T17:11:29",76.64,{"$f":"VLOOKUP(O84,[1]Raw!$D:$K,8)","v":19.216100693000001},7.9678833043866328]
["pCO2",36.730351667000001,-122.272058333,"2013-05-12T19:30:51Z","2013-05-12T18:31:17",76.87,76.78,76.69,76.569999999999993,76.36,76.55,null,null,null,"2013-05-09T17:21:29",76.59,{"$f":"VLOOKUP(O85,[1]Raw!$D:$K,8)","v":19.219900130999999},7.966983359621274]
["pCO2",36.733508333000003,-122.25201333299999,"2013-05-12T20:30:53Z","2013-05-12T19:31:16",76.8,76.819999999999993,76.760000000000005,76.790000000000006,76.709999999999994,76.510000000000005,null,null,null,"2013-05-09T17:31:27",76.599999999999994,{"$f":"VLOOKUP(O86,[1]Raw!$D:$K,8)","v":19.209899902},7.9672558679370162]
["pCO2",36.736486667000001,-122.23285666699999,"2013-05-12T21:30:51Z","2013-05-12T20:31:17",76.61,76.44,75.900000000000006,75.959999999999994,75.64,75.27,null,null,null,"2013-05-09T17:41:27",76.62,{"$f":"VLOOKUP(O87,[1]Raw!$D:$K,8)","v":19.208499908},7.9676146572355808]
["pCO2",36.738900000000001,-122.21665166699999,"2013-05-12T22:30:52Z","2013-05-12T21:31:16",74.98,75.12,75.02,75.41,75.11,75.42,null,null,null,"2013-05-09T17:51:27",76.430000000000007,{"$f":"VLOOKUP(O88,[1]Raw!$D:$K,8)","v":19.212299346999998},7.9643013269351135]
["pCO2",36.741034999999997,-122.20295,"2013-05-12T23:30:52Z","2013-05-12T22:31:16",75.53,75.63,75.59,75.66,75.67,75.709999999999994,null,null,null,"2013-05-09T18:01:27",76.67,{"$f":"VLOOKUP(O89,[1]Raw!$D:$K,8)","v":19.209299088000002},7.9684685791333756]
["pCO2",36.743045000000002,-122.19153666699999,"2013-05-13T00:30:56Z","2013-05-12T23:31:16",75.709999999999994,75.61,75.59,75.489999999999995,75.37,75.260000000000005,null,null,null,"2013-05-09T18:11:27",76.59,{"$f":"VLOOKUP(O90,[1]Raw!$D:$K,8)","v":19.207399368000001},7.967108520018062]
["pCO2",36.744996667000002,-122.178748333,"2013-05-13T01:30:57Z","2013-05-13T00:31:16",75.12,74.94,74.86,74.77,74.7,74.7,null,null,null,"2013-05-09T18:21:27",76.569999999999993,{"$f":"VLOOKUP(O91,[1]Raw!$D:$K,8)","v":19.207300186000001},7.966764740680488]
["pCO2",36.747304999999997,-122.163916667,"2013-05-13T02:30:56Z","2013-05-13T01:31:16",74.59,74.39,74.31,74.08,74.099999999999994,74.12,null,null,null,"2013-05-09T18:31:27",76.48,{"$f":"VLOOKUP(O92,[1]Raw!$D:$K,8)","v":19.208299637},7.9652032641826649]
["pCO2",36.749711667,-122.14815666699999,"2013-05-13T03:30:57Z","2013-05-13T02:31:16",74.19,74.319999999999993,74.38,74.22,74.36,74.14,null,null,null,"2013-05-09T18:41:27",76.62,{"$f":"VLOOKUP(O93,[1]Raw!$D:$K,8)","v":19.208099364999999},7.9676186684157582]
["pCO2",36.752473332999998,-122.13090333300001,"2013-05-13T04:30:57Z","2013-05-13T03:31:17",73.819999999999993,73.66,73.599999999999994,73.569999999999993,73.540000000000006,73.41,null,null,null,"2013-05-09T18:51:27",76.540000000000006,{"$f":"VLOOKUP(O94,[1]Raw!$D:$K,8)","v":19.206800461},7.9662525841713574]
["pCO2",36.755310000000001,-122.112851667,"2013-05-13T05:30:56Z","2013-05-13T04:31:17",73.489999999999995,73.53,73.88,74.02,74.05,75,null,null,null,"2013-05-09T19:01:27",76.489999999999995,{"$f":"VLOOKUP(O95,[1]Raw!$D:$K,8)","v":19.208099364999999},7.9653776538608909]
["pCO2",36.758033333,-122.094903333,"2013-05-13T06:30:57Z","2013-05-13T05:31:16",76.040000000000006,77.05,77.69,77.92,78.47,78.760000000000005,null,null,null,"2013-05-09T19:11:27",76.47,{"$f":"VLOOKUP(O96,[1]Raw!$D:$K,8)","v":19.214899063000001},7.9649648494242848]
["pCO2",36.760635000000001,-122.078268333,"2013-05-13T07:30:57Z","2013-05-13T06:31:16",78.89,78.75,79.150000000000006,79.62,79.849999999999994,80.150000000000006,null,null,null,"2013-05-09T19:21:27",76.63,{"$f":"VLOOKUP(O97,[1]Raw!$D:$K,8)","v":19.207300186000001},7.9677990579177971]
["pCO2",36.763084999999997,-122.063186667,"2013-05-13T08:30:55Z","2013-05-13T07:31:18",80.11,81.86,82.82,83.01,82.93,83.63,null,null,null,"2013-05-09T19:31:27",76.64,{"$f":"VLOOKUP(O98,[1]Raw!$D:$K,8)","v":19.209199904999998},7.9679524174149856]
["pCO2",36.765823333,-122.04568500000001,"2013-05-13T09:30:56Z","2013-05-13T08:31:16",83.59,83.66,83.76,82.37,82.32,83.04,null,null,null,"2013-05-09T19:41:27",76.66,{"$f":"VLOOKUP(O99,[1]Raw!$D:$K,8)","v":19.207599640000002},7.9683132169737876]
["pCO2",36.769058332999997,-122.02468,"2013-05-13T10:30:55Z","2013-05-13T09:31:16",82.74,81.52,80.31,79.55,78.400000000000006,77.83,null,null,null,"2013-05-09T19:51:27",76.569999999999993,{"$f":"VLOOKUP(O100,[1]Raw!$D:$K,8)","v":19.207199097},7.9667657527309572]
["pCO2",36.772723333000002,-122.001691667,"2013-05-13T11:30:57Z","2013-05-13T10:31:16",77.349999999999994,76.92,76.900000000000006,76.83,76.78,76.75,null,null,null,"2013-05-09T20:01:27",76.650000000000006,{"$f":"VLOOKUP(O101,[1]Raw!$D:$K,8)","v":19.209299088000002},7.9681238090781976]
["pCO2",36.776646667000001,-121.976651667,"2013-05-13T12:30:56Z","2013-05-13T11:31:16",76.88,77.14,77.400000000000006,77.75,77.849999999999994,77.709999999999994,null,null,null,"2013-05-09T20:11:27",76.62,{"$f":"VLOOKUP(O102,[1]Raw!$D:$K,8)","v":19.207700728999999},7.9676226605094715]
["pCO2",36.779969999999999,-121.95495333300001,"2013-05-13T13:30:56Z","2013-05-13T12:31:16",77.34,76.58,76.569999999999993,76.7,76.94,76.97,null,null,null,"2013-05-09T20:21:27",76.52,{"$f":"VLOOKUP(O103,[1]Raw!$D:$K,8)","v":19.212900162},7.9658467632063301]
["pCO2",36.783041666999999,-121.93532500000001,"2013-05-13T14:30:56Z","2013-05-13T13:31:16",76.83,76.7,76.78,76.790000000000006,77.13,79.16,null,null,null,"2013-05-09T20:31:29",76.510000000000005,{"$f":"VLOOKUP(O104,[1]Raw!$D:$K,8)","v":19.205900192000001},7.9657444345639314]
["pCO2",36.785798333000002,-121.917938333,"2013-05-13T15:30:56Z","2013-05-13T14:31:17",79.08,78.81,78.680000000000007,78.47,79.430000000000007,79.489999999999995,null,null,null,"2013-05-09T20:41:29",77.28,{"$f":"VLOOKUP(O105,[1]Raw!$D:$K,8)","v":19.204900742},7.9790282839482431]
["pCO2",36.788408333,-121.90076000000001,"2013-05-13T16:30:57Z","2013-05-13T15:31:16",79.23,79.400000000000006,80.040000000000006,80.55,80.78,80.84,null,null,null,"2013-05-09T20:51:29",76.64,{"$f":"VLOOKUP(O106,[1]Raw!$D:$K,8)","v":19.205099105999999},7.9679934894350009]
["pCO2",36.790961666999998,-121.88484,"2013-05-13T17:30:56Z","2013-05-13T16:31:16",80.77,81.66,82.78,83.59,83.3,82.94,null,null,null,"2013-05-09T21:01:29",76.61,{"$f":"VLOOKUP(O107,[1]Raw!$D:$K,8)","v":19.205999374000001},7.9674673116797692]
["pCO2",36.789373333,-121.87479500000001,"2013-05-13T18:30:57Z","2013-05-13T17:31:16",82.89,84.15,82.41,83.82,84.55,84.56,null,null,null,"2013-05-09T21:11:29",76.58,{"$f":"VLOOKUP(O108,[1]Raw!$D:$K,8)","v":19.206399917999999},7.9669461404569653]
["pCO2",36.792985000000002,-121.861598333,"2013-05-13T19:30:57Z","2013-05-13T18:31:16",86.24,86.88,87.25,87.78,90,90.75,null,null,null,"2013-05-09T21:21:29",76.59,{"$f":"VLOOKUP(O109,[1]Raw!$D:$K,8)","v":19.207000732000001},7.9671125114257331]
["pCO2",36.796858333000003,-121.847276667,"2013-05-13T20:30:56Z","2013-05-13T19:31:17",91.11,91.05,90.95,90.95,90.87,92.03,null,null,null,"2013-05-09T21:31:27",76.540000000000006,{"$f":"VLOOKUP(O110,[1]Raw!$D:$K,8)","v":19.207099915000001},7.9662495867172938]
["pCO2",36.797386666999998,-121.854966667,"2013-05-13T21:30:56Z","2013-05-13T20:31:16",92.93,93.46,93.37,92.83,90.78,87.87,null,null,null,"2013-05-09T21:41:27",76.680000000000007,{"$f":"VLOOKUP(O111,[1]Raw!$D:$K,8)","v":19.214899063000001},7.9685848656643197]
["pCO2",36.794714999999997,-121.871146667,"2013-05-13T22:30:56Z","2013-05-13T21:31:16",86.64,85.73,82.65,82.46,81.790000000000006,81.069999999999993,null,null,null,"2013-05-09T21:51:27",76.650000000000006,{"$f":"VLOOKUP(O112,[1]Raw!$D:$K,8)","v":19.198999404999999},7.9682269749183883]
["pCO2",36.792005000000003,-121.887985,"2013-05-13T23:30:56Z","2013-05-13T22:31:17",83.22,85.46,85.31,84.87,84.39,83.58,null,null,null,"2013-05-09T22:01:27",76.63,{"$f":"VLOOKUP(O113,[1]Raw!$D:$K,8)","v":19.201299667000001},7.9678591544334481]
["pCO2",36.789619999999999,-121.903013333,"2013-05-14T00:30:57Z","2013-05-13T23:31:16",81.849999999999994,80.3,79.760000000000005,80.03,79.41,79.569999999999993,null,null,null,"2013-05-09T22:11:27",76.599999999999994,{"$f":"VLOOKUP(O114,[1]Raw!$D:$K,8)","v":19.199100494},7.9673640071280767]
["pCO2",36.787738333,-121.914743333,"2013-05-14T01:30:56Z","2013-05-14T00:31:17",79.72,79.53,79.87,80.19,80.2,80.08,null,null,null,"2013-05-09T22:21:27",76.56,{"$f":"VLOOKUP(O115,[1]Raw!$D:$K,8)","v":19.199899673000001},7.9666664420458817]
["pCO2",36.785910000000001,-121.926211667,"2013-05-14T02:30:57Z","2013-05-14T01:31:16",79.81,79.64,79.72,79.739999999999995,80.08,80.03,null,null,null,"2013-05-09T22:31:27",76.61,{"$f":"VLOOKUP(O116,[1]Raw!$D:$K,8)","v":19.198099136},7.9675464261997337]
["pCO2",36.783443333000001,-121.94136,"2013-05-14T03:30:57Z","2013-05-14T02:31:16",79.91,79.900000000000006,79.959999999999994,79.900000000000006,80.03,80.150000000000006,null,null,null,"2013-05-09T22:41:27",76.760000000000005,{"$f":"VLOOKUP(O117,[1]Raw!$D:$K,8)","v":19.196500778000001},7.9701483216012949]
["pCO2",36.780458332999999,-121.9605,"2013-05-14T04:30:56Z","2013-05-14T03:31:18",80.23,80.290000000000006,80.239999999999995,80.22,80.11,80.08,null,null,null,"2013-05-09T22:51:27",76.739999999999995,{"$f":"VLOOKUP(O118,[1]Raw!$D:$K,8)","v":19.1977005},7.9697915125996888]
["pCO2",36.776931666999999,-121.982528333,"2013-05-14T05:30:57Z","2013-05-14T04:31:16",80.05,80.930000000000007,81.569999999999993,82.14,82.03,82.77,null,null,null,"2013-05-09T23:01:27",76.63,{"$f":"VLOOKUP(O119,[1]Raw!$D:$K,8)","v":19.201499939000001},7.9678571486255887]
["pCO2",36.773580000000003,-122.00366333300001,"2013-05-14T06:30:57Z","2013-05-14T05:31:16",82.73,82.22,81.790000000000006,81.75,81.86,81.95,null,null,null,"2013-05-09T23:11:27",76.489999999999995,{"$f":"VLOOKUP(O120,[1]Raw!$D:$K,8)","v":19.198699950999998},7.9654717140420876]
["pCO2",36.769753332999997,-122.026478333,"2013-05-14T07:30:56Z","2013-05-14T06:31:17",81.790000000000006,81.430000000000007,81.44,80.86,80.36,80.19,null,null,null,"2013-05-09T23:21:27",76.62,{"$f":"VLOOKUP(O121,[1]Raw!$D:$K,8)","v":19.193599701},7.9677638806130968]
["pCO2",36.765933333,-122.05099666700001,"2013-05-14T08:30:56Z","2013-05-14T07:31:16",79.3,78.36,77,77.16,77.63,78.08,null,null,null,"2013-05-09T23:31:27",76.59,{"$f":"VLOOKUP(O122,[1]Raw!$D:$K,8)","v":19.193199157999999},7.9672507086386277]
["pCO2",36.762456667000002,-122.072165,"2013-05-14T09:30:56Z","2013-05-14T08:31:16",77.95,78.349999999999994,78.56,78.69,78.62,78.930000000000007,null,null,null,"2013-05-09T23:41:27",76.75,{"$f":"VLOOKUP(O123,[1]Raw!$D:$K,8)","v":19.195800780999999},7.9699829449949435]
["pCO2",36.759684999999998,-122.089845,"2013-05-14T10:30:57Z","2013-05-14T09:31:16",78.900000000000006,78.78,78.36,78.39,77.89,77.8,null,null,null,"2013-05-09T23:51:27",76.760000000000005,{"$f":"VLOOKUP(O124,[1]Raw!$D:$K,8)","v":19.196399689},7.9701493348591406]
["pCO2",36.756999999999998,-122.106771667,"2013-05-14T11:30:56Z","2013-05-14T10:31:16",77.3,76.92,76.81,76.17,75.86,73.58,null,null,null,"2013-05-10T00:01:27",76.72,{"$f":"VLOOKUP(O125,[1]Raw!$D:$K,8)","v":19.197500228999999},7.9694487357789647]
["pCO2",36.754429999999999,-122.122866667,"2013-05-14T12:30:57Z","2013-05-14T11:31:16",73.28,73.16,73,73.010000000000005,73.14,73.209999999999994,null,null,null,"2013-05-10T00:11:27",76.540000000000006,{"$f":"VLOOKUP(O126,[1]Raw!$D:$K,8)","v":19.196100234999999},7.9663596945879043]
["pCO2",36.752618333000001,-122.134388333,"2013-05-14T13:30:57Z","2013-05-14T12:31:16",73.22,73.39,73.52,73.63,73.77,73.8,null,null,null,"2013-05-10T00:21:27",76.66,{"$f":"VLOOKUP(O127,[1]Raw!$D:$K,8)","v":19.203500748},7.968354275177]
["pCO2",36.750868333,-122.144533333,"2013-05-14T14:30:58Z","2013-05-14T13:31:17",73.8,73.83,73.88,74,73.97,73.989999999999995,null,null,null,"2013-05-10T00:31:28",76.73,{"$f":"VLOOKUP(O128,[1]Raw!$D:$K,8)","v":19.199399948},7.9696020896971866]
["pCO2",36.749645000000001,-122.152503333,"2013-05-14T15:30:57Z","2013-05-14T14:31:18",73.819999999999993,73.7,73.680000000000007,73.709999999999994,73.83,73.819999999999993,null,null,null,"2013-05-10T00:41:28",76.84,{"$f":"VLOOKUP(O129,[1]Raw!$D:$K,8)","v":19.194900513},7.9715435099603562]
["pCO2",36.748631666999998,-122.158235,"2013-05-14T16:30:57Z","2013-05-14T15:31:16",73.87,73.95,73.739999999999995,73.97,73.680000000000007,73.83,null,null,null,"2013-05-10T00:51:28",76.709999999999994,{"$f":"VLOOKUP(O130,[1]Raw!$D:$K,8)","v":19.194299697999998},7.9693084147555284]
["pCO2",36.747973332999997,-122.16316500000001,"2013-05-14T17:30:57Z","2013-05-14T16:31:16",74.13,74.010000000000005,73.930000000000007,73.900000000000006,73.92,73.91,null,null,null,"2013-05-10T01:01:28",76.739999999999995,{"$f":"VLOOKUP(O131,[1]Raw!$D:$K,8)","v":19.192699432000001},7.9698416349522017]
["pCO2",36.746826667000001,-122.16936833299999,"2013-05-14T18:30:59Z","2013-05-14T17:31:16",73.87,73.77,73.790000000000006,73.64,73.540000000000006,73.540000000000006,null,null,null,"2013-05-10T01:11:28",76.63,{"$f":"VLOOKUP(O132,[1]Raw!$D:$K,8)","v":19.192199707},7.9679502972390281]
["pCO2",36.745815,-122.17642499999999,"2013-05-14T19:30:57Z","2013-05-14T18:31:18",73.48,73.52,73.7,73.77,73.81,73.66,null,null,null,"2013-05-10T01:21:28",76.69,{"$f":"VLOOKUP(O133,[1]Raw!$D:$K,8)","v":19.191699981999999},7.9689896749490146]
["pCO2",36.744648333000001,-122.18352166699999,"2013-05-14T20:30:57Z","2013-05-14T19:31:16",73.680000000000007,73.73,73.64,73.61,73.55,73.62,null,null,null,"2013-05-10T01:31:27",76.64,{"$f":"VLOOKUP(O134,[1]Raw!$D:$K,8)","v":19.192100525000001},7.9681236858201547]
["pCO2",36.743888333000001,-122.18837499999999,"2013-05-14T21:30:57Z","2013-05-14T20:31:16",73.7,73.77,73.900000000000006,73.91,73.97,73.95,null,null,null,"2013-05-10T01:41:27",76.75,{"$f":"VLOOKUP(O135,[1]Raw!$D:$K,8)","v":19.191699981999999},7.9700240473805017]
["pCO2",36.743093332999997,-122.193145,"2013-05-14T22:30:58Z","2013-05-14T21:31:16",73.86,74.150000000000006,74.88,75.02,75.16,75.27,null,null,null,"2013-05-10T01:51:27",76.78,{"$f":"VLOOKUP(O136,[1]Raw!$D:$K,8)","v":19.195199966000001},7.9705061469268426]
["pCO2",36.741823332999999,-122.200435,"2013-05-14T23:30:58Z","2013-05-14T22:31:16",75.290000000000006,75.2,75.14,75.39,75.3,75.400000000000006,null,null,null,"2013-05-10T02:01:27",76.78,{"$f":"VLOOKUP(O137,[1]Raw!$D:$K,8)","v":19.195299149},7.9705051526485002]
["pCO2",36.741379999999999,-122.205188333,"2013-05-15T00:30:57Z","2013-05-14T23:31:16",75.45,75.44,75.56,75.53,75.67,75.77,null,null,null,"2013-05-10T02:11:27",76.8,{"$f":"VLOOKUP(O138,[1]Raw!$D:$K,8)","v":19.193599701},7.9708669777427543]
["pCO2",36.739401667000003,-122.216403333,"2013-05-15T01:30:57Z","2013-05-15T00:31:16",75.78,75.86,76.08,76.14,75.989999999999995,75.94,null,null,null,"2013-05-10T02:21:27",76.67,{"$f":"VLOOKUP(O139,[1]Raw!$D:$K,8)","v":19.188699721999999},7.9686749423771257]
["pCO2",36.737301666999997,-122.229495,"2013-05-15T02:30:58Z","2013-05-15T01:31:16",75.98,75.86,75.790000000000006,75.64,75.819999999999993,75.69,null,null,null,"2013-05-10T02:31:27",76.709999999999994,{"$f":"VLOOKUP(O140,[1]Raw!$D:$K,8)","v":19.184499741},7.9694066197159428]
["pCO2",36.734931666999998,-122.244075,"2013-05-15T03:30:57Z","2013-05-15T02:31:17",75.209999999999994,75.58,76.11,76.400000000000006,76.69,76.790000000000006,null,null,null,"2013-05-10T02:41:27",76.81,{"$f":"VLOOKUP(O141,[1]Raw!$D:$K,8)","v":19.188100814999999},7.9710945080155859]
["pCO2",36.732476667,-122.260105,"2013-05-15T04:30:58Z","2013-05-15T03:31:16",76.819999999999993,76.84,76.849999999999994,76.45,76.09,76.66,null,null,null,"2013-05-10T02:51:27",76.81,{"$f":"VLOOKUP(O142,[1]Raw!$D:$K,8)","v":19.187400818},7.9711015268634906]
["pCO2",36.729970000000002,-122.276221667,"2013-05-15T05:30:57Z","2013-05-15T04:31:16",76.92,77,77.2,77.430000000000007,77.66,77.73,null,null,null,"2013-05-10T03:01:27",76.819999999999993,{"$f":"VLOOKUP(O143,[1]Raw!$D:$K,8)","v":19.190399169999999},7.9712438588909951]
["pCO2",36.726965,-122.293785,"2013-05-15T06:30:58Z","2013-05-15T05:31:16",77.47,77.790000000000006,77.72,77.319999999999993,77.39,77.63,null,null,null,"2013-05-10T03:11:27",76.8,{"$f":"VLOOKUP(O144,[1]Raw!$D:$K,8)","v":19.190900803000002},7.9708940370835659]
["pCO2",36.724098333000001,-122.311763333,"2013-05-15T07:30:57Z","2013-05-15T06:31:16",77.64,77.56,77.400000000000006,77.61,77.86,77.86,null,null,null,"2013-05-10T03:21:27",76.75,{"$f":"VLOOKUP(O145,[1]Raw!$D:$K,8)","v":19.191799163999999},7.9700230532638425]
["pCO2",36.72166,-122.327031667,"2013-05-15T08:30:57Z","2013-05-15T07:31:16",77.67,77.47,77.510000000000005,77.53,77.34,77.400000000000006,null,null,null,"2013-05-10T03:31:27",76.78,{"$f":"VLOOKUP(O146,[1]Raw!$D:$K,8)","v":19.191900253},7.97053922589516]
["pCO2",36.719670000000001,-122.339891667,"2013-05-15T09:30:57Z","2013-05-15T08:31:16",77.34,77.45,77.45,77.37,77.180000000000007,77.2,null,null,null,"2013-05-10T03:41:27",76.91,{"$f":"VLOOKUP(O147,[1]Raw!$D:$K,8)","v":19.192899703999998},7.9727703375892816]
["pCO2",36.718065000000003,-122.3498,"2013-05-15T10:30:59Z","2013-05-15T09:31:16",77.150000000000006,77.05,77.010000000000005,77.010000000000005,76.900000000000006,76.81,null,null,null,"2013-05-10T03:51:27",76.930000000000007,{"$f":"VLOOKUP(O148,[1]Raw!$D:$K,8)","v":19.194599151999999},7.9730980753465541]
["pCO2",36.711671666999997,-122.360963333,"2013-05-15T11:30:57Z","2013-05-15T10:31:17",76.760000000000005,76.709999999999994,76.67,76.25,76.290000000000006,76.349999999999994,null,null,null,"2013-05-10T04:01:27",76.849999999999994,{"$f":"VLOOKUP(O149,[1]Raw!$D:$K,8)","v":19.193599701},7.9717289491676597]
["pCO2",36.701883332999998,-122.37234833300001,"2013-05-15T12:30:58Z","2013-05-15T11:31:17",76.48,76.52,76.47,76.52,76.48,76.48,null,null,null,"2013-05-10T04:11:27",76.900000000000006,{"$f":"VLOOKUP(O150,[1]Raw!$D:$K,8)","v":19.194999695},7.9725768760955535]
["pCO2",36.702398332999998,-122.373601667,"2013-05-15T13:30:57Z","2013-05-15T12:31:16",76.44,76.48,76.5,76.540000000000006,76.59,76.64,null,null,null,"2013-05-10T04:21:27",76.84,{"$f":"VLOOKUP(O151,[1]Raw!$D:$K,8)","v":19.196399689},7.9715284759299481]
["pCO2",36.713503332999998,-122.359558333,"2013-05-15T14:30:58Z","2013-05-15T13:31:16",76.67,76.709999999999994,76.73,76.72,76.709999999999994,76.739999999999995,null,null,null,"2013-05-10T04:31:27",76.930000000000007,{"$f":"VLOOKUP(O152,[1]Raw!$D:$K,8)","v":19.195400238000001},7.9730900376120353]
["pCO2",36.719551666999998,-122.341401667,"2013-05-15T15:30:57Z","2013-05-15T14:31:16",76.63,76.489999999999995,76.36,76.34,76.28,76.38,null,null,null,"2013-05-10T04:41:27",76.95,{"$f":"VLOOKUP(O153,[1]Raw!$D:$K,8)","v":19.196699142},7.9734217900050641]
["pCO2",36.722766667000002,-122.31998666699999,"2013-05-15T16:30:58Z","2013-05-15T15:31:17",76.239999999999995,76.56,76.53,76.599999999999994,76.72,76.62,null,null,null,"2013-05-10T04:51:27",76.91,{"$f":"VLOOKUP(O154,[1]Raw!$D:$K,8)","v":19.198699950999998},7.9727121476941019]
["pCO2",36.726260000000003,-122.297296667,"2013-05-15T17:30:57Z","2013-05-15T16:31:16",76.77,76.73,76.48,76.62,77.290000000000006,77.319999999999993,null,null,null,"2013-05-10T05:01:27",77.010000000000005,{"$f":"VLOOKUP(O155,[1]Raw!$D:$K,8)","v":19.196100234999999},7.974462156678352]
["pCO2",36.729928332999997,-122.27455999999999,"2013-05-15T18:30:57Z","2013-05-15T17:31:16",77.569999999999993,77.569999999999993,77.819999999999993,77.8,77.75,77.73,null,null,null,"2013-05-10T05:11:27",76.760000000000005,{"$f":"VLOOKUP(O156,[1]Raw!$D:$K,8)","v":19.200300216999999},7.9701102387236968]
["pCO2",36.733206666999997,-122.253326667,"2013-05-15T19:30:58Z","2013-05-15T18:31:16",77.67,77.69,77.67,77.63,77.53,77.41,null,null,null,"2013-05-10T05:21:27",76.91,{"$f":"VLOOKUP(O157,[1]Raw!$D:$K,8)","v":19.194400786999999},7.9727552780328628]
["pCO2",36.736255,-122.234433333,"2013-05-15T20:30:58Z","2013-05-15T19:31:16",77.38,77.31,77.25,77.14,77.02,76.95,null,null,null,"2013-05-10T05:31:27",76.900000000000006,{"$f":"VLOOKUP(O158,[1]Raw!$D:$K,8)","v":19.20070076},7.9725196853893552]
["pCO2",36.738579999999999,-122.219261667,"2013-05-15T21:30:58Z","2013-05-15T20:31:16",76.89,76.87,76.88,76.88,76.92,76.92,null,null,null,"2013-05-10T05:41:27",76.989999999999995,{"$f":"VLOOKUP(O159,[1]Raw!$D:$K,8)","v":19.196100234999999},7.9741173710574813]
["pCO2",36.74033,-122.208373333,"2013-05-15T22:30:58Z","2013-05-15T21:31:16",77.03,77.099999999999994,77.16,77.17,77.14,77.11,null,null,null,"2013-05-10T05:51:27",76.94,{"$f":"VLOOKUP(O160,[1]Raw!$D:$K,8)","v":19.201000214},7.973206241137496]
["pCO2",36.741661667000002,-122.19996,"2013-05-15T23:30:59Z","2013-05-15T22:31:16",77.11,77.05,77.06,77.09,77.150000000000006,77.17,null,null,null,"2013-05-10T06:01:27",76.88,{"$f":"VLOOKUP(O161,[1]Raw!$D:$K,8)","v":19.199699402},7.9721849490575112]
["pCO2",36.743061666999999,-122.190753333,"2013-05-16T00:30:59Z","2013-05-15T23:31:18",77.12,77.06,77.06,77.03,77.099999999999994,77.03,null,null,null,"2013-05-10T06:11:27",76.94,{"$f":"VLOOKUP(O162,[1]Raw!$D:$K,8)","v":19.197900772000001},7.9732373404171311]
["pCO2",36.744813333000003,-122.179736667,"2013-05-16T01:30:58Z","2013-05-16T00:31:16",76.930000000000007,76.94,76.930000000000007,76.88,76.91,76.81,null,null,null,"2013-05-10T06:21:27",76.92,{"$f":"VLOOKUP(O163,[1]Raw!$D:$K,8)","v":19.203800201},7.9728333705659145]
["pCO2",36.747064999999999,-122.165586667,"2013-05-16T02:30:59Z","2013-05-16T01:31:17",76.8,76.78,76.7,76.66,76.77,76.75,null,null,null,"2013-05-10T06:31:27",76.900000000000006,{"$f":"VLOOKUP(O164,[1]Raw!$D:$K,8)","v":19.203399657999999},7.9724926119482165]
["pCO2",36.749361667000002,-122.15083166700001,"2013-05-16T03:30:58Z","2013-05-16T02:31:16",76.59,76.41,76.38,76.34,76.16,76.069999999999993,null,null,null,"2013-05-10T06:41:27",76.92,{"$f":"VLOOKUP(O165,[1]Raw!$D:$K,8)","v":19.202600479000001},7.972845406650988]
["pCO2",36.751730000000002,-122.13533333300001,"2013-05-16T04:30:59Z","2013-05-16T03:31:16",76.02,75.92,75.94,75.790000000000006,75.69,75.61,null,null,null,"2013-05-10T06:51:27",76.88,{"$f":"VLOOKUP(O166,[1]Raw!$D:$K,8)","v":19.193099975999999},7.9722511446203406]
["pCO2",36.754384999999999,-122.118433333,"2013-05-16T05:30:59Z","2013-05-16T04:31:17",75.400000000000006,75.17,74.98,74.87,74.58,75.040000000000006,null,null,null,"2013-05-10T07:01:27",76.89,{"$f":"VLOOKUP(O167,[1]Raw!$D:$K,8)","v":19.198999404999999},7.97236436133874]
["pCO2",36.756920000000001,-122.10225333299999,"2013-05-16T06:30:58Z","2013-05-16T05:31:17",75.569999999999993,76.61,76.95,76.88,77.209999999999994,76.510000000000005,null,null,null,"2013-05-10T07:11:27",76.790000000000006,{"$f":"VLOOKUP(O168,[1]Raw!$D:$K,8)","v":19.204000473000001},7.9705903153931406]
["pCO2",36.759521667000001,-122.08599833300001,"2013-05-16T07:30:59Z","2013-05-16T06:31:16",76.5,76.39,76.599999999999994,76.36,76.91,77.06,null,null,null,"2013-05-10T07:21:27",76.760000000000005,{"$f":"VLOOKUP(O169,[1]Raw!$D:$K,8)","v":19.206399917999999},7.9700491017239692]
["pCO2",36.762421666999998,-122.06769166700001,"2013-05-16T08:31Z","2013-05-16T07:31:16",77.16,77.14,77.03,76.95,76.59,76.12,null,null,null,"2013-05-10T07:31:28",76.819999999999993,{"$f":"VLOOKUP(O170,[1]Raw!$D:$K,8)","v":19.207099915000001},7.9710764037978734]
["pCO2",36.765251667000001,-122.049036667,"2013-05-16T09:30:59Z","2013-05-16T08:31:17",75.569999999999993,74.98,74.66,74.77,76.09,76.31,null,null,null,"2013-05-10T07:41:28",76.900000000000006,{"$f":"VLOOKUP(O171,[1]Raw!$D:$K,8)","v":19.207199097},7.972454499503165]
["pCO2",36.768265,-122.029921667,"2013-05-16T10:30:58Z","2013-05-16T09:31:16",76.349999999999994,76.08,76,76.239999999999995,76.7,77.06,null,null,null,"2013-05-10T07:51:28",76.84,{"$f":"VLOOKUP(O172,[1]Raw!$D:$K,8)","v":19.207700728999999},7.9714151518503824]
["pCO2",36.771093333000003,-122.01163,"2013-05-16T11:30:59Z","2013-05-16T10:31:16",77.64,78.38,78.62,78.67,78.84,78.67,null,null,null,"2013-05-10T08:01:28",76.72,{"$f":"VLOOKUP(O173,[1]Raw!$D:$K,8)","v":19.206399917999999},7.969359554775747]
["pCO2",36.774241666999998,-121.992196667,"2013-05-16T12:31Z","2013-05-16T11:31:17",78.36,78,77.849999999999994,77.400000000000006,76.72,76.38,null,null,null,"2013-05-10T08:11:28",76.73,{"$f":"VLOOKUP(O174,[1]Raw!$D:$K,8)","v":19.208999634000001},7.9695058900626812]
["pCO2",36.777336667,-121.971996667,"2013-05-16T13:31Z","2013-05-16T12:31:18",76.760000000000005,77.67,78.45,78.650000000000006,78.78,78.91,null,null,null,"2013-05-10T08:21:28",76.680000000000007,{"$f":"VLOOKUP(O175,[1]Raw!$D:$K,8)","v":19.210399628000001},7.9686299391850239]
["pCO2",36.780556666999999,-121.95170166699999,"2013-05-16T14:30:58Z","2013-05-16T13:31:18",79.05,79.06,78.97,79.010000000000005,79.09,79.180000000000007,null,null,null,"2013-05-10T08:31:28",76.77,{"$f":"VLOOKUP(O176,[1]Raw!$D:$K,8)","v":19.205900192000001},7.9702264973885901]
["pCO2",36.783805000000001,-121.931161667,"2013-05-16T15:30:58Z","2013-05-16T14:31:16",79.05,78.23,77.680000000000007,77.569999999999993,77.42,76.95,null,null,null,"2013-05-10T08:41:28",76.73,{"$f":"VLOOKUP(O177,[1]Raw!$D:$K,8)","v":19.210100174000001},7.9694948618195793]
["pCO2",36.786594999999998,-121.912965,"2013-05-16T16:30:59Z","2013-05-16T15:31:16",76.77,76.400000000000006,75.81,74.16,74.13,74.12,null,null,null,"2013-05-10T08:51:28",76.900000000000006,{"$f":"VLOOKUP(O178,[1]Raw!$D:$K,8)","v":19.212299346999998},7.972403340087066]
["pCO2",36.789755,-121.892895,"2013-05-16T17:30:59Z","2013-05-16T16:31:17",74.06,73.95,73.77,73.73,73.64,74.069999999999993,null,null,null,"2013-05-10T09:01:28",76.83,{"$f":"VLOOKUP(O179,[1]Raw!$D:$K,8)","v":19.212400435999999},7.9711956437123286]
["pCO2",36.793044999999999,-121.871558333,"2013-05-16T18:31Z","2013-05-16T17:31:16",74.180000000000007,74.19,74.319999999999993,74.92,74.8,77.88,null,null,null,"2013-05-10T09:11:28",76.760000000000005,{"$f":"VLOOKUP(O180,[1]Raw!$D:$K,8)","v":19.212799071999999},7.9699849660637092]
["pCO2",36.796268333,-121.851431667,"2013-05-16T19:31Z","2013-05-16T18:31:17",81.36,82.05,81.510000000000005,80.040000000000006,83.56,83.7,null,null,null,"2013-05-10T09:21:28",76.790000000000006,{"$f":"VLOOKUP(O181,[1]Raw!$D:$K,8)","v":19.214700699000002},7.9704830530348518]
["pCO2",36.798423333000002,-121.847835,"2013-05-16T20:30:59Z","2013-05-16T19:31:16",84.43,84.46,84.54,84.58,83.27,80.819999999999993,null,null,null,"2013-05-10T09:31:27",76.73,{"$f":"VLOOKUP(O182,[1]Raw!$D:$K,8)","v":19.212999344},7.9694658103410791]
["pCO2",36.797786666999997,-121.85196000000001,"2013-05-16T21:30:58Z","2013-05-16T20:31:16",81.209999999999994,77.319999999999993,75.95,75.010000000000005,75.03,74.819999999999993,null,null,null,"2013-05-10T09:41:27",76.650000000000006,{"$f":"VLOOKUP(O183,[1]Raw!$D:$K,8)","v":19.214700699000002},7.9680697072374196]
["pCO2",36.796538333000001,-121.85975999999999,"2013-05-16T22:30:59Z","2013-05-16T21:31:16",74.83,74.709999999999994,74.599999999999994,74.63,74.45,74.209999999999994,null,null,null,"2013-05-10T09:51:27",76.87,{"$f":"VLOOKUP(O184,[1]Raw!$D:$K,8)","v":19.214899063000001},7.9718601184529216]
["pCO2",36.794641667,-121.87162499999999,"2013-05-16T23:30:59Z","2013-05-16T22:31:16",74.06,74.12,74.23,74.33,74.45,74.39,null,null,null,"2013-05-10T10:01:27",76.75,{"$f":"VLOOKUP(O185,[1]Raw!$D:$K,8)","v":19.213100433000001},7.9698095629495329]
["pCO2",36.791788333,-121.89020499999999,"2013-05-17T00:31Z","2013-05-16T23:31:16",74.599999999999994,74.709999999999994,74.88,75.319999999999993,75.88,76.709999999999994,null,null,null,"2013-05-10T10:11:27",76.739999999999995,{"$f":"VLOOKUP(O186,[1]Raw!$D:$K,8)","v":19.210899352999999},7.9696592375776669]
["pCO2",36.788305000000001,-121.911066667,"2013-05-17T01:30:59Z","2013-05-17T00:31:16",80.31,82.69,82.98,83.82,83.32,82.72,null,null,null,"2013-05-10T10:21:27",76.739999999999995,{"$f":"VLOOKUP(O187,[1]Raw!$D:$K,8)","v":19.216699599999998},7.9696011129859103]
["pCO2",36.785243332999997,-121.93007,"2013-05-17T02:30:58Z","2013-05-17T01:31:16",83.85,83.54,82.76,82.34,81.36,80.25,null,null,null,"2013-05-10T10:31:27",76.78,{"$f":"VLOOKUP(O188,[1]Raw!$D:$K,8)","v":19.217399597},7.9702836194392663]
["pCO2",36.782871667000002,-121.944656667,"2013-05-17T03:30:59Z","2013-05-17T02:31:16",79.459999999999994,78.56,77.78,77.44,77.27,77.14,null,null,null,"2013-05-10T10:41:27",76.88,{"$f":"VLOOKUP(O189,[1]Raw!$D:$K,8)","v":19.208799362000001},7.9720936767821877]
["pCO2",36.780459999999998,-121.95993166700001,"2013-05-17T04:30:58Z","2013-05-17T03:31:16",77.180000000000007,77.17,77.319999999999993,77.760000000000005,78.31,78.11,null,null,null,"2013-05-10T10:51:27",76.89,{"$f":"VLOOKUP(O190,[1]Raw!$D:$K,8)","v":19.218099594000002},7.9721727814951295]
["pCO2",36.778056667000001,-121.975316667,"2013-05-17T05:31:01Z","2013-05-17T04:31:16",78.05,77.709999999999994,77.56,77.13,77.31,77.23,null,null,null,"2013-05-10T11:01:27",76.66,{"$f":"VLOOKUP(O191,[1]Raw!$D:$K,8)","v":19.217699051},7.9682120570672144]
["pCO2",36.775776667000002,-121.98961666700001,"2013-05-17T06:30:59Z","2013-05-17T05:31:17",77.069999999999993,77.02,77,76.959999999999994,77.22,77.180000000000007,null,null,null,"2013-05-10T11:11:27",76.849999999999994,{"$f":"VLOOKUP(O192,[1]Raw!$D:$K,8)","v":19.217800140000001},7.9714862648422793]
["pCO2",36.773811666999997,-122.001443333,"2013-05-17T07:30:58Z","2013-05-17T06:31:16",77.09,77.11,76.64,74.53,74.86,74.98,null,null,null,"2013-05-10T11:21:27",76.84,{"$f":"VLOOKUP(O193,[1]Raw!$D:$K,8)","v":19.211999893000002},7.971372043180148]
["pCO2",36.772136666999998,-122.011966667,"2013-05-17T08:31Z","2013-05-17T07:31:16",75.209999999999994,74.959999999999994,74.349999999999994,74.34,74.349999999999994,74.39,null,null,null,"2013-05-10T11:31:28",76.8,{"$f":"VLOOKUP(O194,[1]Raw!$D:$K,8)","v":19.220800400000002},7.9705942895146782]
["pCO2",36.770141666999997,-122.02464500000001,"2013-05-17T09:30:59Z","2013-05-17T08:31:16",74.36,74.14,74.11,74.09,73.97,73.91,null,null,null,"2013-05-10T11:41:28",76.900000000000006,{"$f":"VLOOKUP(O195,[1]Raw!$D:$K,8)","v":19.207599640000002},7.9724504816853301]
["pCO2",36.767924999999998,-122.038005,"2013-05-17T10:30:59Z","2013-05-17T09:31:16",73.61,73.91,73.91,73.989999999999995,74.099999999999994,74.23,null,null,null,"2013-05-10T11:51:28",76.67,{"$f":"VLOOKUP(O196,[1]Raw!$D:$K,8)","v":19.208299637},7.9684785909037963]
["pCO2",36.765773332999999,-122.05195500000001,"2013-05-17T11:30:59Z","2013-05-17T10:31:16",74.430000000000007,74.510000000000005,74.83,74.87,74.849999999999994,75.06,null,null,null,"2013-05-10T12:01:28",76.790000000000006,{"$f":"VLOOKUP(O197,[1]Raw!$D:$K,8)","v":19.204599380000001},7.97058431155763]
["pCO2",36.763616667000001,-122.065708333,"2013-05-17T12:30:59Z","2013-05-17T11:31:16",75.27,75.37,75.5,75.540000000000006,75.55,75.36,null,null,null,"2013-05-10T12:11:28",76.849999999999994,{"$f":"VLOOKUP(O198,[1]Raw!$D:$K,8)","v":19.215299605999999},7.9715113385761098]
["pCO2",36.762076667000002,-122.07467,"2013-05-17T13:30:59Z","2013-05-17T12:31:16",75.22,75.33,75.22,75.78,75.86,76.12,null,null,null,"2013-05-10T12:21:28",76.819999999999993,{"$f":"VLOOKUP(O199,[1]Raw!$D:$K,8)","v":19.215099335000001},7.9709962019595109]
["pCO2",36.760721666999999,-122.08336666700001,"2013-05-17T14:31Z","2013-05-17T13:31:16",76.09,76.31,76.319999999999993,76.34,76.25,75.739999999999995,null,null,null,"2013-05-10T12:31:27",76.84,{"$f":"VLOOKUP(O200,[1]Raw!$D:$K,8)","v":19.217699051},7.9713148984140902]
["pCO2",36.759650000000001,-122.08974499999999,"2013-05-17T15:31Z","2013-05-17T14:31:18",75.790000000000006,75.819999999999993,76.05,76.22,76.319999999999993,76.510000000000005,null,null,null,"2013-05-10T12:41:27",76.849999999999994,{"$f":"VLOOKUP(O201,[1]Raw!$D:$K,8)","v":19.218999863000001},7.9714742349500822]
["pCO2",36.759453333000003,-122.09231666700001,"2013-05-17T16:30:59Z","2013-05-17T15:31:16",76.569999999999993,76.62,76.59,76.58,76.73,76.83,null,null,null,"2013-05-10T12:51:27",76.790000000000006,{"$f":"VLOOKUP(O202,[1]Raw!$D:$K,8)","v":19.219100952000002},7.9704389458228517]
["pCO2",36.757648332999999,-122.09102166700001,"2013-05-17T17:31:01Z","2013-05-17T16:31:16",76.8,76.92,77.06,77.12,77.099999999999994,77.510000000000005,null,null,null,"2013-05-10T13:01:27",76.89,{"$f":"VLOOKUP(O203,[1]Raw!$D:$K,8)","v":19.220500946000001},7.9721486970838438]
["pCO2",36.753129999999999,-122.09453000000001,"2013-05-17T18:30:59Z","2013-05-17T17:31:18",77.569999999999993,77.69,77.66,77.7,77.62,77.59,null,null,null,"2013-05-10T13:11:27",76.87,{"$f":"VLOOKUP(O204,[1]Raw!$D:$K,8)","v":19.219900130999999},7.9718099653794807]
["pCO2",36.755088333000003,-122.089125,"2013-05-17T19:30:59Z","2013-05-17T18:31:16",77.56,77.459999999999994,77.53,77.66,77.22,77.02,null,null,null,"2013-05-10T13:21:27",76.91,{"$f":"VLOOKUP(O205,[1]Raw!$D:$K,8)","v":19.22179985},7.9724804251773023]
["pCO2",36.75929,-122.07035,"2013-05-17T20:30:59Z","2013-05-17T19:31:17",76.900000000000006,76.959999999999994,76.94,76.86,76.650000000000006,76.650000000000006,null,null,null,"2013-05-10T17:31:33",66.55,{"$f":"VLOOKUP(O206,[1]Raw!$D:$K,8)","v":19.229299545},7.7938265292787579]
["pCO2",36.763146667000001,-122.05294499999999,"2013-05-17T21:30:59Z","2013-05-17T20:31:16",76.67,76.84,76.98,77.11,77.37,77.319999999999993,null,null,null,"2013-05-10T17:41:33",66.37,{"$f":"VLOOKUP(O207,[1]Raw!$D:$K,8)","v":19.229299545},7.7907238110407766]
["pCO2",36.767618333000001,-122.033426667,"2013-05-17T22:31Z","2013-05-17T21:31:16",77.11,76.91,76.63,76.33,76.319999999999993,76.3,null,null,null,"2013-05-10T17:51:33",88.08,{"$f":"VLOOKUP(O208,[1]Raw!$D:$K,8)","v":19.229299545},8.1649461051883225]
["pCO2",36.771181667,-122.01804166700001,"2013-05-17T23:30:59Z","2013-05-17T22:31:17",76.31,76.33,76.23,76.22,76.08,76.06,null,null,null,"2013-05-10T18:01:33",86.91,{"$f":"VLOOKUP(O209,[1]Raw!$D:$K,8)","v":19.229299545},8.1447784366414488]
["pCO2",36.773876667000003,-122.005541667,"2013-05-18T00:31Z","2013-05-17T23:31:16",75.989999999999995,76.05,76.209999999999994,76.3,76.28,76.239999999999995,null,null,null,"2013-05-10T18:11:33",88.61,{"$f":"VLOOKUP(O210,[1]Raw!$D:$K,8)","v":13.173299789},8.2403740424314567]
["pCO2",36.775548333000003,-121.995588333,"2013-05-18T01:30:59Z","2013-05-18T00:31:16",76.25,76.19,76.099999999999994,76.16,76.2,76.34,null,null,null,"2013-05-10T18:21:33",88.15,{"$f":"VLOOKUP(O211,[1]Raw!$D:$K,8)","v":13.045799255},8.233699400111302]
["pCO2",36.776960000000003,-121.988355,"2013-05-18T02:31:01Z","2013-05-18T01:31:16",76.33,76.48,76.430000000000007,76.34,75.91,75.7,null,null,null,"2013-05-10T18:31:16",88.47,{"$f":"VLOOKUP(O212,[1]Raw!$D:$K,8)","v":13.215200424000001},8.2374418367292321]
["pCO2",36.780128333,-121.977896667,"2013-05-18T03:31:02Z","2013-05-18T02:31:17",75.17,75.010000000000005,74.83,74.47,74.489999999999995,74.489999999999995,null,null,null,"2013-05-10T18:41:16",88.65,{"$f":"VLOOKUP(O213,[1]Raw!$D:$K,8)","v":13.084899902},8.2420667801555911]
["pCO2",36.783895000000001,-121.961516667,"2013-05-18T04:31Z","2013-05-18T03:31:18",74.66,74.86,75.3,75.69,76.03,76.319999999999993,null,null,null,"2013-05-10T18:51:16",89.93,{"$f":"VLOOKUP(O214,[1]Raw!$D:$K,8)","v":13.387500763},8.2611986326995872]
["pCO2",36.787268333,-121.947136667,"2013-05-18T05:31Z","2013-05-18T04:31:16",76.53,77,77.400000000000006,77.91,78.09,78.25,null,null,null,"2013-05-10T19:01:16",91.08,{"$f":"VLOOKUP(O215,[1]Raw!$D:$K,8)","v":13.453800201},8.2806758258637014]
["pCO2",36.790095000000001,-121.934595,"2013-05-18T06:31Z","2013-05-18T05:31:16",78.37,77.67,77.64,77.39,77.34,78.17,null,null,null,"2013-05-10T19:11:16",91.44,{"$f":"VLOOKUP(O216,[1]Raw!$D:$K,8)","v":13.378599167000001},8.2878585491179138]
["pCO2",36.792726666999997,-121.92264,"2013-05-18T07:31Z","2013-05-18T06:31:16",78.89,79.510000000000005,79.75,79.83,80.13,80.41,null,null,null,"2013-05-10T19:21:16",91.7,{"$f":"VLOOKUP(O217,[1]Raw!$D:$K,8)","v":13.394199370999999},8.2922546866399145]
["pCO2",36.795696667000001,-121.90947,"2013-05-18T08:31:01Z","2013-05-18T07:31:16",80.150000000000006,79.94,79.86,79.900000000000006,79.760000000000005,79.81,null,null,null,"2013-05-10T19:31:16",91.73,{"$f":"VLOOKUP(O218,[1]Raw!$D:$K,8)","v":13.265600204},8.294242893133756]
["pCO2",36.798828333000003,-121.89588500000001,"2013-05-18T09:31Z","2013-05-18T08:31:18",79.77,79.650000000000006,79.38,79.03,78.459999999999994,77.760000000000005,null,null,null,"2013-05-10T19:41:16",91.34,{"$f":"VLOOKUP(O219,[1]Raw!$D:$K,8)","v":13.36300087},8.2862763519898941]
["pCO2",36.801589999999997,-121.883568333,"2013-05-18T10:31Z","2013-05-18T09:31:16",77.19,77.2,77.52,77.56,77.599999999999994,77.56,null,null,null,"2013-05-10T19:51:16",91.3,{"$f":"VLOOKUP(O220,[1]Raw!$D:$K,8)","v":13.388700484999999},8.2852816322014871]
["pCO2",36.804276667000003,-121.871761667,"2013-05-18T11:31:02Z","2013-05-18T10:31:16",77.41,77.319999999999993,77.040000000000006,77.28,77.06,76.75,null,null,null,"2013-05-10T20:01:16",90.69,{"$f":"VLOOKUP(O221,[1]Raw!$D:$K,8)","v":13.248500824000001},8.2761360186137942]
["pCO2",36.805911666999997,-121.864088333,"2013-05-18T12:31:01Z","2013-05-18T11:31:17",76.42,80.959999999999994,81.680000000000007,81.98,82.82,83.12,null,null,null,"2013-05-10T20:11:16",90.29,{"$f":"VLOOKUP(O222,[1]Raw!$D:$K,8)","v":13.249900818},8.2690813184285297]
["pCO2",36.808340000000001,-121.853603333,"2013-05-18T13:31:02Z","2013-05-18T12:31:18",84.15,83.83,84.81,83.97,84.52,84.32,null,null,null,"2013-05-10T20:21:16",90.11,{"$f":"VLOOKUP(O223,[1]Raw!$D:$K,8)","v":13.192699432},8.2665582811309424]
["pCO2",36.809183333,-121.84921,"2013-05-18T14:31:01Z","2013-05-18T13:31:17",84.56,84.94,84.9,85.19,84.91,85.12,null,null,null,"2013-05-10T20:31:16",89.53,{"$f":"VLOOKUP(O224,[1]Raw!$D:$K,8)","v":13.139499664000001},8.2569475745691818]
["pCO2",36.809361666999997,-121.85021,"2013-05-18T15:31Z","2013-05-18T14:31:16",88.2,91.17,91.82,91.83,91.47,91.47,null,null,null,"2013-05-10T20:41:16",88.2,{"$f":"VLOOKUP(O225,[1]Raw!$D:$K,8)","v":12.996599197},8.2351291919248144]
["pCO2",36.808689999999999,-121.85002166699999,"2013-05-18T16:31:01Z","2013-05-18T15:31:16",91.49,91.47,91.46,91.58,91.37,91.05,null,null,null,"2013-05-10T20:51:16",87.32,{"$f":"VLOOKUP(O226,[1]Raw!$D:$K,8)","v":12.985399246},8.2197544110175773]
["pCO2",36.808391667000002,-121.849785,"2013-05-18T17:31:01Z","2013-05-18T16:31:16",91.08,91.01,91.05,91.15,91.18,91.18,null,null,null,"2013-05-10T21:01:16",86.89,{"$f":"VLOOKUP(O227,[1]Raw!$D:$K,8)","v":12.965999603},8.2123957157212857]
["pCO2",36.808476667000001,-121.848401667,"2013-05-18T18:31Z","2013-05-18T17:31:17",91.14,91.16,91.01,91.02,90.91,90.61,null,null,null,"2013-05-10T21:11:16",86.69,{"$f":"VLOOKUP(O228,[1]Raw!$D:$K,8)","v":12.933799744},8.2092294708626738]
["pCO2",36.808419999999998,-121.849778333,"2013-05-18T19:31Z","2013-05-18T18:31:16",90.75,90.72,89.64,89.61,90.53,89.95,null,null,null,"2013-05-10T21:21:16",86.41,{"$f":"VLOOKUP(O229,[1]Raw!$D:$K,8)","v":12.836299896},8.2053756536722311]
["pCO2",36.808276667000001,-121.847616667,"2013-05-18T20:31Z","2013-05-18T19:31:16",90.79,90.18,90.55,90.13,88.63,85.39,null,null,null,"2013-05-10T21:31:17",86.77,{"$f":"VLOOKUP(O230,[1]Raw!$D:$K,8)","v":12.895900726000001},8.2110589108352698]
["pCO2",36.808243333,-121.848696667,"2013-05-18T21:31:01Z","2013-05-18T20:31:16",86.4,84.6,83.78,83.15,82.96,82.94,null,null,null,"2013-05-10T21:41:17",85.66,{"$f":"VLOOKUP(O231,[1]Raw!$D:$K,8)","v":12.806999207},8.1924816697083234]
["pCO2",36.808345000000003,-121.849665,"2013-05-18T22:31Z","2013-05-18T21:31:16",82.44,81.8,80.739999999999995,80.67,80.64,81.31,null,null,null,"2013-05-10T21:51:17",85.39,{"$f":"VLOOKUP(O232,[1]Raw!$D:$K,8)","v":12.865999221999999},8.1870737135477665]
["pCO2",36.808414999999997,-121.849156667,"2013-05-18T23:31Z","2013-05-18T22:31:17",82.16,83.45,83.13,83.31,83.96,83.06,null,null,null,"2013-05-10T22:01:17",85.08,{"$f":"VLOOKUP(O233,[1]Raw!$D:$K,8)","v":12.841400146},8.1818814937295592]
["pCO2",36.809220000000003,-121.84891,"2013-05-19T00:31Z","2013-05-18T23:31:16",83.1,83.17,82.48,82.81,83.01,82.42,null,null,null,"2013-05-10T22:11:17",84.5,{"$f":"VLOOKUP(O234,[1]Raw!$D:$K,8)","v":12.745199203},8.1727143669547466]
["pCO2",36.809195000000003,-121.85008500000001,"2013-05-19T01:31:02Z","2013-05-19T00:31:17",81.96,81.63,80.81,81.790000000000006,80.61,81,null,null,null,"2013-05-10T22:21:17",84.1,{"$f":"VLOOKUP(O235,[1]Raw!$D:$K,8)","v":12.728300095},8.1658478374108441]
["pCO2",36.808818332999998,-121.849445,"2013-05-19T02:31Z","2013-05-19T01:31:18",80.349999999999994,81.38,81.069999999999993,83.31,82.27,83.04,null,null,null,"2013-05-10T22:31:16",83.64,{"$f":"VLOOKUP(O236,[1]Raw!$D:$K,8)","v":12.631299973000001},8.1587966365245936]
["pCO2",36.808430000000001,-121.849231667,"2013-05-19T03:31:01Z","2013-05-19T02:31:16",83.26,84.1,87.9,88.49,88.93,88.89,null,null,null,"2013-05-10T22:41:16",83.48,{"$f":"VLOOKUP(O237,[1]Raw!$D:$K,8)","v":12.744800568},8.1547378789925453]
["pCO2",36.808318333000003,-121.84898,"2013-05-19T04:31Z","2013-05-19T03:31:17",88.63,87.99,88.4,88.18,88.37,88.64,null,null,null,"2013-05-10T22:51:16",82.78,{"$f":"VLOOKUP(O238,[1]Raw!$D:$K,8)","v":12.600400925000001},8.1439659081963747]
["pCO2",36.809105000000002,-121.847783333,"2013-05-19T05:31Z","2013-05-19T04:31:16",89.15,88.85,89.97,89.04,90.53,90.01,null,null,null,"2013-05-10T23:01:16",81.69,{"$f":"VLOOKUP(O239,[1]Raw!$D:$K,8)","v":12.540300369000001},8.1253903318770586]
["pCO2",36.808839999999996,-121.84995499999999,"2013-05-19T06:31Z","2013-05-19T05:31:16",90.61,90.5,90.63,90.44,90.54,90.58,null,null,null,"2013-05-10T23:11:16",80.83,{"$f":"VLOOKUP(O240,[1]Raw!$D:$K,8)","v":12.595600127999999},8.1096249453276261]
["pCO2",36.808824999999999,-121.847436667,"2013-05-19T07:31:01Z","2013-05-19T06:31:16",90.44,90.58,90.81,90.67,91.19,90.65,null,null,null,"2013-05-10T23:21:16",80.52,{"$f":"VLOOKUP(O241,[1]Raw!$D:$K,8)","v":12.627599716000001},8.1038141984199648]
["pCO2",36.808315,-121.848961667,"2013-05-19T08:31:02Z","2013-05-19T07:31:16",91.33,91.44,90.87,91.6,90.5,91.32,null,null,null,"2013-05-10T23:31:16",80.569999999999993,{"$f":"VLOOKUP(O242,[1]Raw!$D:$K,8)","v":12.568199158000001},8.1053331559469122]
["pCO2",36.808898333000002,-121.84987833300001,"2013-05-19T09:31Z","2013-05-19T08:31:18",90.94,90.48,91.23,90.44,90.09,91.45,null,null,null,"2013-05-10T23:41:16",79.61,{"$f":"VLOOKUP(O243,[1]Raw!$D:$K,8)","v":12.488700867},8.0892480058321752]
["pCO2",36.809265000000003,-121.849665,"2013-05-19T10:31Z","2013-05-19T09:31:16",89.88,91.19,91.4,89.56,91.63,90.61,null,null,null,"2013-05-10T23:51:16",78.73,{"$f":"VLOOKUP(O244,[1]Raw!$D:$K,8)","v":12.419000626000001},8.074461696836515]
["pCO2",36.809278333000002,-121.849646667,"2013-05-19T11:31:01Z","2013-05-19T10:31:16",88.89,89.68,88.62,88.23,88.29,87.71,null,null,null,"2013-05-11T00:01:16",78.11,{"$f":"VLOOKUP(O245,[1]Raw!$D:$K,8)","v":12.421499252},8.0634932315539363]
["pCO2",36.809179999999998,-121.84837166699999,"2013-05-19T12:31:02Z","2013-05-19T11:31:17",87.45,87.08,87.01,86.79,86.81,86.2,null,null,null,"2013-05-11T00:11:16",78.13,{"$f":"VLOOKUP(O246,[1]Raw!$D:$K,8)","v":12.409500122000001},8.0639732645446429]
["pCO2",36.809154999999997,-121.848283333,"2013-05-19T13:31:01Z","2013-05-19T12:31:18",86.22,86.15,85.69,85.88,85.9,85.55,null,null,null,"2013-05-11T00:21:16",77.930000000000007,{"$f":"VLOOKUP(O247,[1]Raw!$D:$K,8)","v":12.410299301},8.0604350130937714]
["pCO2",36.809171667000001,-121.849405,"2013-05-19T14:31:03Z","2013-05-19T13:31:17",85.91,86.01,84.87,85.25,84.99,84.34,null,null,null,"2013-05-11T00:31:16",76.989999999999995,{"$f":"VLOOKUP(O248,[1]Raw!$D:$K,8)","v":12.384399414000001},8.0441174932416555]
["pCO2",36.809236667,-121.84998,"2013-05-19T15:31:02Z","2013-05-19T14:31:18",84.53,85.17,85.34,85.35,85.45,85.2,null,null,null,"2013-05-11T00:41:16",76.84,{"$f":"VLOOKUP(O249,[1]Raw!$D:$K,8)","v":12.333900452},8.0420008680338757]
["pCO2",36.809143333000002,-121.85006666699999,"2013-05-19T16:31:02Z","2013-05-19T15:31:17",85.26,85.39,85.59,85.77,85.89,86.15,null,null,null,"2013-05-11T00:51:16",76.819999999999993,{"$f":"VLOOKUP(O250,[1]Raw!$D:$K,8)","v":12.281799316000001},8.0421957287260462]
["pCO2",36.808706667000003,-121.84992666700001,"2013-05-19T17:31Z","2013-05-19T16:31:18",86.55,86.46,86.32,86.36,86.49,87.13,null,null,null,"2013-05-11T01:01:16",76.66,{"$f":"VLOOKUP(O251,[1]Raw!$D:$K,8)","v":12.271900176999999},8.0394746583301053]
["pCO2",36.809094999999999,-121.850006667,"2013-05-19T18:31:02Z","2013-05-19T17:31:16",86.87,87.32,88.45,87.56,86.95,87.72,null,null,null,"2013-05-11T01:11:16",76.709999999999994,{"$f":"VLOOKUP(O252,[1]Raw!$D:$K,8)","v":12.229099273999999},8.0408075486798936]
["pCO2",36.809313332999999,-121.848436667,"2013-05-19T19:31:01Z","2013-05-19T18:31:16",87.56,87.51,86.84,87.42,87.15,87.3,null,null,null,"2013-05-11T01:21:16",76.78,{"$f":"VLOOKUP(O253,[1]Raw!$D:$K,8)","v":12.238199234},8.0419480297719925]
["pCO2",36.808325000000004,-121.849458333,"2013-05-19T20:31:01Z","2013-05-19T19:31:16",86.33,86.74,84.95,84.01,83.93,84.03,null,null,null,"2013-05-11T01:31:18",76.63,{"$f":"VLOOKUP(O254,[1]Raw!$D:$K,8)","v":12.21969986},8.0394935354598562]
["pCO2",36.808456667000002,-121.84831833299999,"2013-05-19T21:31:02Z","2013-05-19T20:31:16",84.04,85.94,85.95,86.41,86.11,85.85,null,null,null,"2013-05-11T01:41:18",76.62,{"$f":"VLOOKUP(O255,[1]Raw!$D:$K,8)","v":12.213800429999999},8.0393789375340514]
["pCO2",36.808393332999998,-121.848198333,"2013-05-19T22:31:01Z","2013-05-19T21:31:17",85.44,86.14,86.74,86.67,87.51,87.08,null,null,null,"2013-05-11T01:51:18",76.55,{"$f":"VLOOKUP(O256,[1]Raw!$D:$K,8)","v":12.185400009},8.0384410928249235]
["pCO2",36.808266666999998,-121.849146667,"2013-05-19T23:31:02Z","2013-05-19T22:31:17",86.95,86.06,85.74,85.74,85.16,85.23,null,null,null,"2013-05-11T02:01:18",76.53,{"$f":"VLOOKUP(O257,[1]Raw!$D:$K,8)","v":12.187099457},8.0380699784331551]
["pCO2",36.808433333000004,-121.849961667,"2013-05-20T00:31:01Z","2013-05-19T23:31:17",85.2,85.37,85.22,85.45,85.43,85.45,null,null,null,"2013-05-11T02:11:18",76.52,{"$f":"VLOOKUP(O258,[1]Raw!$D:$K,8)","v":12.176599503},8.0380036787851417]
["pCO2",36.809221667000003,-121.847933333,"2013-05-20T01:31:01Z","2013-05-20T00:31:16",85.71,85.76,86.3,86.8,86.85,87.22,null,null,null,"2013-05-11T02:21:18",76.58,{"$f":"VLOOKUP(O259,[1]Raw!$D:$K,8)","v":12.177999496},8.0390487664828676]
["pCO2",36.809048333,-121.850226667,"2013-05-20T02:31:01Z","2013-05-20T01:31:16",87.47,87.6,87.2,87.32,87.28,86.61,null,null,null,"2013-05-11T02:31:16",76.64,{"$f":"VLOOKUP(O260,[1]Raw!$D:$K,8)","v":12.293399811},8.0388956018428281]
["pCO2",36.809228333,-121.849386667,"2013-05-20T03:31:02Z","2013-05-20T02:31:16",86.64,86.97,86.66,86.91,87.57,87.52,null,null,null,"2013-05-11T02:41:16",79.94,{"$f":"VLOOKUP(O261,[1]Raw!$D:$K,8)","v":12.493099213000001},8.0950235127872183]
["pCO2",36.809170000000002,-121.84952833299999,"2013-05-20T04:31:01Z","2013-05-20T03:31:17",87.37,87.38,87.19,87.03,87.15,87.03,null,null,null,"2013-05-11T02:51:16",79.37,{"$f":"VLOOKUP(O262,[1]Raw!$D:$K,8)","v":12.399400711},8.0859657441215091]
["pCO2",36.809175000000003,-121.848711667,"2013-05-20T05:31:02Z","2013-05-20T04:31:16",86.68,86.65,86.69,86.3,86.58,86.73,null,null,null,"2013-05-11T03:01:16",79.27,{"$f":"VLOOKUP(O263,[1]Raw!$D:$K,8)","v":12.389099120999999},8.0843106163784029]
["pCO2",36.80829,-121.847645,"2013-05-20T06:31Z","2013-05-20T05:31:18",86.57,86.32,86.01,85.97,85.84,85.84,null,null,null,"2013-05-11T03:11:16",78.5,{"$f":"VLOOKUP(O264,[1]Raw!$D:$K,8)","v":12.326700211},8.0713824078565004]
["pCO2",36.808383333000002,-121.849548333,"2013-05-20T07:31:01Z","2013-05-20T06:31:16",86.14,85.83,86.47,87.79,87.67,88.16,null,null,null,"2013-05-11T03:21:16",77.06,{"$f":"VLOOKUP(O265,[1]Raw!$D:$K,8)","v":12.186100006},8.0474417683215975]
["pCO2",36.808338333000002,-121.84804,"2013-05-20T08:31:01Z","2013-05-20T07:31:16",87.84,87.69,88.36,88.02,87.05,87.45,null,null,null,"2013-05-11T03:31:17",76.78,{"$f":"VLOOKUP(O266,[1]Raw!$D:$K,8)","v":12.178499221999999},8.0425761692317046]
["pCO2",36.808321667000001,-121.849291667,"2013-05-20T09:31:02Z","2013-05-20T08:31:17",86.57,86.5,86.63,86.58,86.22,86.37,null,null,null,"2013-05-11T03:41:17",76.790000000000006,{"$f":"VLOOKUP(O267,[1]Raw!$D:$K,8)","v":12.175199509},8.0427875299695177]
["pCO2",36.809411666999999,-121.84905999999999,"2013-05-20T10:31:01Z","2013-05-20T09:31:16",86.42,86.31,86.29,86.11,85.98,86,null,null,null,"2013-05-11T03:51:17",76.83,{"$f":"VLOOKUP(O268,[1]Raw!$D:$K,8)","v":12.170799255},8.0435403920490796]
["pCO2",36.808351666999997,-121.848293333,"2013-05-20T11:31:02Z","2013-05-20T10:31:16",86.37,86.11,86.28,86.81,87.62,86.9,null,null,null,"2013-05-11T04:01:17",76.819999999999993,{"$f":"VLOOKUP(O269,[1]Raw!$D:$K,8)","v":12.124500275000001},8.0438512156825031]
["pCO2",36.809286667000002,-121.84972999999999,"2013-05-20T12:31:02Z","2013-05-20T11:31:17",86.53,87.14,87.77,87.12,87.22,86.81,null,null,null,"2013-05-11T04:11:17",76.989999999999995,{"$f":"VLOOKUP(O270,[1]Raw!$D:$K,8)","v":12.145999908},8.0466279353260077]
["pCO2",36.808843332999999,-121.850015,"2013-05-20T13:31:02Z","2013-05-20T12:31:16",86.5,86.3,86.23,86.18,86.04,85.57,null,null,null,"2013-05-11T04:21:17",77.180000000000007,{"$f":"VLOOKUP(O271,[1]Raw!$D:$K,8)","v":12.131299973000001},8.050139446905856]
["pCO2",36.809255,-121.850365,"2013-05-20T14:31:02Z","2013-05-20T13:31:16",86.13,86.01,86.01,86.39,86.25,86.62,null,null,null,"2013-05-11T04:31:16",77.33,{"$f":"VLOOKUP(O272,[1]Raw!$D:$K,8)","v":12.108999252},8.0530249208576681]
["pCO2",36.808349999999997,-121.84983333300001,"2013-05-20T15:31:02Z","2013-05-20T14:31:18",86.74,87,87.2,87.68,87.84,87.42,null,null,null,"2013-05-11T04:41:16",77.16,{"$f":"VLOOKUP(O273,[1]Raw!$D:$K,8)","v":12.082899094},8.0502968781597133]
["pCO2",36.807888333000001,-121.849101667,"2013-05-20T16:31:01Z","2013-05-20T15:31:16",87.34,87.47,87.79,88.09,88.14,88.59,null,null,null,"2013-05-11T04:51:16",76.66,{"$f":"VLOOKUP(O274,[1]Raw!$D:$K,8)","v":12.0522995},8.0417843260748931]
["pCO2",36.798605000000002,-121.84722499999999,"2013-05-20T17:31:02Z","2013-05-20T16:31:16",88.82,89.4,89.65,91.13,91.84,92.12,null,null,null,"2013-05-11T05:01:16",76.83,{"$f":"VLOOKUP(O275,[1]Raw!$D:$K,8)","v":12.094999313000001},8.0443385850936178]
["pCO2",36.795858332999998,-121.86417166699999,"2013-05-20T18:31:02Z","2013-05-20T17:31:16",92.22,92.11,92.03,91.61,90.75,89.5,null,null,null,"2013-05-11T05:11:16",77.27,{"$f":"VLOOKUP(O276,[1]Raw!$D:$K,8)","v":12.141199112000001},8.0516248971665014]
["pCO2",36.794053333000001,-121.87522166700001,"2013-05-20T19:31:02Z","2013-05-20T18:31:16",88.65,89.35,89.38,89.33,89.7,89.48,null,null,null,"2013-05-11T05:21:16",77.47,{"$f":"VLOOKUP(O277,[1]Raw!$D:$K,8)","v":12.165800095},8.0548980224661868]
["pCO2",36.792193333,-121.88660166699999,"2013-05-20T20:31:03Z","2013-05-20T19:31:16",89.55,89.22,89.47,89.93,89.59,90.61,null,null,null,"2013-05-11T05:31:17",77.48,{"$f":"VLOOKUP(O278,[1]Raw!$D:$K,8)","v":12.188600539999999},8.0548337256040465]
["pCO2",36.791303333000002,-121.89269,"2013-05-20T21:31:02Z","2013-05-20T20:31:19",90.97,91.73,91.49,90.85,89.1,89.77,null,null,null,"2013-05-11T05:41:17",77.349999999999994,{"$f":"VLOOKUP(O279,[1]Raw!$D:$K,8)","v":12.182800293},8.0525988229670933]
["pCO2",36.790113333000001,-121.899248333,"2013-05-20T22:31:02Z","2013-05-20T21:31:16",90.29,90.63,90.13,90.46,90.29,89.37,null,null,null,"2013-05-11T05:51:17",77.66,{"$f":"VLOOKUP(O280,[1]Raw!$D:$K,8)","v":12.250600815},8.0573573360349346]
["pCO2",36.789389999999997,-121.90423333299999,"2013-05-20T23:31:03Z","2013-05-20T22:31:16",89.04,88.63,88.17,87.99,86.98,87.67,null,null,null,"2013-05-11T06:01:17",77.81,{"$f":"VLOOKUP(O281,[1]Raw!$D:$K,8)","v":12.251300812},8.0599987508777176]
["pCO2",36.788119999999999,-121.91224,"2013-05-21T00:31:02Z","2013-05-20T23:31:18",88.18,88.01,87.61,88.45,88.35,88.81,null,null,null,"2013-05-11T06:11:17",77.23,{"$f":"VLOOKUP(O282,[1]Raw!$D:$K,8)","v":12.191400528000001},8.0503885203185526]
["pCO2",36.786283333,-121.923426667,"2013-05-21T01:31:02Z","2013-05-21T00:31:17",89.01,88.29,86.84,86.22,85.45,84.45,null,null,null,"2013-05-11T06:21:17",77.099999999999994,{"$f":"VLOOKUP(O283,[1]Raw!$D:$K,8)","v":12.193700789999999},8.0480681473357425]
["pCO2",36.783911666999998,-121.938551667,"2013-05-21T02:31:01Z","2013-05-21T01:31:16",83.73,83.15,83.58,83.06,83.86,83.07,null,null,null,"2013-05-11T06:31:16",76.92,{"$f":"VLOOKUP(O284,[1]Raw!$D:$K,8)","v":12.181400299},8.0450184729608818]
["pCO2",36.781485000000004,-121.95371666699999,"2013-05-21T03:31:03Z","2013-05-21T02:31:16",82.39,82.31,80.94,79.95,78.349999999999994,75.489999999999995,null,null,null,"2013-05-11T06:41:16",77.040000000000006,{"$f":"VLOOKUP(O285,[1]Raw!$D:$K,8)","v":12.201599120999999},8.046925170724947]
["pCO2",36.779404999999997,-121.967391667,"2013-05-21T04:31:04Z","2013-05-21T03:31:17",72.53,74.09,74.44,75.06,75.930000000000007,76.52,null,null,null,"2013-05-11T06:51:16",77.23,{"$f":"VLOOKUP(O286,[1]Raw!$D:$K,8)","v":12.230499268000001},8.0499760577020822]
["pCO2",36.776298333,-121.986741667,"2013-05-21T05:31:02Z","2013-05-21T04:31:18",75.08,67.45,66.400000000000006,66.08,65.650000000000006,65.02,null,null,null,"2013-05-11T07:01:16",77.28,{"$f":"VLOOKUP(O287,[1]Raw!$D:$K,8)","v":12.229999542},8.0508643332454355]
["pCO2",36.773195000000001,-122.005493333,"2013-05-21T06:31:02Z","2013-05-21T05:31:16",64.760000000000005,65.03,65.62,66.34,66.680000000000007,67.25,null,null,null,"2013-05-11T07:11:16",77.64,{"$f":"VLOOKUP(O288,[1]Raw!$D:$K,8)","v":12.256900786999999},8.0569375598221082]
["pCO2",36.770571666999999,-122.02210833300001,"2013-05-21T07:31:02Z","2013-05-21T06:31:16",67.98,68.36,68.930000000000007,68.92,68.989999999999995,69.05,null,null,null,"2013-05-11T07:21:16",77.78,{"$f":"VLOOKUP(O289,[1]Raw!$D:$K,8)","v":12.271099091},8.0592595304367762]
["pCO2",36.767926666999998,-122.03841166700001,"2013-05-21T08:31:02Z","2013-05-21T07:31:16",69.58,69.430000000000007,69.86,69.959999999999994,70.14,70.239999999999995,null,null,null,"2013-05-11T07:31:17",77.91,{"$f":"VLOOKUP(O290,[1]Raw!$D:$K,8)","v":12.268100738999999},8.0615867551188156]
["pCO2",36.765168332999998,-122.05594499999999,"2013-05-21T09:31:02Z","2013-05-21T08:31:16",70.58,70.88,71.45,71.849999999999994,71.900000000000006,70.72,null,null,null,"2013-05-11T07:41:17",78.09,{"$f":"VLOOKUP(O291,[1]Raw!$D:$K,8)","v":12.290399551},8.0645288374149757]
["pCO2",36.761521666999997,-122.07868000000001,"2013-05-21T10:31:02Z","2013-05-21T09:31:16",69.739999999999995,68.989999999999995,68.58,68.91,68.7,68.73,null,null,null,"2013-05-11T07:51:17",78.2,{"$f":"VLOOKUP(O292,[1]Raw!$D:$K,8)","v":12.3022995},8.0663448618140858]
["pCO2",36.757586666999998,-122.10298,"2013-05-21T11:31:03Z","2013-05-21T10:31:16",68.319999999999993,68.25,67.900000000000006,66.31,66.84,67.2,null,null,null,"2013-05-11T08:01:17",78.319999999999993,{"$f":"VLOOKUP(O293,[1]Raw!$D:$K,8)","v":12.304300308},8.068442307630983]
["pCO2",36.753816667000002,-122.126851667,"2013-05-21T12:31:03Z","2013-05-21T11:31:18",67.45,67.680000000000007,67.849999999999994,67.92,67.98,67.95,null,null,null,"2013-05-11T08:11:17",78.42,{"$f":"VLOOKUP(O294,[1]Raw!$D:$K,8)","v":12.302000046},8.0702322766799632]
["pCO2",36.750313333000001,-122.14855666699999,"2013-05-21T13:31:03Z","2013-05-21T12:31:17",67.88,68.03,68.069999999999993,68.209999999999994,68.39,68.5,null,null,null,"2013-05-11T08:21:17",78.39,{"$f":"VLOOKUP(O295,[1]Raw!$D:$K,8)","v":12.305099487},8.0696697096406531]
["pCO2",36.746928333,-122.169441667,"2013-05-21T14:31:02Z","2013-05-21T13:31:16",68.61,68.709999999999994,68.78,68.61,68.33,68.17,null,null,null,"2013-05-11T08:31:17",78.489999999999995,{"$f":"VLOOKUP(O296,[1]Raw!$D:$K,8)","v":12.311500549},8.071367274838666]
["pCO2",36.743871667000001,-122.188183333,"2013-05-21T15:31:04Z","2013-05-21T14:31:16",68.44,68.78,68.959999999999994,69.260000000000005,69.59,69.86,null,null,null,"2013-05-11T08:41:17",78.599999999999994,{"$f":"VLOOKUP(O297,[1]Raw!$D:$K,8)","v":12.323600769},8.0731807519326644]
["pCO2",36.739215000000002,-122.19595,"2013-05-21T16:31:04Z","2013-05-21T15:31:18",69.75,69.42,68.66,66.88,66.84,67.05,null,null,null,"2013-05-11T08:51:17",78.63,{"$f":"VLOOKUP(O298,[1]Raw!$D:$K,8)","v":12.312999724999999},8.0738230478263038]
["pCO2",36.735263332999999,-122.19083500000001,"2013-05-21T17:31:02Z","2013-05-21T16:31:18",67.28,67.42,67.400000000000006,67.37,67.55,67.34,null,null,null,"2013-05-11T09:01:17",78.62,{"$f":"VLOOKUP(O299,[1]Raw!$D:$K,8)","v":12.313899994},8.0736369305281084]
["pCO2",36.733429999999998,-122.18145833299999,"2013-05-21T18:31:03Z","2013-05-21T17:31:16",67.31,67.3,67.040000000000006,67.13,67.31,67.37,null,null,null,"2013-05-11T09:11:17",78.599999999999994,{"$f":"VLOOKUP(O300,[1]Raw!$D:$K,8)","v":12.317699432},8.0732434588035566]
["pCO2",36.732126667000003,-122.174375,"2013-05-21T19:31:02Z","2013-05-21T18:31:16",66.959999999999994,66.819999999999993,66.28,66.2,66.39,66.58,null,null,null,"2013-05-11T09:21:17",78.489999999999995,{"$f":"VLOOKUP(O301,[1]Raw!$D:$K,8)","v":12.302200317},8.0714660442253088]
["pCO2",36.731756666999999,-122.16853,"2013-05-21T20:31:03Z","2013-05-21T19:31:16",66.680000000000007,66.540000000000006,66.489999999999995,66.349999999999994,66.599999999999994,66.63,null,null,null,"2013-05-11T09:31:16",78.180000000000007,{"$f":"VLOOKUP(O302,[1]Raw!$D:$K,8)","v":12.283199310000001},8.0661942491711347]
["pCO2",36.731618333,-122.165838333,"2013-05-21T21:31:02Z","2013-05-21T20:31:16",66.61,66.53,66.33,66.3,66.599999999999994,66.83,null,null,null,"2013-05-11T09:41:16",78.16,{"$f":"VLOOKUP(O303,[1]Raw!$D:$K,8)","v":12.286100387999999},8.0658103578862814]
["pCO2",36.734830000000002,-122.165213333,"2013-05-21T22:31:02Z","2013-05-21T21:31:16",66.900000000000006,66.849999999999994,66.78,66.64,66.67,66.739999999999995,null,null,null,"2013-05-11T09:51:16",78.37,{"$f":"VLOOKUP(O304,[1]Raw!$D:$K,8)","v":12.298599243},8.0693855881655541]
["pCO2",36.741003333000002,-122.163791667,"2013-05-21T23:31:03Z","2013-05-21T22:31:16",66.78,66.89,66.87,66.73,66.599999999999994,66.5,null,null,null,"2013-05-11T10:01:16",78.48,{"$f":"VLOOKUP(O305,[1]Raw!$D:$K,8)","v":12.309999466000001},8.0712066646419984]
["pCO2",36.735556666999997,-122.15975,"2013-05-22T00:31:04Z","2013-05-21T23:31:17",66.39,66.48,66.48,66.5,66.27,66.13,null,null,null,"2013-05-11T10:11:16",78.400000000000006,{"$f":"VLOOKUP(O306,[1]Raw!$D:$K,8)","v":12.297800064},8.0699237469792742]
["pCO2",36.724081667,-122.166433333,"2013-05-22T01:31:02Z","2013-05-22T00:31:17",66.33,66.59,66.959999999999994,66.349999999999994,66.47,66.19,null,null,null,"2013-05-11T10:21:16",78.5,{"$f":"VLOOKUP(O307,[1]Raw!$D:$K,8)","v":12.303300858},8.0716309115895335]
["pCO2",36.723531667000003,-122.18264000000001,"2013-05-22T02:31:03Z","2013-05-22T01:31:16",66.87,66.55,66.44,66.510000000000005,67.400000000000006,67.98,null,null,null,"2013-05-11T10:31:16",78.44,{"$f":"VLOOKUP(O308,[1]Raw!$D:$K,8)","v":12.300100326999999},8.0706055595473778]
["pCO2",36.723268333,-122.19031,"2013-05-22T03:31:03Z","2013-05-22T02:31:16",68.02,68.02,68.569999999999993,68.5,68.44,68.37,null,null,null,"2013-05-11T10:41:16",78.27,{"$f":"VLOOKUP(O309,[1]Raw!$D:$K,8)","v":12.292499542},8.0676847050942513]
["pCO2",36.723005000000001,-122.190018333,"2013-05-22T04:31:03Z","2013-05-22T03:31:16",68.569999999999993,68.48,68.77,70.290000000000006,69.069999999999993,69.09,null,null,null,"2013-05-11T10:51:16",78.27,{"$f":"VLOOKUP(O310,[1]Raw!$D:$K,8)","v":12.297599792},8.0676306048587207]
["pCO2",36.723035000000003,-122.18512333300001,"2013-05-22T05:31:03Z","2013-05-22T04:31:16",68.239999999999995,67.86,67.73,70.16,70.180000000000007,69.36,null,null,null,"2013-05-11T11:01:16",78.02,{"$f":"VLOOKUP(O311,[1]Raw!$D:$K,8)","v":12.283199310000001},8.0633691613559222]
["pCO2",36.723418332999998,-122.183856667,"2013-05-22T06:31:04Z","2013-05-22T05:31:17",68.47,67.400000000000006,67.180000000000007,66.77,66.66,67.3,null,null,null,"2013-05-11T11:11:16",77.98,{"$f":"VLOOKUP(O312,[1]Raw!$D:$K,8)","v":12.291599273999999},8.0625739337901496]
["pCO2",36.723026666999999,-122.19922,"2013-05-22T07:31:03Z","2013-05-22T06:31:17",67.3,67.150000000000006,66.97,66.930000000000007,67.42,67.67,null,null,null,"2013-05-11T11:21:16",78.02,{"$f":"VLOOKUP(O313,[1]Raw!$D:$K,8)","v":12.292600631999999},8.0632695784510737]
["pCO2",36.721978333000003,-122.226203333,"2013-05-22T08:31:02Z","2013-05-22T07:31:16",67.75,68.260000000000005,68.53,68.900000000000006,69.34,69.55,null,null,null,"2013-05-11T11:31:17",78.08,{"$f":"VLOOKUP(O314,[1]Raw!$D:$K,8)","v":12.290599823000001},8.0643501518073997]
["pCO2",36.720951667000001,-122.25709999999999,"2013-05-22T09:31:03Z","2013-05-22T08:31:16",70.069999999999993,70.47,70.77,71.12,71.709999999999994,71.930000000000007,null,null,null,"2013-05-11T11:41:17",78.12,{"$f":"VLOOKUP(O315,[1]Raw!$D:$K,8)","v":12.287900925000001},8.0650850097792954]
["pCO2",36.719916667,-122.284785,"2013-05-22T10:31:03Z","2013-05-22T09:31:16",71.78,71.66,71.14,70.5,70.98,70.349999999999994,null,null,null,"2013-05-11T11:51:17",78.12,{"$f":"VLOOKUP(O316,[1]Raw!$D:$K,8)","v":12.279699325999999},8.0651719379249052]
["pCO2",36.719071667000001,-122.30629999999999,"2013-05-22T11:31:04Z","2013-05-22T10:31:17",70.05,70.7,70.8,70.73,70.39,69.459999999999994,null,null,null,"2013-05-11T12:01:17",78.08,{"$f":"VLOOKUP(O317,[1]Raw!$D:$K,8)","v":12.273799896},8.0645281734270728]
["pCO2",36.718591666999998,-122.32303,"2013-05-22T12:31:03Z","2013-05-22T11:31:16",68.989999999999995,68.48,66.459999999999994,65.489999999999995,64.709999999999994,63.78,null,null,null,"2013-05-11T12:11:17",77.900000000000006,{"$f":"VLOOKUP(O318,[1]Raw!$D:$K,8)","v":12.271499634},8.0613741958776028]
["pCO2",36.718003332999999,-122.338256667,"2013-05-22T13:31:03Z","2013-05-22T12:31:16",64.11,64.41,64.790000000000006,65.02,65.58,65.849999999999994,null,null,null,"2013-05-11T12:21:17",77.819999999999993,{"$f":"VLOOKUP(O319,[1]Raw!$D:$K,8)","v":12.270500182999999},8.0599721695772164]
["pCO2",36.715113332999998,-122.35718166700001,"2013-05-22T14:31:03Z","2013-05-22T13:31:16",66.010000000000005,66.25,66.459999999999994,66.849999999999994,66.92,67.08,null,null,null,"2013-05-11T12:31:16",77.72,{"$f":"VLOOKUP(O320,[1]Raw!$D:$K,8)","v":12.272600174000001},8.0581842035379836]
["pCO2",36.697369999999999,-122.379218333,"2013-05-22T15:31:03Z","2013-05-22T14:31:17",67.28,67.55,67.89,68.2,68.44,68.69,null,null,null,"2013-05-11T12:41:16",77.73,{"$f":"VLOOKUP(O321,[1]Raw!$D:$K,8)","v":12.273000717},8.0583565420941081]
["pCO2",36.701336667,-122.37289666700001,"2013-05-22T16:31:03Z","2013-05-22T15:31:16",68.97,68.900000000000006,68.61,68.84,68.739999999999995,68.66,null,null,null,"2013-05-11T12:51:16",77.72,{"$f":"VLOOKUP(O322,[1]Raw!$D:$K,8)","v":12.272399902},8.0581863214184111]
["pCO2",36.707178333000002,-122.366275,"2013-05-22T17:31:03Z","2013-05-22T16:31:16",68.87,68.94,69.010000000000005,68.97,68.900000000000006,68.849999999999994,null,null,null,"2013-05-11T13:01:16",77.69,{"$f":"VLOOKUP(O323,[1]Raw!$D:$K,8)","v":12.265199661},8.0577327287150808]
["pCO2",36.713418333,-122.35893166699999,"2013-05-22T18:31:04Z","2013-05-22T17:31:16",68.98,69,68.78,68.91,69.13,69.22,null,null,null,"2013-05-11T13:11:16",77.73,{"$f":"VLOOKUP(O324,[1]Raw!$D:$K,8)","v":12.263999939},8.0584517337386607]
["pCO2",36.718383332999998,-122.348085,"2013-05-22T19:31:04Z","2013-05-22T18:31:16",69.290000000000006,69.260000000000005,69.3,69.31,69.489999999999995,69.510000000000005,null,null,null,"2013-05-11T13:21:16",77.69,{"$f":"VLOOKUP(O325,[1]Raw!$D:$K,8)","v":12.258899689},8.0577993442313876]
["pCO2",36.721068332999998,-122.33125666700001,"2013-05-22T20:31:02Z","2013-05-22T19:31:17",69.319999999999993,69.400000000000006,69.319999999999993,69.27,69.47,69.37,null,null,null,"2013-05-11T13:31:16",77.66,{"$f":"VLOOKUP(O326,[1]Raw!$D:$K,8)","v":12.262800217000001},8.0572283581170883]
["pCO2",36.723641667000003,-122.314056667,"2013-05-22T21:31:04Z","2013-05-22T20:31:16",69.180000000000007,68.819999999999993,68.510000000000005,68.31,67.7,67.510000000000005,null,null,null,"2013-05-11T13:41:16",77.66,{"$f":"VLOOKUP(O327,[1]Raw!$D:$K,8)","v":12.256200789999999},8.0572981290494976]
["pCO2",36.726211667000001,-122.298013333,"2013-05-22T22:31:03Z","2013-05-22T21:31:16",67.39,67.08,66.709999999999994,66.62,66.430000000000007,66.44,null,null,null,"2013-05-11T13:51:16",77.63,{"$f":"VLOOKUP(O328,[1]Raw!$D:$K,8)","v":12.249900818},8.0568349713052445]
["pCO2",36.728893333000002,-122.280733333,"2013-05-22T23:31:02Z","2013-05-22T22:31:17",66.349999999999994,66.099999999999994,65.88,65.81,65.77,65.7,null,null,null,"2013-05-11T14:01:16",77.709999999999994,{"$f":"VLOOKUP(O329,[1]Raw!$D:$K,8)","v":12.23679924},8.0583862496670733]
["pCO2",36.731678332999998,-122.26354000000001,"2013-05-23T00:31:04Z","2013-05-22T23:31:16",65.62,65.58,65.37,65.400000000000006,65.459999999999994,65.14,null,null,null,"2013-05-11T14:11:16",77.709999999999994,{"$f":"VLOOKUP(O330,[1]Raw!$D:$K,8)","v":12.232400894},8.0584327718976176]
["pCO2",36.734430000000003,-122.24612,"2013-05-23T01:31:04Z","2013-05-23T00:31:16",65.06,64.900000000000006,64.680000000000007,64.430000000000007,64.180000000000007,63.79,null,null,null,"2013-05-11T14:21:16",77.75,{"$f":"VLOOKUP(O331,[1]Raw!$D:$K,8)","v":12.222299575999999},8.0592460437663664]
["pCO2",36.736873332999998,-122.230705,"2013-05-23T02:31:05Z","2013-05-23T01:31:17",63.79,63.64,63.45,63.53,63.38,63.36,null,null,null,"2013-05-11T14:31:17",77.709999999999994,{"$f":"VLOOKUP(O332,[1]Raw!$D:$K,8)","v":12.214500427000001},8.0586221236963471]
["pCO2",36.738765000000001,-122.21771,"2013-05-23T03:31:05Z","2013-05-23T02:31:16",62.66,63.2,63.03,63.02,63.56,63.71,null,null,null,"2013-05-11T14:41:17",77.73,{"$f":"VLOOKUP(O333,[1]Raw!$D:$K,8)","v":12.210300446},8.0590197808806554]
["pCO2",36.740850000000002,-122.20411166700001,"2013-05-23T04:31:03Z","2013-05-23T03:31:16",63.72,63.74,63.55,63.45,63.2,63.33,null,null,null,"2013-05-11T14:51:17",77.67,{"$f":"VLOOKUP(O334,[1]Raw!$D:$K,8)","v":12.203300476000001},8.0580341395624604]
["pCO2",36.743088333000003,-122.190845,"2013-05-23T05:31:04Z","2013-05-23T04:31:16",63.23,63.22,62.97,62.75,62.45,62.19,null,null,null,"2013-05-11T15:01:17",77.599999999999994,{"$f":"VLOOKUP(O335,[1]Raw!$D:$K,8)","v":12.19149971},8.0569225889534497]
["pCO2",36.745631666999998,-122.174685,"2013-05-23T06:31:04Z","2013-05-23T05:31:16",61.85,61.55,61.34,60.99,60.7,60.47,null,null,null,"2013-05-11T15:11:17",77.48,{"$f":"VLOOKUP(O336,[1]Raw!$D:$K,8)","v":12.183099747},8.0548918502141476]
["pCO2",36.748440000000002,-122.15631500000001,"2013-05-23T07:31:04Z","2013-05-23T06:31:16",60.29,60.25,60.01,59.99,59.93,59.74,null,null,null,"2013-05-11T15:21:17",77.52,{"$f":"VLOOKUP(O337,[1]Raw!$D:$K,8)","v":12.18350029},8.0555941364997476]
["pCO2",36.752201667000001,-122.13256666700001,"2013-05-23T08:31:04Z","2013-05-23T07:31:16",59.58,59.68,59.4,59.09,59.3,59.26,null,null,null,"2013-05-11T15:31:16",77.37,{"$f":"VLOOKUP(O338,[1]Raw!$D:$K,8)","v":12.172300339},8.0530629668368316]
["pCO2",36.756131666999998,-122.10751,"2013-05-23T09:31:05Z","2013-05-23T08:31:16",59.04,59.04,59,58.93,58.78,58.52,null,null,null,"2013-05-11T15:41:16",77.44,{"$f":"VLOOKUP(O339,[1]Raw!$D:$K,8)","v":12.168600081999999},8.0543385173014208]
["pCO2",36.759671666999999,-122.08445,"2013-05-23T10:31:05Z","2013-05-23T09:31:16",58.12,58.03,57.89,57.57,59.56,59.73,null,null,null,"2013-05-11T15:51:16",77.36,{"$f":"VLOOKUP(O340,[1]Raw!$D:$K,8)","v":12.171899796},8.052890560024947]
["pCO2",36.763170000000002,-122.06313166699999,"2013-05-23T11:31:05Z","2013-05-23T10:31:16",61.39,62.02,62.25,62.49,62.49,62.65,null,null,null,"2013-05-11T16:01:16",77.41,{"$f":"VLOOKUP(O341,[1]Raw!$D:$K,8)","v":12.169900894},8.0537948594727116]
["pCO2",36.766813333000002,-122.03852999999999,"2013-05-23T12:31:05Z","2013-05-23T11:31:17",63.16,64.11,64.16,64.33,64.3,64.25,null,null,null,"2013-05-11T16:11:16",77.430000000000007,{"$f":"VLOOKUP(O342,[1]Raw!$D:$K,8)","v":12.187799454},8.0539590550988649]
["pCO2",36.770983332999997,-122.01252833300001,"2013-05-23T13:31:05Z","2013-05-23T12:31:17",64.5,65.05,65.23,65.739999999999995,66.11,66.069999999999993,null,null,null,"2013-05-11T16:21:16",77.510000000000005,{"$f":"VLOOKUP(O343,[1]Raw!$D:$K,8)","v":12.190099716000001},8.0553477616133886]
["pCO2",36.775055000000002,-121.986438333,"2013-05-23T14:31:05Z","2013-05-23T13:31:16",65.849999999999994,65.599999999999994,65.36,65.010000000000005,64.92,65.22,null,null,null,"2013-05-11T16:31:17",77.55,{"$f":"VLOOKUP(O344,[1]Raw!$D:$K,8)","v":12.208400726000001},8.0558608236531484]
["pCO2",36.778756667000003,-121.96306166700001,"2013-05-23T15:31:04Z","2013-05-23T14:31:16",65.58,66.459999999999994,67.010000000000005,67.25,67.599999999999994,67.87,null,null,null,"2013-05-11T16:41:17",77.66,{"$f":"VLOOKUP(O345,[1]Raw!$D:$K,8)","v":12.212999344},8.0577549461641826]
[null,null,null,null,null,null,null,null,null,null,null,null,null,null,"2013-05-11T16:51:17",77.739999999999995,{"$f":"VLOOKUP(O346,[1]Raw!$D:$K,8)","v":12.197299957},8.0593339567070732]
[null,null,null,null,null,null,null,null,null,null,null,null,null,null,"2013-05-11T17:01:17",77.56,{"$f":"VLOOKUP(O347,[1]Raw!$D:$K,8)","v":12.186000824000001},8.056274220535764]
[null,null,null,null,null,null,null,null,null,null,null,null,null,null,"2013-05-11T17:11:17",77.62,{"$f":"VLOOKUP(O348,[1]Raw!$D:$K,8)","v":12.177099227999999},8.0574281288225222]
[null,null,null,null,null,null,null,null,null,null,null,null,null,null,"2013-05-11T17:21:17",77.61,{"$f":"VLOOKUP(O349,[1]Raw!$D:$K,8)","v":12.183099747},8.0571880393225648]
[null,null,null,null,null,null,null,null,null,null,null,null,null,null,"2013-05-11T17:31:16",77.61,{"$f":"VLOOKUP(O350,[1]Raw!$D:$K,8)","v":12.177999496},8.0572419746174049]
[null,null,null,null,null,null,null,null,null,null,null,null,null,null,"2013-05-11T17:41:16",77.64,{"$f":"VLOOKUP(O351,[1]Raw!$D:$K,8)","v":12.149499893},8.0580733463980465]
[null,null,null,null,null,null,null,null,null,null,null,null,null,null,"2013-05-11T17:51:16",77.72,{"$f":"VLOOKUP(O352,[1]Raw!$D:$K,8)","v":12.172000884999999},8.0592484173860068]
[null,null,null,null,null,null,null,null,null,null,null,null,null,null,"2013-05-11T18:01:16",77.680000000000007,{"$f":"VLOOKUP(O353,[1]Raw!$D:$K,8)","v":12.168600081999999},8.0585778510840544]
[null,null,null,null,null,null,null,null,null,null,null,null,null,null,"2013-05-11T18:11:16",77.75,{"$f":"VLOOKUP(O354,[1]Raw!$D:$K,8)","v":12.153099060000001},8.0599784041694775]
[null,null,null,null,null,null,null,null,null,null,null,null,null,null,"2013-05-11T18:21:16",77.66,{"$f":"VLOOKUP(O355,[1]Raw!$D:$K,8)","v":12.147699356},8.0584456984320241]
[null,null,null,null,null,null,null,null,null,null,null,null,null,null,"2013-05-11T18:31:16",77.62,{"$f":"VLOOKUP(O356,[1]Raw!$D:$K,8)","v":12.170400620000001},8.0574989743099792]
[null,null,null,null,null,null,null,null,null,null,null,null,null,null,"2013-05-11T18:41:16",77.81,{"$f":"VLOOKUP(O357,[1]Raw!$D:$K,8)","v":12.136299133},8.0612162075908778]
[null,null,null,null,null,null,null,null,null,null,null,null,null,null,"2013-05-11T18:51:16",77.53,{"$f":"VLOOKUP(O358,[1]Raw!$D:$K,8)","v":12.125699997},8.0563818307758357]
[null,null,null,null,null,null,null,null,null,null,null,null,null,null,"2013-05-11T19:01:16",77.38,{"$f":"VLOOKUP(O359,[1]Raw!$D:$K,8)","v":12.138500214},8.0535966223964515]
[null,null,null,null,null,null,null,null,null,null,null,null,null,null,"2013-05-11T19:11:16",77.28,{"$f":"VLOOKUP(O360,[1]Raw!$D:$K,8)","v":12.148799896},8.0517213098167719]
[null,null,null,null,null,null,null,null,null,null,null,null,null,null,"2013-05-11T19:21:16",77.22,{"$f":"VLOOKUP(O361,[1]Raw!$D:$K,8)","v":12.160900116000001},8.0505337117870575]
[null,null,null,null,null,null,null,null,null,null,null,null,null,null,"2013-05-11T19:31:16",77.12,{"$f":"VLOOKUP(O362,[1]Raw!$D:$K,8)","v":12.144800185999999},8.0489370768498443]
[null,null,null,null,null,null,null,null,null,null,null,null,null,null,"2013-05-11T19:41:16",77.069999999999993,{"$f":"VLOOKUP(O363,[1]Raw!$D:$K,8)","v":12.152000427000001},8.0479778894711025]
[null,null,null,null,null,null,null,null,null,null,null,null,null,null,"2013-05-11T19:51:16",77.150000000000006,{"$f":"VLOOKUP(O364,[1]Raw!$D:$K,8)","v":12.1439991},8.0494754886155313]
[null,null,null,null,null,null,null,null,null,null,null,null,null,null,"2013-05-11T20:01:16",77.03,{"$f":"VLOOKUP(O365,[1]Raw!$D:$K,8)","v":12.181400299},8.0469614137786483]
[null,null,null,null,null,null,null,null,null,null,null,null,null,null,"2013-05-11T20:11:16",76.97,{"$f":"VLOOKUP(O366,[1]Raw!$D:$K,8)","v":12.155899048},8.0461703163961076]
[null,null,null,null,null,null,null,null,null,null,null,null,null,null,"2013-05-11T20:21:16",77.209999999999994,{"$f":"VLOOKUP(O367,[1]Raw!$D:$K,8)","v":12.156299591},8.0504056123427485]
[null,null,null,null,null,null,null,null,null,null,null,null,null,null,"2013-05-11T20:31:16",77.31,{"$f":"VLOOKUP(O368,[1]Raw!$D:$K,8)","v":12.130800247},8.0524413301098789]
[null,null,null,null,null,null,null,null,null,null,null,null,null,null,"2013-05-11T20:41:16",77.34,{"$f":"VLOOKUP(O369,[1]Raw!$D:$K,8)","v":12.106500626000001},8.0532279914149854]
[null,null,null,null,null,null,null,null,null,null,null,null,null,null,"2013-05-11T20:51:16",77.37,{"$f":"VLOOKUP(O370,[1]Raw!$D:$K,8)","v":12.079700470000001},8.0540412112758411]
[null,null,null,null,null,null,null,null,null,null,null,null,null,null,"2013-05-11T21:01:16",77.14,{"$f":"VLOOKUP(O371,[1]Raw!$D:$K,8)","v":12.096700668},8.0497978511004362]
[null,null,null,null,null,null,null,null,null,null,null,null,null,null,"2013-05-11T21:11:16",76.86,{"$f":"VLOOKUP(O372,[1]Raw!$D:$K,8)","v":12.056299210000001},8.0452763961979556]
[null,null,null,null,null,null,null,null,null,null,null,null,null,null,"2013-05-11T21:21:16",76.77,{"$f":"VLOOKUP(O373,[1]Raw!$D:$K,8)","v":12.030799866000001},8.043954608233669]
[null,null,null,null,null,null,null,null,null,null,null,null,null,null,"2013-05-11T21:31:16",76.52,{"$f":"VLOOKUP(O374,[1]Raw!$D:$K,8)","v":12.018600464},8.0396648277299381]
[null,null,null,null,null,null,null,null,null,null,null,null,null,null,"2013-05-11T21:41:16",76.209999999999994,{"$f":"VLOOKUP(O375,[1]Raw!$D:$K,8)","v":11.960800171000001},8.0347931834823623]
[null,null,null,null,null,null,null,null,null,null,null,null,null,null,"2013-05-11T21:51:16",76.23,{"$f":"VLOOKUP(O376,[1]Raw!$D:$K,8)","v":12.006000519000001},8.0346719293309405]
[null,null,null,null,null,null,null,null,null,null,null,null,null,null,"2013-05-11T22:01:16",76.25,{"$f":"VLOOKUP(O377,[1]Raw!$D:$K,8)","v":11.997999191},8.0351094543773591]
[null,null,null,null,null,null,null,null,null,null,null,null,null,null,"2013-05-11T22:11:16",76.31,{"$f":"VLOOKUP(O378,[1]Raw!$D:$K,8)","v":11.994499207},8.0362067001703785]
[null,null,null,null,null,null,null,null,null,null,null,null,null,null,"2013-05-11T22:21:16",76.22,{"$f":"VLOOKUP(O379,[1]Raw!$D:$K,8)","v":11.985900879000001},8.0347062874964053]
[null,null,null,null,null,null,null,null,null,null,null,null,null,null,"2013-05-11T22:31:17",76.180000000000007,{"$f":"VLOOKUP(O380,[1]Raw!$D:$K,8)","v":11.961299896},8.0342576320950272]
[null,null,null,null,null,null,null,null,null,null,null,null,null,null,"2013-05-11T22:41:17",75.91,{"$f":"VLOOKUP(O381,[1]Raw!$D:$K,8)","v":11.940599442},8.02970199257188]
[null,null,null,null,null,null,null,null,null,null,null,null,null,null,"2013-05-11T22:51:17",75.67,{"$f":"VLOOKUP(O382,[1]Raw!$D:$K,8)","v":11.938400269000001},8.025482299495188]
[null,null,null,null,null,null,null,null,null,null,null,null,null,null,"2013-05-11T23:01:17",75.61,{"$f":"VLOOKUP(O383,[1]Raw!$D:$K,8)","v":11.942100525000001},8.0243828728610165]
[null,null,null,null,null,null,null,null,null,null,null,null,null,null,"2013-05-11T23:11:17",75.42,{"$f":"VLOOKUP(O384,[1]Raw!$D:$K,8)","v":11.926900864},8.0211830174663845]
[null,null,null,null,null,null,null,null,null,null,null,null,null,null,"2013-05-11T23:21:17",75.150000000000006,{"$f":"VLOOKUP(O385,[1]Raw!$D:$K,8)","v":11.930999756},8.016366926264654]
[null,null,null,null,null,null,null,null,null,null,null,null,null,null,"2013-05-11T23:31:16",75.17,{"$f":"VLOOKUP(O386,[1]Raw!$D:$K,8)","v":11.923500061},8.0167988141861137]
[null,null,null,null,null,null,null,null,null,null,null,null,null,null,"2013-05-11T23:41:16",75.510000000000005,{"$f":"VLOOKUP(O387,[1]Raw!$D:$K,8)","v":11.930900574000001},8.0227322646117383]
[null,null,null,null,null,null,null,null,null,null,null,null,null,null,"2013-05-11T23:51:16",75.78,{"$f":"VLOOKUP(O388,[1]Raw!$D:$K,8)","v":11.917699814000001},8.0276438430492778]
[null,null,null,null,null,null,null,null,null,null,null,null,null,null,"2013-05-12T00:01:16",75.91,{"$f":"VLOOKUP(O389,[1]Raw!$D:$K,8)","v":11.921400070000001},8.0299033580480277]
[null,null,null,null,null,null,null,null,null,null,null,null,null,null,"2013-05-12T00:11:16",76.12,{"$f":"VLOOKUP(O390,[1]Raw!$D:$K,8)","v":11.918699265000001},8.0336443554730952]
[null,null,null,null,null,null,null,null,null,null,null,null,null,null,"2013-05-12T00:21:16",76.23,{"$f":"VLOOKUP(O391,[1]Raw!$D:$K,8)","v":11.914699554},8.0356311198497217]
[null,null,null,null,null,null,null,null,null,null,null,null,null,null,"2013-05-12T00:31:16",76.03,{"$f":"VLOOKUP(O392,[1]Raw!$D:$K,8)","v":11.892299652},8.0323303402323898]
[null,null,null,null,null,null,null,null,null,null,null,null,null,null,"2013-05-12T00:41:16",75.8,{"$f":"VLOOKUP(O393,[1]Raw!$D:$K,8)","v":11.895599365000001},8.0282291129639933]
[null,null,null,null,null,null,null,null,null,null,null,null,null,null,"2013-05-12T00:51:16",75.86,{"$f":"VLOOKUP(O394,[1]Raw!$D:$K,8)","v":11.87899971},8.0294640626721989]
[null,null,null,null,null,null,null,null,null,null,null,null,null,null,"2013-05-12T01:01:16",75.52,{"$f":"VLOOKUP(O395,[1]Raw!$D:$K,8)","v":11.877700806},8.0234658344487357]
[null,null,null,null,null,null,null,null,null,null,null,null,null,null,"2013-05-12T01:11:16",75.53,{"$f":"VLOOKUP(O396,[1]Raw!$D:$K,8)","v":11.872999191},8.0236918731966984]
[null,null,null,null,null,null,null,null,null,null,null,null,null,null,"2013-05-12T01:21:16",75.53,{"$f":"VLOOKUP(O397,[1]Raw!$D:$K,8)","v":11.857400894},8.023855177941984]
[null,null,null,null,null,null,null,null,null,null,null,null,null,null,"2013-05-12T01:31:16",75.540000000000006,{"$f":"VLOOKUP(O398,[1]Raw!$D:$K,8)","v":11.853599548},8.0240718125847881]
[null,null,null,null,null,null,null,null,null,null,null,null,null,null,"2013-05-12T01:41:16",75.819999999999993,{"$f":"VLOOKUP(O399,[1]Raw!$D:$K,8)","v":11.847099304},8.0290913461313824]
[null,null,null,null,null,null,null,null,null,null,null,null,null,null,"2013-05-12T01:51:16",76.13,{"$f":"VLOOKUP(O400,[1]Raw!$D:$K,8)","v":11.843599319000001},8.03461010757586]
[null,null,null,null,null,null,null,null,null,null,null,null,null,null,"2013-05-12T02:01:16",76.25,{"$f":"VLOOKUP(O401,[1]Raw!$D:$K,8)","v":11.839700699},8.036773188811825]
[null,null,null,null,null,null,null,null,null,null,null,null,null,null,"2013-05-12T02:11:16",76.06,{"$f":"VLOOKUP(O402,[1]Raw!$D:$K,8)","v":11.822299957},8.0335959676207498]
[null,null,null,null,null,null,null,null,null,null,null,null,null,null,"2013-05-12T02:21:16",75.95,{"$f":"VLOOKUP(O403,[1]Raw!$D:$K,8)","v":11.824600220000001},8.031626429080335]
[null,null,null,null,null,null,null,null,null,null,null,null,null,null,"2013-05-12T02:31:18",75.83,{"$f":"VLOOKUP(O404,[1]Raw!$D:$K,8)","v":11.824899673000001},8.0295010619297162]
[null,null,null,null,null,null,null,null,null,null,null,null,null,null,"2013-05-12T02:41:18",75.790000000000006,{"$f":"VLOOKUP(O405,[1]Raw!$D:$K,8)","v":11.822299957},8.02882092149218]
[null,null,null,null,null,null,null,null,null,null,null,null,null,null,"2013-05-12T02:51:18",75.83,{"$f":"VLOOKUP(O406,[1]Raw!$D:$K,8)","v":11.824199676999999},8.0295084055881176]
[null,null,null,null,null,null,null,null,null,null,null,null,null,null,"2013-05-12T03:01:18",75.78,{"$f":"VLOOKUP(O407,[1]Raw!$D:$K,8)","v":11.832000731999999},8.028542329054158]
[null,null,null,null,null,null,null,null,null,null,null,null,null,null,"2013-05-12T03:11:18",75.349999999999994,{"$f":"VLOOKUP(O408,[1]Raw!$D:$K,8)","v":11.822200775000001},8.0210404024189081]
[null,null,null,null,null,null,null,null,null,null,null,null,null,null,"2013-05-12T03:21:18",75.02,{"$f":"VLOOKUP(O409,[1]Raw!$D:$K,8)","v":11.803499221999999},8.0153995068486896]
[null,null,null,null,null,null,null,null,null,null,null,null,null,null,"2013-05-12T03:31:16",74.91,{"$f":"VLOOKUP(O410,[1]Raw!$D:$K,8)","v":11.787900925000001},8.0136167734588231]
[null,null,null,null,null,null,null,null,null,null,null,null,null,null,"2013-05-12T03:41:16",74.739999999999995,{"$f":"VLOOKUP(O411,[1]Raw!$D:$K,8)","v":11.775400162},8.010740239118828]
[null,null,null,null,null,null,null,null,null,null,null,null,null,null,"2013-05-12T03:51:16",74.83,{"$f":"VLOOKUP(O412,[1]Raw!$D:$K,8)","v":11.759399414000001},8.0124991209749634]
[null,null,null,null,null,null,null,null,null,null,null,null,null,null,"2013-05-12T04:01:16",74.709999999999994,{"$f":"VLOOKUP(O413,[1]Raw!$D:$K,8)","v":11.752099991},8.0104525173564038]
[null,null,null,null,null,null,null,null,null,null,null,null,null,null,"2013-05-12T04:11:16",75.16,{"$f":"VLOOKUP(O414,[1]Raw!$D:$K,8)","v":11.74600029},8.0184766606557787]
[null,null,null,null,null,null,null,null,null,null,null,null,null,null,"2013-05-12T04:21:16",75.31,{"$f":"VLOOKUP(O415,[1]Raw!$D:$K,8)","v":11.765300751},8.0209282185718092]
[null,null,null,null,null,null,null,null,null,null,null,null,null,null,"2013-05-12T04:31:16",75.44,{"$f":"VLOOKUP(O416,[1]Raw!$D:$K,8)","v":11.791500092},8.0229534627690757]
[null,null,null,null,null,null,null,null,null,null,null,null,null,null,"2013-05-12T04:41:16",75.2,{"$f":"VLOOKUP(O417,[1]Raw!$D:$K,8)","v":11.777500153},8.0188548856742656]
[null,null,null,null,null,null,null,null,null,null,null,null,null,null,"2013-05-12T04:51:16",75.31,{"$f":"VLOOKUP(O418,[1]Raw!$D:$K,8)","v":11.778299332},8.0207922195812831]
[null,null,null,null,null,null,null,null,null,null,null,null,null,null,"2013-05-12T05:01:16",75.38,{"$f":"VLOOKUP(O419,[1]Raw!$D:$K,8)","v":11.793800354},8.0218681535079188]
[null,null,null,null,null,null,null,null,null,null,null,null,null,null,"2013-05-12T05:11:16",75.31,{"$f":"VLOOKUP(O420,[1]Raw!$D:$K,8)","v":11.781700133999999},8.0207566403885053]
[null,null,null,null,null,null,null,null,null,null,null,null,null,null,"2013-05-12T05:21:16",75.599999999999994,{"$f":"VLOOKUP(O421,[1]Raw!$D:$K,8)","v":11.843299866000001},8.0252407062712727]
[null,null,null,null,null,null,null,null,null,null,null,null,null,null,"2013-05-12T05:31:16",75.58,{"$f":"VLOOKUP(O422,[1]Raw!$D:$K,8)","v":11.850200653},8.0248147473794624]
[null,null,null,null,null,null,null,null,null,null,null,null,null,null,"2013-05-12T05:41:16",75.56,{"$f":"VLOOKUP(O423,[1]Raw!$D:$K,8)","v":11.849199295},8.0244715615033044]
[null,null,null,null,null,null,null,null,null,null,null,null,null,null,"2013-05-12T05:51:16",75.08,{"$f":"VLOOKUP(O424,[1]Raw!$D:$K,8)","v":11.811399460000001},8.0163781746271621]
[null,null,null,null,null,null,null,null,null,null,null,null,null,null,"2013-05-12T06:01:16",75.13,{"$f":"VLOOKUP(O425,[1]Raw!$D:$K,8)","v":11.851900101},8.0168393644885754]
[null,null,null,null,null,null,null,null,null,null,null,null,null,null,"2013-05-12T06:11:16",75.260000000000005,{"$f":"VLOOKUP(O426,[1]Raw!$D:$K,8)","v":11.850599289},8.019151820246547]
[null,null,null,null,null,null,null,null,null,null,null,null,null,null,"2013-05-12T06:21:16",75.319999999999993,{"$f":"VLOOKUP(O427,[1]Raw!$D:$K,8)","v":11.864400864},8.0200685141102976]
[null,null,null,null,null,null,null,null,null,null,null,null,null,null,"2013-05-12T06:31:16",75.28,{"$f":"VLOOKUP(O428,[1]Raw!$D:$K,8)","v":11.864900588999999},8.0193559802766696]
[null,null,null,null,null,null,null,null,null,null,null,null,null,null,"2013-05-12T06:41:16",75.37,{"$f":"VLOOKUP(O429,[1]Raw!$D:$K,8)","v":11.870300293},8.0208909473274375]
[null,null,null,null,null,null,null,null,null,null,null,null,null,null,"2013-05-12T06:51:16",75.430000000000007,{"$f":"VLOOKUP(O430,[1]Raw!$D:$K,8)","v":11.878099442},8.0218702911480122]
[null,null,null,null,null,null,null,null,null,null,null,null,null,null,"2013-05-12T07:01:16",75.5,{"$f":"VLOOKUP(O431,[1]Raw!$D:$K,8)","v":11.874200821000001},8.0231488295284681]
[null,null,null,null,null,null,null,null,null,null,null,null,null,null,"2013-05-12T07:11:16",75.53,{"$f":"VLOOKUP(O432,[1]Raw!$D:$K,8)","v":11.869600296},8.023727456050695]
[null,null,null,null,null,null,null,null,null,null,null,null,null,null,"2013-05-12T07:21:16",75.5,{"$f":"VLOOKUP(O433,[1]Raw!$D:$K,8)","v":11.872400283999999},8.0231676756404777]
[null,null,null,null,null,null,null,null,null,null,null,null,null,null,"2013-05-12T07:31:16",75.510000000000005,{"$f":"VLOOKUP(O434,[1]Raw!$D:$K,8)","v":11.876800536999999},8.0232984386220032]
[null,null,null,null,null,null,null,null,null,null,null,null,null,null,"2013-05-12T07:41:16",75.53,{"$f":"VLOOKUP(O435,[1]Raw!$D:$K,8)","v":11.834199905},8.0240981113488132]
[null,null,null,null,null,null,null,null,null,null,null,null,null,null,"2013-05-12T07:51:16",75.5,{"$f":"VLOOKUP(O436,[1]Raw!$D:$K,8)","v":11.861499786},8.0232817755789778]
[null,null,null,null,null,null,null,null,null,null,null,null,null,null,"2013-05-12T08:01:16",75.540000000000006,{"$f":"VLOOKUP(O437,[1]Raw!$D:$K,8)","v":11.863899231},8.0239639698552381]
[null,null,null,null,null,null,null,null,null,null,null,null,null,null,"2013-05-12T08:11:16",75.2,{"$f":"VLOOKUP(O438,[1]Raw!$D:$K,8)","v":11.656400680999999},8.0201215620641175]
[null,null,null,null,null,null,null,null,null,null,null,null,null,null,"2013-05-12T08:21:16",75.069999999999993,{"$f":"VLOOKUP(O439,[1]Raw!$D:$K,8)","v":11.650899887},8.0178786449158981]
[null,null,null,null,null,null,null,null,null,null,null,null,null,null,"2013-05-12T08:31:17",75.16,{"$f":"VLOOKUP(O440,[1]Raw!$D:$K,8)","v":11.673000335999999},8.0192400842147169]
[null,null,null,null,null,null,null,null,null,null,null,null,null,null,"2013-05-12T08:41:17",75.39,{"$f":"VLOOKUP(O441,[1]Raw!$D:$K,8)","v":11.705499649},8.0229694622632444]
[null,null,null,null,null,null,null,null,null,null,null,null,null,null,"2013-05-12T08:51:17",75.62,{"$f":"VLOOKUP(O442,[1]Raw!$D:$K,8)","v":11.717399597},8.0269139757097197]
[null,null,null,null,null,null,null,null,null,null,null,null,null,null,"2013-05-12T09:01:17",75.400000000000006,{"$f":"VLOOKUP(O443,[1]Raw!$D:$K,8)","v":11.697200775000001},8.0232333055080343]
[null,null,null,null,null,null,null,null,null,null,null,null,null,null,"2013-05-12T09:11:17",74.72,{"$f":"VLOOKUP(O444,[1]Raw!$D:$K,8)","v":11.572500228999999},8.0125033573146354]
[null,null,null,null,null,null,null,null,null,null,null,null,null,null,"2013-05-12T09:21:17",74.89,{"$f":"VLOOKUP(O445,[1]Raw!$D:$K,8)","v":11.598600387999999},8.01523975406168]
[null,null,null,null,null,null,null,null,null,null,null,null,null,null,"2013-05-12T09:31:17",75.12,{"$f":"VLOOKUP(O446,[1]Raw!$D:$K,8)","v":11.62899971},8.0189925313954813]
[null,null,null,null,null,null,null,null,null,null,null,null,null,null,"2013-05-12T09:41:17",75.47,{"$f":"VLOOKUP(O447,[1]Raw!$D:$K,8)","v":11.65929985},8.0248690036980506]
[null,null,null,null,null,null,null,null,null,null,null,null,null,null,"2013-05-12T09:51:17",75.540000000000006,{"$f":"VLOOKUP(O448,[1]Raw!$D:$K,8)","v":11.675199509},8.0259409859658497]
[null,null,null,null,null,null,null,null,null,null,null,null,null,null,"2013-05-12T10:01:17",75.739999999999995,{"$f":"VLOOKUP(O449,[1]Raw!$D:$K,8)","v":11.681699753},8.0294116562262854]
[null,null,null,null,null,null,null,null,null,null,null,null,null,null,"2013-05-12T10:11:17",75.89,{"$f":"VLOOKUP(O450,[1]Raw!$D:$K,8)","v":11.698699951},8.0318871883931688]
[null,null,null,null,null,null,null,null,null,null,null,null,null,null,"2013-05-12T10:21:17",75.989999999999995,{"$f":"VLOOKUP(O451,[1]Raw!$D:$K,8)","v":11.708099365000001},8.0335577048261317]
[null,null,null,null,null,null,null,null,null,null,null,null,null,null,"2013-05-12T10:31:17",76.010000000000005,{"$f":"VLOOKUP(O452,[1]Raw!$D:$K,8)","v":11.70759964},8.0339168062476674]
[null,null,null,null,null,null,null,null,null,null,null,null,null,null,"2013-05-12T10:41:17",75.86,{"$f":"VLOOKUP(O453,[1]Raw!$D:$K,8)","v":11.710899353},8.0312282832009405]
[null,null,null,null,null,null,null,null,null,null,null,null,null,null,"2013-05-12T10:51:17",75.61,{"$f":"VLOOKUP(O454,[1]Raw!$D:$K,8)","v":11.711200714},8.0268020551586012]
[null,null,null,null,null,null,null,null,null,null,null,null,null,null,"2013-05-12T11:01:17",75.73,{"$f":"VLOOKUP(O455,[1]Raw!$D:$K,8)","v":11.727500916},8.0287540950625438]
[null,null,null,null,null,null,null,null,null,null,null,null,null,null,"2013-05-12T11:11:17",75.540000000000006,{"$f":"VLOOKUP(O456,[1]Raw!$D:$K,8)","v":11.711999893},8.0255552209684105]
[null,null,null,null,null,null,null,null,null,null,null,null,null,null,"2013-05-12T11:21:17",75.540000000000006,{"$f":"VLOOKUP(O457,[1]Raw!$D:$K,8)","v":11.718200683999999},8.0254902301508722]
[null,null,null,null,null,null,null,null,null,null,null,null,null,null,"2013-05-12T11:31:16",75.400000000000006,{"$f":"VLOOKUP(O458,[1]Raw!$D:$K,8)","v":11.712299347},8.0230751763687671]
[null,null,null,null,null,null,null,null,null,null,null,null,null,null,"2013-05-12T11:41:16",75.27,{"$f":"VLOOKUP(O459,[1]Raw!$D:$K,8)","v":11.716100693},8.0207354136648892]
[null,null,null,null,null,null,null,null,null,null,null,null,null,null,"2013-05-12T11:51:16",75.33,{"$f":"VLOOKUP(O460,[1]Raw!$D:$K,8)","v":11.747200012},8.0214714204470319]
[null,null,null,null,null,null,null,null,null,null,null,null,null,null,"2013-05-12T12:01:16",75.489999999999995,{"$f":"VLOOKUP(O461,[1]Raw!$D:$K,8)","v":11.760400772000001},8.0241635440250594]
[null,null,null,null,null,null,null,null,null,null,null,null,null,null,"2013-05-12T12:11:16",75.680000000000007,{"$f":"VLOOKUP(O462,[1]Raw!$D:$K,8)","v":11.773300171000001},8.027389229415439]
[null,null,null,null,null,null,null,null,null,null,null,null,null,null,"2013-05-12T12:21:16",75.78,{"$f":"VLOOKUP(O463,[1]Raw!$D:$K,8)","v":11.797199249},8.0289073489331209]
[null,null,null,null,null,null,null,null,null,null,null,null,null,null,"2013-05-12T12:31:16",75.930000000000007,{"$f":"VLOOKUP(O464,[1]Raw!$D:$K,8)","v":11.832399368000001},8.0311908578178954]
[null,null,null,null,null,null,null,null,null,null,null,null,null,null,"2013-05-12T12:41:16",76.010000000000005,{"$f":"VLOOKUP(O465,[1]Raw!$D:$K,8)","v":11.867200851},8.0322402097900252]
[null,null,null,null,null,null,null,null,null,null,null,null,null,null,"2013-05-12T12:51:16",76.099999999999994,{"$f":"VLOOKUP(O466,[1]Raw!$D:$K,8)","v":11.8708992},8.0337927918667713]
[null,null,null,null,null,null,null,null,null,null,null,null,null,null,"2013-05-12T13:01:16",76.180000000000007,{"$f":"VLOOKUP(O467,[1]Raw!$D:$K,8)","v":11.885700226000001},8.0350518387256464]
[null,null,null,null,null,null,null,null,null,null,null,null,null,null,"2013-05-12T13:11:16",76.22,{"$f":"VLOOKUP(O468,[1]Raw!$D:$K,8)","v":11.891700745},8.0356960273367584]
[null,null,null,null,null,null,null,null,null,null,null,null,null,null,"2013-05-12T13:21:16",76.22,{"$f":"VLOOKUP(O469,[1]Raw!$D:$K,8)","v":11.896999359},8.0356403386158632]
[null,null,null,null,null,null,null,null,null,null,null,null,null,null,"2013-05-12T13:31:17",76.12,{"$f":"VLOOKUP(O470,[1]Raw!$D:$K,8)","v":11.887199402},8.0339752053932116]
[null,null,null,null,null,null,null,null,null,null,null,null,null,null,"2013-05-12T13:41:17",76.099999999999994,{"$f":"VLOOKUP(O471,[1]Raw!$D:$K,8)","v":11.891000748},8.0335816532787572]
[null,null,null,null,null,null,null,null,null,null,null,null,null,null,"2013-05-12T13:51:17",76.09,{"$f":"VLOOKUP(O472,[1]Raw!$D:$K,8)","v":11.895200729000001},8.0333607337962025]
[null,null,null,null,null,null,null,null,null,null,null,null,null,null,"2013-05-12T14:01:17",76.13,{"$f":"VLOOKUP(O473,[1]Raw!$D:$K,8)","v":11.899999619000001},8.0340175584602953]
[null,null,null,null,null,null,null,null,null,null,null,null,null,null,"2013-05-12T14:11:17",76.150000000000006,{"$f":"VLOOKUP(O474,[1]Raw!$D:$K,8)","v":11.912099838},8.0342440581815762]
[null,null,null,null,null,null,null,null,null,null,null,null,null,null,"2013-05-12T14:21:17",76.290000000000006,{"$f":"VLOOKUP(O475,[1]Raw!$D:$K,8)","v":11.940700530999999},8.0364185766478275]
[null,null,null,null,null,null,null,null,null,null,null,null,null,null,"2013-05-12T14:31:16",76.510000000000005,{"$f":"VLOOKUP(O476,[1]Raw!$D:$K,8)","v":11.976699828999999},8.0399289080230592]
[null,null,null,null,null,null,null,null,null,null,null,null,null,null,"2013-05-12T14:41:16",76.59,{"$f":"VLOOKUP(O477,[1]Raw!$D:$K,8)","v":12.001899719000001},8.0410777165369751]
[null,null,null,null,null,null,null,null,null,null,null,null,null,null,"2013-05-12T14:51:16",76.709999999999994,{"$f":"VLOOKUP(O478,[1]Raw!$D:$K,8)","v":12.022600174000001},8.042980610898951]
[null,null,null,null,null,null,null,null,null,null,null,null,null,null,"2013-05-12T15:01:16",76.790000000000006,{"$f":"VLOOKUP(O479,[1]Raw!$D:$K,8)","v":12.041400909},8.0441963755068269]
[null,null,null,null,null,null,null,null,null,null,null,null,null,null,"2013-05-12T15:11:16",77.010000000000005,{"$f":"VLOOKUP(O480,[1]Raw!$D:$K,8)","v":12.061300277999999},8.0478742774109211]
[null,null,null,null,null,null,null,null,null,null,null,null,null,null,"2013-05-12T15:21:16",77.19,{"$f":"VLOOKUP(O481,[1]Raw!$D:$K,8)","v":12.082199097},8.0508343434640448]
[null,null,null,null,null,null,null,null,null,null,null,null,null,null,"2013-05-12T15:31:16",77.33,{"$f":"VLOOKUP(O482,[1]Raw!$D:$K,8)","v":12.072099686},8.0534147410785799]
[null,null,null,null,null,null,null,null,null,null,null,null,null,null,"2013-05-12T15:41:16",77.099999999999994,{"$f":"VLOOKUP(O483,[1]Raw!$D:$K,8)","v":12.080299376999999},8.0492641553007687]
[null,null,null,null,null,null,null,null,null,null,null,null,null,null,"2013-05-12T15:51:16",76.959999999999994,{"$f":"VLOOKUP(O484,[1]Raw!$D:$K,8)","v":12.059099197},8.0470139581038822]
[null,null,null,null,null,null,null,null,null,null,null,null,null,null,"2013-05-12T16:01:16",76.849999999999994,{"$f":"VLOOKUP(O485,[1]Raw!$D:$K,8)","v":12.037799835},8.0452946311725633]
[null,null,null,null,null,null,null,null,null,null,null,null,null,null,"2013-05-12T16:11:16",76.819999999999993,{"$f":"VLOOKUP(O486,[1]Raw!$D:$K,8)","v":12.02820015},8.0448656234611775]
[null,null,null,null,null,null,null,null,null,null,null,null,null,null,"2013-05-12T16:21:16",76.77,{"$f":"VLOOKUP(O487,[1]Raw!$D:$K,8)","v":12.010400772000001},8.044169509341252]
[null,null,null,null,null,null,null,null,null,null,null,null,null,null,"2013-05-12T16:31:16",76.540000000000006,{"$f":"VLOOKUP(O488,[1]Raw!$D:$K,8)","v":11.99489975},8.0402676608968111]
[null,null,null,null,null,null,null,null,null,null,null,null,null,null,"2013-05-12T16:41:16",76.489999999999995,{"$f":"VLOOKUP(O489,[1]Raw!$D:$K,8)","v":11.979700089},8.0395438278695686]
[null,null,null,null,null,null,null,null,null,null,null,null,null,null,"2013-05-12T16:51:16",76.400000000000006,{"$f":"VLOOKUP(O490,[1]Raw!$D:$K,8)","v":11.969900130999999},8.038056073814678]
[null,null,null,null,null,null,null,null,null,null,null,null,null,null,"2013-05-12T17:01:16",76.45,{"$f":"VLOOKUP(O491,[1]Raw!$D:$K,8)","v":11.963399887},8.0390082598134889]
[null,null,null,null,null,null,null,null,null,null,null,null,null,null,"2013-05-12T17:11:16",76.510000000000005,{"$f":"VLOOKUP(O492,[1]Raw!$D:$K,8)","v":11.975999831999999},8.0399362733830309]
[null,null,null,null,null,null,null,null,null,null,null,null,null,null,"2013-05-12T17:21:16",76.52,{"$f":"VLOOKUP(O493,[1]Raw!$D:$K,8)","v":11.965099335},8.0402277379308487]
[null,null,null,null,null,null,null,null,null,null,null,null,null,null,"2013-05-12T17:31:16",76.78,{"$f":"VLOOKUP(O494,[1]Raw!$D:$K,8)","v":11.993600845},8.0445232642190447]
[null,null,null,null,null,null,null,null,null,null,null,null,null,null,"2013-05-12T17:41:16",76.84,{"$f":"VLOOKUP(O495,[1]Raw!$D:$K,8)","v":11.985099792},8.0456733618253793]
[null,null,null,null,null,null,null,null,null,null,null,null,null,null,"2013-05-12T17:51:16",76.89,{"$f":"VLOOKUP(O496,[1]Raw!$D:$K,8)","v":12.012399673000001},8.0462692778474381]
[null,null,null,null,null,null,null,null,null,null,null,null,null,null,"2013-05-12T18:01:16",76.959999999999994,{"$f":"VLOOKUP(O497,[1]Raw!$D:$K,8)","v":11.997600555},8.0476625251070946]
[null,null,null,null,null,null,null,null,null,null,null,null,null,null,"2013-05-12T18:11:16",76.83,{"$f":"VLOOKUP(O498,[1]Raw!$D:$K,8)","v":11.964899063000001},8.0457095638210081]
[null,null,null,null,null,null,null,null,null,null,null,null,null,null,"2013-05-12T18:21:16",76.91,{"$f":"VLOOKUP(O499,[1]Raw!$D:$K,8)","v":11.962200165},8.0471521519356148]
[null,null,null,null,null,null,null,null,null,null,null,null,null,null,"2013-05-12T18:31:17",76.87,{"$f":"VLOOKUP(O500,[1]Raw!$D:$K,8)","v":11.94949913},8.0465790276629665]
[null,null,null,null,null,null,null,null,null,null,null,null,null,null,"2013-05-12T18:41:17",76.78,{"$f":"VLOOKUP(O501,[1]Raw!$D:$K,8)","v":11.944400786999999},8.0450417968823817]
[null,null,null,null,null,null,null,null,null,null,null,null,null,null,"2013-05-12T18:51:17",76.69,{"$f":"VLOOKUP(O502,[1]Raw!$D:$K,8)","v":11.926099776999999},8.0436436193353664]
[null,null,null,null,null,null,null,null,null,null,null,null,null,null,"2013-05-12T19:01:17",76.569999999999993,{"$f":"VLOOKUP(O503,[1]Raw!$D:$K,8)","v":11.942699432},8.0413473748091153]
[null,null,null,null,null,null,null,null,null,null,null,null,null,null,"2013-05-12T19:11:17",76.36,{"$f":"VLOOKUP(O504,[1]Raw!$D:$K,8)","v":11.892700195},8.0381608612354967]
[null,null,null,null,null,null,null,null,null,null,null,null,null,null,"2013-05-12T19:21:17",76.55,{"$f":"VLOOKUP(O505,[1]Raw!$D:$K,8)","v":11.891500473000001},8.0415328828707633]
[null,null,null,null,null,null,null,null,null,null,null,null,null,null,"2013-05-12T19:31:16",76.8,{"$f":"VLOOKUP(O506,[1]Raw!$D:$K,8)","v":11.89509964},8.045915191288957]
[null,null,null,null,null,null,null,null,null,null,null,null,null,null,"2013-05-12T19:41:16",76.819999999999993,{"$f":"VLOOKUP(O507,[1]Raw!$D:$K,8)","v":11.908800125000001},8.0461243130448317]
[null,null,null,null,null,null,null,null,null,null,null,null,null,null,"2013-05-12T19:51:16",76.760000000000005,{"$f":"VLOOKUP(O508,[1]Raw!$D:$K,8)","v":11.935199738},8.0447852220362428]
[null,null,null,null,null,null,null,null,null,null,null,null,null,null,"2013-05-12T20:01:16",76.790000000000006,{"$f":"VLOOKUP(O509,[1]Raw!$D:$K,8)","v":11.926000595},8.0454125566746342]
[null,null,null,null,null,null,null,null,null,null,null,null,null,null,"2013-05-12T20:11:16",76.709999999999994,{"$f":"VLOOKUP(O510,[1]Raw!$D:$K,8)","v":11.918300629000001},8.0440793881214336]
[null,null,null,null,null,null,null,null,null,null,null,null,null,null,"2013-05-12T20:21:16",76.510000000000005,{"$f":"VLOOKUP(O511,[1]Raw!$D:$K,8)","v":11.874900818},8.0410004159180719]
[null,null,null,null,null,null,null,null,null,null,null,null,null,null,"2013-05-12T20:31:17",76.61,{"$f":"VLOOKUP(O512,[1]Raw!$D:$K,8)","v":11.861600876000001},8.0429087556544854]
[null,null,null,null,null,null,null,null,null,null,null,null,null,null,"2013-05-12T20:41:17",76.44,{"$f":"VLOOKUP(O513,[1]Raw!$D:$K,8)","v":11.851100922000001},8.0400131875428684]
[null,null,null,null,null,null,null,null,null,null,null,null,null,null,"2013-05-12T20:51:17",75.900000000000006,{"$f":"VLOOKUP(O514,[1]Raw!$D:$K,8)","v":11.866100311},8.0303066742327562]
[null,null,null,null,null,null,null,null,null,null,null,null,null,null,"2013-05-12T21:01:17",75.959999999999994,{"$f":"VLOOKUP(O515,[1]Raw!$D:$K,8)","v":11.860500335999999},8.0314264110579021]
[null,null,null,null,null,null,null,null,null,null,null,null,null,null,"2013-05-12T21:11:17",75.64,{"$f":"VLOOKUP(O516,[1]Raw!$D:$K,8)","v":11.86179924},8.0257542476627055]
[null,null,null,null,null,null,null,null,null,null,null,null,null,null,"2013-05-12T21:21:17",75.27,{"$f":"VLOOKUP(O517,[1]Raw!$D:$K,8)","v":11.865600585999999},8.0191718358987103]
[null,null,null,null,null,null,null,null,null,null,null,null,null,null,"2013-05-12T21:31:16",74.98,{"$f":"VLOOKUP(O518,[1]Raw!$D:$K,8)","v":11.865499496},8.0140449167279257]
[null,null,null,null,null,null,null,null,null,null,null,null,null,null,"2013-05-12T21:41:16",75.12,{"$f":"VLOOKUP(O519,[1]Raw!$D:$K,8)","v":11.891199112000001},8.0162521103253859]
[null,null,null,null,null,null,null,null,null,null,null,null,null,null,"2013-05-12T21:51:16",75.02,{"$f":"VLOOKUP(O520,[1]Raw!$D:$K,8)","v":11.918300629000001},8.0142012017077295]
[null,null,null,null,null,null,null,null,null,null,null,null,null,null,"2013-05-12T22:01:16",75.41,{"$f":"VLOOKUP(O521,[1]Raw!$D:$K,8)","v":11.926500320000001},8.0210104174612695]
[null,null,null,null,null,null,null,null,null,null,null,null,null,null,"2013-05-12T22:11:16",75.11,{"$f":"VLOOKUP(O522,[1]Raw!$D:$K,8)","v":11.915300369000001},8.015823669118328]
[null,null,null,null,null,null,null,null,null,null,null,null,null,null,"2013-05-12T22:21:16",75.42,{"$f":"VLOOKUP(O523,[1]Raw!$D:$K,8)","v":11.945800781000001},8.0209853744285429]
[null,null,null,null,null,null,null,null,null,null,null,null,null,null,"2013-05-12T22:31:16",75.53,{"$f":"VLOOKUP(O524,[1]Raw!$D:$K,8)","v":11.966800689999999},8.0227102049882468]
[null,null,null,null,null,null,null,null,null,null,null,null,null,null,"2013-05-12T22:41:16",75.63,{"$f":"VLOOKUP(O525,[1]Raw!$D:$K,8)","v":11.987699509},8.0242590886442731]
[null,null,null,null,null,null,null,null,null,null,null,null,null,null,"2013-05-12T22:51:16",75.59,{"$f":"VLOOKUP(O526,[1]Raw!$D:$K,8)","v":11.960500717},8.0238367233644681]
[null,null,null,null,null,null,null,null,null,null,null,null,null,null,"2013-05-12T23:01:16",75.66,{"$f":"VLOOKUP(O527,[1]Raw!$D:$K,8)","v":11.986000061},8.0248071322737715]
[null,null,null,null,null,null,null,null,null,null,null,null,null,null,"2013-05-12T23:11:16",75.67,{"$f":"VLOOKUP(O528,[1]Raw!$D:$K,8)","v":11.937400818},8.0254927664838611]
[null,null,null,null,null,null,null,null,null,null,null,null,null,null,"2013-05-12T23:21:16",75.709999999999994,{"$f":"VLOOKUP(O529,[1]Raw!$D:$K,8)","v":11.974000931000001},8.0258165488010125]
[null,null,null,null,null,null,null,null,null,null,null,null,null,null,"2013-05-12T23:31:16",75.709999999999994,{"$f":"VLOOKUP(O530,[1]Raw!$D:$K,8)","v":11.955200195},8.0260134537363914]
[null,null,null,null,null,null,null,null,null,null,null,null,null,null,"2013-05-12T23:41:16",75.61,{"$f":"VLOOKUP(O531,[1]Raw!$D:$K,8)","v":11.954399109000001},8.0242541281157536]
[null,null,null,null,null,null,null,null,null,null,null,null,null,null,"2013-05-12T23:51:16",75.59,{"$f":"VLOOKUP(O532,[1]Raw!$D:$K,8)","v":11.971599578999999},8.0237205658870803]
[null,null,null,null,null,null,null,null,null,null,null,null,null,null,"2013-05-13T00:01:16",75.489999999999995,{"$f":"VLOOKUP(O533,[1]Raw!$D:$K,8)","v":11.948999405},8.0221893526519743]
[null,null,null,null,null,null,null,null,null,null,null,null,null,null,"2013-05-13T00:11:16",75.37,{"$f":"VLOOKUP(O534,[1]Raw!$D:$K,8)","v":11.920000076000001},8.0203712232072828]
[null,null,null,null,null,null,null,null,null,null,null,null,null,null,"2013-05-13T00:21:16",75.260000000000005,{"$f":"VLOOKUP(O535,[1]Raw!$D:$K,8)","v":11.901500702},8.0186198063650966]
[null,null,null,null,null,null,null,null,null,null,null,null,null,null,"2013-05-13T00:31:16",75.12,{"$f":"VLOOKUP(O536,[1]Raw!$D:$K,8)","v":11.890899658},8.0162552372434366]
[null,null,null,null,null,null,null,null,null,null,null,null,null,null,"2013-05-13T00:41:16",74.94,{"$f":"VLOOKUP(O537,[1]Raw!$D:$K,8)","v":11.873100280999999},8.0132583145850838]
[null,null,null,null,null,null,null,null,null,null,null,null,null,null,"2013-05-13T00:51:16",74.86,{"$f":"VLOOKUP(O538,[1]Raw!$D:$K,8)","v":11.833299637},8.0122588075005901]
[null,null,null,null,null,null,null,null,null,null,null,null,null,null,"2013-05-13T01:01:16",74.77,{"$f":"VLOOKUP(O539,[1]Raw!$D:$K,8)","v":11.810699463000001},8.0109028028521347]
[null,null,null,null,null,null,null,null,null,null,null,null,null,null,"2013-05-13T01:11:16",74.7,{"$f":"VLOOKUP(O540,[1]Raw!$D:$K,8)","v":11.804500579999999},8.0097293829962695]
[null,null,null,null,null,null,null,null,null,null,null,null,null,null,"2013-05-13T01:21:16",74.7,{"$f":"VLOOKUP(O541,[1]Raw!$D:$K,8)","v":11.785900116000001},8.0099232560184852]
[null,null,null,null,null,null,null,null,null,null,null,null,null,null,"2013-05-13T01:31:16",74.59,{"$f":"VLOOKUP(O542,[1]Raw!$D:$K,8)","v":11.758699417000001},8.0082609916101717]
[null,null,null,null,null,null,null,null,null,null,null,null,null,null,"2013-05-13T01:41:16",74.39,{"$f":"VLOOKUP(O543,[1]Raw!$D:$K,8)","v":11.724300384999999},8.0050811456592701]
[null,null,null,null,null,null,null,null,null,null,null,null,null,null,"2013-05-13T01:51:16",74.31,{"$f":"VLOOKUP(O544,[1]Raw!$D:$K,8)","v":11.712900162},8.0037844430095024]
[null,null,null,null,null,null,null,null,null,null,null,null,null,null,"2013-05-13T02:01:16",74.08,{"$f":"VLOOKUP(O545,[1]Raw!$D:$K,8)","v":11.676300049},8.0000955926907178]
[null,null,null,null,null,null,null,null,null,null,null,null,null,null,"2013-05-13T02:11:16",74.099999999999994,{"$f":"VLOOKUP(O546,[1]Raw!$D:$K,8)","v":11.691099167000001},8.0002956604108046]
[null,null,null,null,null,null,null,null,null,null,null,null,null,null,"2013-05-13T02:21:16",74.12,{"$f":"VLOOKUP(O547,[1]Raw!$D:$K,8)","v":11.696699142},8.0005913220249809]
[null,null,null,null,null,null,null,null,null,null,null,null,null,null,"2013-05-13T02:31:16",74.19,{"$f":"VLOOKUP(O548,[1]Raw!$D:$K,8)","v":11.662599564000001},8.0021844715159105]
[null,null,null,null,null,null,null,null,null,null,null,null,null,null,"2013-05-13T02:41:16",74.319999999999993,{"$f":"VLOOKUP(O549,[1]Raw!$D:$K,8)","v":11.644100189},8.0046774316576137]
[null,null,null,null,null,null,null,null,null,null,null,null,null,null,"2013-05-13T02:51:16",74.38,{"$f":"VLOOKUP(O550,[1]Raw!$D:$K,8)","v":11.650499344},8.0056725763977141]
[null,null,null,null,null,null,null,null,null,null,null,null,null,null,"2013-05-13T03:01:16",74.22,{"$f":"VLOOKUP(O551,[1]Raw!$D:$K,8)","v":11.607299805},8.0032907196155794]
[null,null,null,null,null,null,null,null,null,null,null,null,null,null,"2013-05-13T03:11:16",74.36,{"$f":"VLOOKUP(O552,[1]Raw!$D:$K,8)","v":11.613100052},8.0057081267714327]
[null,null,null,null,null,null,null,null,null,null,null,null,null,null,"2013-05-13T03:21:16",74.14,{"$f":"VLOOKUP(O553,[1]Raw!$D:$K,8)","v":11.589399338},8.0020610348070615]
[null,null,null,null,null,null,null,null,null,null,null,null,null,null,"2013-05-13T03:31:17",73.819999999999993,{"$f":"VLOOKUP(O554,[1]Raw!$D:$K,8)","v":11.564199448},7.9966587753499638]
[null,null,null,null,null,null,null,null,null,null,null,null,null,null,"2013-05-13T03:41:17",73.66,{"$f":"VLOOKUP(O555,[1]Raw!$D:$K,8)","v":11.523899077999999},7.9942447401071313]
[null,null,null,null,null,null,null,null,null,null,null,null,null,null,"2013-05-13T03:51:17",73.599999999999994,{"$f":"VLOOKUP(O556,[1]Raw!$D:$K,8)","v":11.499300003},7.993437731316952]
[null,null,null,null,null,null,null,null,null,null,null,null,null,null,"2013-05-13T04:01:17",73.569999999999993,{"$f":"VLOOKUP(O557,[1]Raw!$D:$K,8)","v":11.482700348},7.9930787903472797]
[null,null,null,null,null,null,null,null,null,null,null,null,null,null,"2013-05-13T04:11:17",73.540000000000006,{"$f":"VLOOKUP(O558,[1]Raw!$D:$K,8)","v":11.468900680999999},7.9926907580056659]
[null,null,null,null,null,null,null,null,null,null,null,null,null,null,"2013-05-13T04:21:17",73.41,{"$f":"VLOOKUP(O559,[1]Raw!$D:$K,8)","v":11.464399338},7.9904354717378716]
[null,null,null,null,null,null,null,null,null,null,null,null,null,null,"2013-05-13T04:31:17",73.489999999999995,{"$f":"VLOOKUP(O560,[1]Raw!$D:$K,8)","v":11.462099074999999},7.9918759378371531]
[null,null,null,null,null,null,null,null,null,null,null,null,null,null,"2013-05-13T04:41:17",73.53,{"$f":"VLOOKUP(O561,[1]Raw!$D:$K,8)","v":11.470399857},7.9924981322698576]
[null,null,null,null,null,null,null,null,null,null,null,null,null,null,"2013-05-13T04:51:17",73.88,{"$f":"VLOOKUP(O562,[1]Raw!$D:$K,8)","v":11.485500335999999},7.998538686588061]
[null,null,null,null,null,null,null,null,null,null,null,null,null,null,"2013-05-13T05:01:17",74.02,{"$f":"VLOOKUP(O563,[1]Raw!$D:$K,8)","v":11.495199203},8.0009166682489425]
[null,null,null,null,null,null,null,null,null,null,null,null,null,null,"2013-05-13T05:11:17",74.05,{"$f":"VLOOKUP(O564,[1]Raw!$D:$K,8)","v":11.511199951},8.0012813670603666]
[null,null,null,null,null,null,null,null,null,null,null,null,null,null,"2013-05-13T05:21:17",75,{"$f":"VLOOKUP(O565,[1]Raw!$D:$K,8)","v":11.580099106},8.0173801347213285]
[null,null,null,null,null,null,null,null,null,null,null,null,null,null,"2013-05-13T05:31:16",76.040000000000006,{"$f":"VLOOKUP(O566,[1]Raw!$D:$K,8)","v":11.661600113},8.0349312360371492]
[null,null,null,null,null,null,null,null,null,null,null,null,null,null,"2013-05-13T05:41:16",77.05,{"$f":"VLOOKUP(O567,[1]Raw!$D:$K,8)","v":11.748199463000001},8.0518876847223542]
[null,null,null,null,null,null,null,null,null,null,null,null,null,null,"2013-05-13T05:51:16",77.69,{"$f":"VLOOKUP(O568,[1]Raw!$D:$K,8)","v":11.804700851},8.0626097761167568]
[null,null,null,null,null,null,null,null,null,null,null,null,null,null,"2013-05-13T06:01:16",77.92,{"$f":"VLOOKUP(O569,[1]Raw!$D:$K,8)","v":11.828300476000001},8.066427000441168]
[null,null,null,null,null,null,null,null,null,null,null,null,null,null,"2013-05-13T06:11:16",78.47,{"$f":"VLOOKUP(O570,[1]Raw!$D:$K,8)","v":11.835899353},8.0760727809485342]
[null,null,null,null,null,null,null,null,null,null,null,null,null,null,"2013-05-13T06:21:16",78.760000000000005,{"$f":"VLOOKUP(O571,[1]Raw!$D:$K,8)","v":11.854000092},8.0810081309434096]
[null,null,null,null,null,null,null,null,null,null,null,null,null,null,"2013-05-13T06:31:16",78.89,{"$f":"VLOOKUP(O572,[1]Raw!$D:$K,8)","v":11.861999512000001},8.0832215505485259]
[null,null,null,null,null,null,null,null,null,null,null,null,null,null,"2013-05-13T06:41:16",78.75,{"$f":"VLOOKUP(O573,[1]Raw!$D:$K,8)","v":11.855199814000001},8.0808184960655716]
[null,null,null,null,null,null,null,null,null,null,null,null,null,null,"2013-05-13T06:51:16",79.150000000000006,{"$f":"VLOOKUP(O574,[1]Raw!$D:$K,8)","v":11.872800827000001},8.0877035953127443]
[null,null,null,null,null,null,null,null,null,null,null,null,null,null,"2013-05-13T07:01:16",79.62,{"$f":"VLOOKUP(O575,[1]Raw!$D:$K,8)","v":11.906700133999999},8.0956507953394929]
[null,null,null,null,null,null,null,null,null,null,null,null,null,null,"2013-05-13T07:11:16",79.849999999999994,{"$f":"VLOOKUP(O576,[1]Raw!$D:$K,8)","v":11.921199799},8.0995615872143674]
[null,null,null,null,null,null,null,null,null,null,null,null,null,null,"2013-05-13T07:21:16",80.150000000000006,{"$f":"VLOOKUP(O577,[1]Raw!$D:$K,8)","v":11.944000244},8.104620227109594]
[null,null,null,null,null,null,null,null,null,null,null,null,null,null,"2013-05-13T07:31:18",80.11,{"$f":"VLOOKUP(O578,[1]Raw!$D:$K,8)","v":11.938899994},8.1039679312798221]
[null,null,null,null,null,null,null,null,null,null,null,null,null,null,"2013-05-13T07:41:18",81.86,{"$f":"VLOOKUP(O579,[1]Raw!$D:$K,8)","v":12.1060009},8.1330915776585435]
[null,null,null,null,null,null,null,null,null,null,null,null,null,null,"2013-05-13T07:51:18",82.82,{"$f":"VLOOKUP(O580,[1]Raw!$D:$K,8)","v":12.18350029},8.1492078687381539]
[null,null,null,null,null,null,null,null,null,null,null,null,null,null,"2013-05-13T08:01:18",83.01,{"$f":"VLOOKUP(O581,[1]Raw!$D:$K,8)","v":12.231899261000001},8.1520359338060278]
[null,null,null,null,null,null,null,null,null,null,null,null,null,null,"2013-05-13T08:11:18",82.93,{"$f":"VLOOKUP(O582,[1]Raw!$D:$K,8)","v":12.244300841999999},8.1504879592398378]
[null,null,null,null,null,null,null,null,null,null,null,null,null,null,"2013-05-13T08:21:18",83.63,{"$f":"VLOOKUP(O583,[1]Raw!$D:$K,8)","v":12.336999893},8.1618353452135484]
[null,null,null,null,null,null,null,null,null,null,null,null,null,null,"2013-05-13T08:31:16",83.59,{"$f":"VLOOKUP(O584,[1]Raw!$D:$K,8)","v":12.411800384999999},8.1603116102247011]
[null,null,null,null,null,null,null,null,null,null,null,null,null,null,"2013-05-13T08:41:16",83.66,{"$f":"VLOOKUP(O585,[1]Raw!$D:$K,8)","v":12.447200775000001},8.1611600867759453]
[null,null,null,null,null,null,null,null,null,null,null,null,null,null,"2013-05-13T08:51:16",83.76,{"$f":"VLOOKUP(O586,[1]Raw!$D:$K,8)","v":12.531999588},8.1619977283869183]
[null,null,null,null,null,null,null,null,null,null,null,null,null,null,"2013-05-13T09:01:16",82.37,{"$f":"VLOOKUP(O587,[1]Raw!$D:$K,8)","v":12.523099899},8.1375726544442664]
[null,null,null,null,null,null,null,null,null,null,null,null,null,null,"2013-05-13T09:11:16",82.32,{"$f":"VLOOKUP(O588,[1]Raw!$D:$K,8)","v":12.536399841},8.1365463838922611]
[null,null,null,null,null,null,null,null,null,null,null,null,null,null,"2013-05-13T09:21:16",83.04,{"$f":"VLOOKUP(O589,[1]Raw!$D:$K,8)","v":12.573600769},8.1488431695013706]
[null,null,null,null,null,null,null,null,null,null,null,null,null,null,"2013-05-13T09:31:16",82.74,{"$f":"VLOOKUP(O590,[1]Raw!$D:$K,8)","v":12.581699370999999},8.1434635438402587]
[null,null,null,null,null,null,null,null,null,null,null,null,null,null,"2013-05-13T09:41:16",81.52,{"$f":"VLOOKUP(O591,[1]Raw!$D:$K,8)","v":12.563999175999999},8.1221356920459353]
[null,null,null,null,null,null,null,null,null,null,null,null,null,null,"2013-05-13T09:51:16",80.31,{"$f":"VLOOKUP(O592,[1]Raw!$D:$K,8)","v":12.542499542},8.1010223132435026]
[null,null,null,null,null,null,null,null,null,null,null,null,null,null,"2013-05-13T10:01:16",79.55,{"$f":"VLOOKUP(O593,[1]Raw!$D:$K,8)","v":12.523300171000001},8.0878201590309544]
[null,null,null,null,null,null,null,null,null,null,null,null,null,null,"2013-05-13T10:11:16",78.400000000000006,{"$f":"VLOOKUP(O594,[1]Raw!$D:$K,8)","v":12.468999863000001},8.0681075151686557]
[null,null,null,null,null,null,null,null,null,null,null,null,null,null,"2013-05-13T10:21:16",77.83,{"$f":"VLOOKUP(O595,[1]Raw!$D:$K,8)","v":12.420700073000001},8.0585601701430747]
[null,null,null,null,null,null,null,null,null,null,null,null,null,null,"2013-05-13T10:31:16",77.349999999999994,{"$f":"VLOOKUP(O596,[1]Raw!$D:$K,8)","v":12.368499756},8.0506393410756747]
[null,null,null,null,null,null,null,null,null,null,null,null,null,null,"2013-05-13T10:41:16",76.92,{"$f":"VLOOKUP(O597,[1]Raw!$D:$K,8)","v":12.334499359},8.0434068599893429]
[null,null,null,null,null,null,null,null,null,null,null,null,null,null,"2013-05-13T10:51:16",76.900000000000006,{"$f":"VLOOKUP(O598,[1]Raw!$D:$K,8)","v":12.336799621999999},8.0430295895397279]
[null,null,null,null,null,null,null,null,null,null,null,null,null,null,"2013-05-13T11:01:16",76.83,{"$f":"VLOOKUP(O599,[1]Raw!$D:$K,8)","v":12.327999115000001},8.0418863878190407]
[null,null,null,null,null,null,null,null,null,null,null,null,null,null,"2013-05-13T11:11:16",76.78,{"$f":"VLOOKUP(O600,[1]Raw!$D:$K,8)","v":12.324100494},8.0410446723206075]
[null,null,null,null,null,null,null,null,null,null,null,null,null,null,"2013-05-13T11:21:16",76.75,{"$f":"VLOOKUP(O601,[1]Raw!$D:$K,8)","v":12.318399428999999},8.0405749705413694]
[null,null,null,null,null,null,null,null,null,null,null,null,null,null,"2013-05-13T11:31:16",76.88,{"$f":"VLOOKUP(O602,[1]Raw!$D:$K,8)","v":12.343399048},8.0426071066308946]
[null,null,null,null,null,null,null,null,null,null,null,null,null,null,"2013-05-13T11:41:16",77.14,{"$f":"VLOOKUP(O603,[1]Raw!$D:$K,8)","v":12.391300201},8.0466924047673345]
[null,null,null,null,null,null,null,null,null,null,null,null,null,null,"2013-05-13T11:51:16",77.400000000000006,{"$f":"VLOOKUP(O604,[1]Raw!$D:$K,8)","v":12.425899506},8.0509165791191286]
[null,null,null,null,null,null,null,null,null,null,null,null,null,null,"2013-05-13T12:01:16",77.75,{"$f":"VLOOKUP(O605,[1]Raw!$D:$K,8)","v":12.438999175999999},8.0569549722472527]
[null,null,null,null,null,null,null,null,null,null,null,null,null,null,"2013-05-13T12:11:16",77.849999999999994,{"$f":"VLOOKUP(O606,[1]Raw!$D:$K,8)","v":12.406999588},8.0590579856723572]
[null,null,null,null,null,null,null,null,null,null,null,null,null,null,"2013-05-13T12:21:16",77.709999999999994,{"$f":"VLOOKUP(O607,[1]Raw!$D:$K,8)","v":12.354299545},8.0571439548681916]
[null,null,null,null,null,null,null,null,null,null,null,null,null,null,"2013-05-13T12:31:16",77.34,{"$f":"VLOOKUP(O608,[1]Raw!$D:$K,8)","v":12.323999405},8.0509321292589089]
[null,null,null,null,null,null,null,null,null,null,null,null,null,null,"2013-05-13T12:41:16",76.58,{"$f":"VLOOKUP(O609,[1]Raw!$D:$K,8)","v":12.233999252},8.0384602431218681]
[null,null,null,null,null,null,null,null,null,null,null,null,null,null,"2013-05-13T12:51:16",76.569999999999993,{"$f":"VLOOKUP(O610,[1]Raw!$D:$K,8)","v":12.203699112000001},8.0386020332965433]
[null,null,null,null,null,null,null,null,null,null,null,null,null,null,"2013-05-13T13:01:16",76.7,{"$f":"VLOOKUP(O611,[1]Raw!$D:$K,8)","v":12.19560051},8.0409832319642689]
[null,null,null,null,null,null,null,null,null,null,null,null,null,null,"2013-05-13T13:11:16",76.94,{"$f":"VLOOKUP(O612,[1]Raw!$D:$K,8)","v":12.214899063000001},8.0450189174892763]
[null,null,null,null,null,null,null,null,null,null,null,null,null,null,"2013-05-13T13:21:16",76.97,{"$f":"VLOOKUP(O613,[1]Raw!$D:$K,8)","v":12.243999480999999},8.0452422684902114]
[null,null,null,null,null,null,null,null,null,null,null,null,null,null,"2013-05-13T13:31:16",76.83,{"$f":"VLOOKUP(O614,[1]Raw!$D:$K,8)","v":12.201499939},8.0432172265445612]
[null,null,null,null,null,null,null,null,null,null,null,null,null,null,"2013-05-13T13:41:16",76.7,{"$f":"VLOOKUP(O615,[1]Raw!$D:$K,8)","v":12.189100266000001},8.0410516003914285]
[null,null,null,null,null,null,null,null,null,null,null,null,null,null,"2013-05-13T13:51:16",76.78,{"$f":"VLOOKUP(O616,[1]Raw!$D:$K,8)","v":12.204999923999999},8.0422973070882176]
[null,null,null,null,null,null,null,null,null,null,null,null,null,null,"2013-05-13T14:01:16",76.790000000000006,{"$f":"VLOOKUP(O617,[1]Raw!$D:$K,8)","v":12.271799088},8.041771196255441]
[null,null,null,null,null,null,null,null,null,null,null,null,null,null,"2013-05-13T14:11:16",77.13,{"$f":"VLOOKUP(O618,[1]Raw!$D:$K,8)","v":12.278999328999999},8.0476988693014047]
[null,null,null,null,null,null,null,null,null,null,null,null,null,null,"2013-05-13T14:21:16",79.16,{"$f":"VLOOKUP(O619,[1]Raw!$D:$K,8)","v":12.466899872000001},8.0815403167542872]
[null,null,null,null,null,null,null,null,null,null,null,null,null,null,"2013-05-13T14:31:17",79.08,{"$f":"VLOOKUP(O620,[1]Raw!$D:$K,8)","v":12.468399048},8.0801127232333219]
[null,null,null,null,null,null,null,null,null,null,null,null,null,null,"2013-05-13T14:41:17",78.81,{"$f":"VLOOKUP(O621,[1]Raw!$D:$K,8)","v":12.466400146},8.0753697229612378]
[null,null,null,null,null,null,null,null,null,null,null,null,null,null,"2013-05-13T14:51:17",78.680000000000007,{"$f":"VLOOKUP(O622,[1]Raw!$D:$K,8)","v":12.45070076},8.0732425476853109]
[null,null,null,null,null,null,null,null,null,null,null,null,null,null,"2013-05-13T15:01:17",78.47,{"$f":"VLOOKUP(O623,[1]Raw!$D:$K,8)","v":12.470100403},8.069331013889828]
[null,null,null,null,null,null,null,null,null,null,null,null,null,null,"2013-05-13T15:11:17",79.430000000000007,{"$f":"VLOOKUP(O624,[1]Raw!$D:$K,8)","v":12.569299698},8.0852127531132698]
[null,null,null,null,null,null,null,null,null,null,null,null,null,null,"2013-05-13T15:21:17",79.489999999999995,{"$f":"VLOOKUP(O625,[1]Raw!$D:$K,8)","v":12.577299117999999},8.086185810125528]
[null,null,null,null,null,null,null,null,null,null,null,null,null,null,"2013-05-13T15:31:16",79.23,{"$f":"VLOOKUP(O626,[1]Raw!$D:$K,8)","v":12.578599929999999},8.0815859197408333]
[null,null,null,null,null,null,null,null,null,null,null,null,null,null,"2013-05-13T15:41:16",79.400000000000006,{"$f":"VLOOKUP(O627,[1]Raw!$D:$K,8)","v":12.573999405},8.0846334966505218]
[null,null,null,null,null,null,null,null,null,null,null,null,null,null,"2013-05-13T15:51:16",80.040000000000006,{"$f":"VLOOKUP(O628,[1]Raw!$D:$K,8)","v":12.636899948},8.0952497146616622]
[null,null,null,null,null,null,null,null,null,null,null,null,null,null,"2013-05-13T16:01:16",80.55,{"$f":"VLOOKUP(O629,[1]Raw!$D:$K,8)","v":12.683099747},8.103748230709833]
[null,null,null,null,null,null,null,null,null,null,null,null,null,null,"2013-05-13T16:11:16",80.78,{"$f":"VLOOKUP(O630,[1]Raw!$D:$K,8)","v":12.689699172999999},8.1077327799498935]
[null,null,null,null,null,null,null,null,null,null,null,null,null,null,"2013-05-13T16:21:16",80.84,{"$f":"VLOOKUP(O631,[1]Raw!$D:$K,8)","v":12.692499161000001},8.1087606191388311]
[null,null,null,null,null,null,null,null,null,null,null,null,null,null,"2013-05-13T16:31:16",80.77,{"$f":"VLOOKUP(O632,[1]Raw!$D:$K,8)","v":12.743299484},8.1069813158321651]
[null,null,null,null,null,null,null,null,null,null,null,null,null,null,"2013-05-13T16:41:16",81.66,{"$f":"VLOOKUP(O633,[1]Raw!$D:$K,8)","v":12.785400391},8.1222166626224581]
[null,null,null,null,null,null,null,null,null,null,null,null,null,null,"2013-05-13T16:51:16",82.78,{"$f":"VLOOKUP(O634,[1]Raw!$D:$K,8)","v":12.9185009},8.1405142053442905]
[null,null,null,null,null,null,null,null,null,null,null,null,null,null,"2013-05-13T17:01:16",83.59,{"$f":"VLOOKUP(O635,[1]Raw!$D:$K,8)","v":12.996299744},8.1539375433425487]
[null,null,null,null,null,null,null,null,null,null,null,null,null,null,"2013-05-13T17:11:16",83.3,{"$f":"VLOOKUP(O636,[1]Raw!$D:$K,8)","v":13.041400909},8.1483398832261127]
[null,null,null,null,null,null,null,null,null,null,null,null,null,null,"2013-05-13T17:21:16",82.94,{"$f":"VLOOKUP(O637,[1]Raw!$D:$K,8)","v":13.014200211},8.1422951448924561]
[null,null,null,null,null,null,null,null,null,null,null,null,null,null,"2013-05-13T17:31:16",82.89,{"$f":"VLOOKUP(O638,[1]Raw!$D:$K,8)","v":13.265199661},8.1386964978134344]
[null,null,null,null,null,null,null,null,null,null,null,null,null,null,"2013-05-13T17:41:16",84.15,{"$f":"VLOOKUP(O639,[1]Raw!$D:$K,8)","v":13.253599167000001},8.1609942008456446]
[null,null,null,null,null,null,null,null,null,null,null,null,null,null,"2013-05-13T17:51:16",82.41,{"$f":"VLOOKUP(O640,[1]Raw!$D:$K,8)","v":12.997299194},8.133143639035243]
[null,null,null,null,null,null,null,null,null,null,null,null,null,null,"2013-05-13T18:01:16",83.82,{"$f":"VLOOKUP(O641,[1]Raw!$D:$K,8)","v":13.237400055},8.1553634150967635]
[null,null,null,null,null,null,null,null,null,null,null,null,null,null,"2013-05-13T18:11:16",84.55,{"$f":"VLOOKUP(O642,[1]Raw!$D:$K,8)","v":13.131500244},8.1693671645721349]
[null,null,null,null,null,null,null,null,null,null,null,null,null,null,"2013-05-13T18:21:16",84.56,{"$f":"VLOOKUP(O643,[1]Raw!$D:$K,8)","v":13.113899231},8.1697356402149115]
[null,null,null,null,null,null,null,null,null,null,null,null,null,null,"2013-05-13T18:31:16",86.24,{"$f":"VLOOKUP(O644,[1]Raw!$D:$K,8)","v":13.265800476000001},8.1976373477475839]
[null,null,null,null,null,null,null,null,null,null,null,null,null,null,"2013-05-13T18:41:16",86.88,{"$f":"VLOOKUP(O645,[1]Raw!$D:$K,8)","v":13.181900024000001},8.2098275239900094]
[null,null,null,null,null,null,null,null,null,null,null,null,null,null,"2013-05-13T18:51:16",87.25,{"$f":"VLOOKUP(O646,[1]Raw!$D:$K,8)","v":13.310499191},8.2149140240340888]
[null,null,null,null,null,null,null,null,null,null,null,null,null,null,"2013-05-13T19:01:16",87.78,{"$f":"VLOOKUP(O647,[1]Raw!$D:$K,8)","v":13.289499283},8.2244720274884582]
[null,null,null,null,null,null,null,null,null,null,null,null,null,null,"2013-05-13T19:11:16",90,{"$f":"VLOOKUP(O648,[1]Raw!$D:$K,8)","v":13.509599686},8.2610572236000177]
[null,null,null,null,null,null,null,null,null,null,null,null,null,null,"2013-05-13T19:21:16",90.75,{"$f":"VLOOKUP(O649,[1]Raw!$D:$K,8)","v":13.573099136},8.2735268561820074]
[null,null,null,null,null,null,null,null,null,null,null,null,null,null,"2013-05-13T19:31:17",91.11,{"$f":"VLOOKUP(O650,[1]Raw!$D:$K,8)","v":13.612400055},8.2794106616266117]
[null,null,null,null,null,null,null,null,null,null,null,null,null,null,"2013-05-13T19:41:17",91.05,{"$f":"VLOOKUP(O651,[1]Raw!$D:$K,8)","v":13.610799789},8.278374236790988]
[null,null,null,null,null,null,null,null,null,null,null,null,null,null,"2013-05-13T19:51:17",90.95,{"$f":"VLOOKUP(O652,[1]Raw!$D:$K,8)","v":13.455200195},8.2783739977358266]
[null,null,null,null,null,null,null,null,null,null,null,null,null,null,"2013-05-13T20:01:17",90.95,{"$f":"VLOOKUP(O653,[1]Raw!$D:$K,8)","v":13.554199218999999},8.2772557300438017]
[null,null,null,null,null,null,null,null,null,null,null,null,null,null,"2013-05-13T20:11:17",90.87,{"$f":"VLOOKUP(O654,[1]Raw!$D:$K,8)","v":13.403600693},8.2775501378772098]
[null,null,null,null,null,null,null,null,null,null,null,null,null,null,"2013-05-13T20:21:17",92.03,{"$f":"VLOOKUP(O655,[1]Raw!$D:$K,8)","v":13.479600906},8.2970880484765246]
[null,null,null,null,null,null,null,null,null,null,null,null,null,null,"2013-05-13T20:31:16",92.93,{"$f":"VLOOKUP(O656,[1]Raw!$D:$K,8)","v":13.631799698},8.3111757736795884]
[null,null,null,null,null,null,null,null,null,null,null,null,null,null,"2013-05-13T20:41:16",93.46,{"$f":"VLOOKUP(O657,[1]Raw!$D:$K,8)","v":13.717199325999999},8.3195132282412541]
[null,null,null,null,null,null,null,null,null,null,null,null,null,null,"2013-05-13T20:51:16",93.37,{"$f":"VLOOKUP(O658,[1]Raw!$D:$K,8)","v":13.708799362000001},8.3180280511166309]
[null,null,null,null,null,null,null,null,null,null,null,null,null,null,"2013-05-13T21:01:16",92.83,{"$f":"VLOOKUP(O659,[1]Raw!$D:$K,8)","v":13.674900055},8.3089270862566504]
[null,null,null,null,null,null,null,null,null,null,null,null,null,null,"2013-05-13T21:11:16",90.78,{"$f":"VLOOKUP(O660,[1]Raw!$D:$K,8)","v":13.423400879000001},8.2757436456432902]
[null,null,null,null,null,null,null,null,null,null,null,null,null,null,"2013-05-13T21:21:16",87.87,{"$f":"VLOOKUP(O661,[1]Raw!$D:$K,8)","v":13.278299332},8.2261801445097671]
[null,null,null,null,null,null,null,null,null,null,null,null,null,null,"2013-05-13T21:31:16",86.64,{"$f":"VLOOKUP(O662,[1]Raw!$D:$K,8)","v":13.166299820000001},8.2057756824583628]
[null,null,null,null,null,null,null,null,null,null,null,null,null,null,"2013-05-13T21:41:16",85.73,{"$f":"VLOOKUP(O663,[1]Raw!$D:$K,8)","v":12.878900528000001},8.1929225664650147]
[null,null,null,null,null,null,null,null,null,null,null,null,null,null,"2013-05-13T21:51:16",82.65,{"$f":"VLOOKUP(O664,[1]Raw!$D:$K,8)","v":13.189800262},8.1352882793116539]
[null,null,null,null,null,null,null,null,null,null,null,null,null,null,"2013-05-13T22:01:16",82.46,{"$f":"VLOOKUP(O665,[1]Raw!$D:$K,8)","v":13.088300705},8.1330405648249329]
[null,null,null,null,null,null,null,null,null,null,null,null,null,null,"2013-05-13T22:11:16",81.790000000000006,{"$f":"VLOOKUP(O666,[1]Raw!$D:$K,8)","v":12.951900481999999},8.1227128571324236]
[null,null,null,null,null,null,null,null,null,null,null,null,null,null,"2013-05-13T22:21:16",81.069999999999993,{"$f":"VLOOKUP(O667,[1]Raw!$D:$K,8)","v":12.691099167000001},8.1128309186616381]
[null,null,null,null,null,null,null,null,null,null,null,null,null,null,"2013-05-13T22:31:17",83.22,{"$f":"VLOOKUP(O668,[1]Raw!$D:$K,8)","v":13.136899948},8.1458946228783553]
[null,null,null,null,null,null,null,null,null,null,null,null,null,null,"2013-05-13T22:41:17",85.46,{"$f":"VLOOKUP(O669,[1]Raw!$D:$K,8)","v":13.279300689999999},8.1837641039419751]
[null,null,null,null,null,null,null,null,null,null,null,null,null,null,"2013-05-13T22:51:17",85.31,{"$f":"VLOOKUP(O670,[1]Raw!$D:$K,8)","v":13.107999802},8.1830045866123218]
[null,null,null,null,null,null,null,null,null,null,null,null,null,null,"2013-05-13T23:01:17",84.87,{"$f":"VLOOKUP(O671,[1]Raw!$D:$K,8)","v":13.080499649},8.1755592217802686]
[null,null,null,null,null,null,null,null,null,null,null,null,null,null,"2013-05-13T23:11:17",84.39,{"$f":"VLOOKUP(O672,[1]Raw!$D:$K,8)","v":12.954500198},8.1684848058657202]
[null,null,null,null,null,null,null,null,null,null,null,null,null,null,"2013-05-13T23:21:17",83.58,{"$f":"VLOOKUP(O673,[1]Raw!$D:$K,8)","v":12.915599823000001},8.1546398624459169]
[null,null,null,null,null,null,null,null,null,null,null,null,null,null,"2013-05-13T23:31:16",81.849999999999994,{"$f":"VLOOKUP(O674,[1]Raw!$D:$K,8)","v":12.825000763},8.125138266087637]
[null,null,null,null,null,null,null,null,null,null,null,null,null,null,"2013-05-13T23:41:16",80.3,{"$f":"VLOOKUP(O675,[1]Raw!$D:$K,8)","v":12.758399963},8.0985344197305782]
[null,null,null,null,null,null,null,null,null,null,null,null,null,null,"2013-05-13T23:51:16",79.760000000000005,{"$f":"VLOOKUP(O676,[1]Raw!$D:$K,8)","v":12.697500228999999},8.0896652224533536]
[null,null,null,null,null,null,null,null,null,null,null,null,null,null,"2013-05-14T00:01:16",80.03,{"$f":"VLOOKUP(O677,[1]Raw!$D:$K,8)","v":12.772800446},8.0936211962952491]
[null,null,null,null,null,null,null,null,null,null,null,null,null,null,"2013-05-14T00:11:16",79.41,{"$f":"VLOOKUP(O678,[1]Raw!$D:$K,8)","v":12.692499161000001},8.0835475513264345]
[null,null,null,null,null,null,null,null,null,null,null,null,null,null,"2013-05-14T00:21:16",79.569999999999993,{"$f":"VLOOKUP(O679,[1]Raw!$D:$K,8)","v":12.676599503},8.0865380631204626]
[null,null,null,null,null,null,null,null,null,null,null,null,null,null,"2013-05-14T00:31:17",79.72,{"$f":"VLOOKUP(O680,[1]Raw!$D:$K,8)","v":12.702100754},8.0889109013352485]
[null,null,null,null,null,null,null,null,null,null,null,null,null,null,"2013-05-14T00:41:17",79.53,{"$f":"VLOOKUP(O681,[1]Raw!$D:$K,8)","v":12.654899597},8.0860640323118975]
[null,null,null,null,null,null,null,null,null,null,null,null,null,null,"2013-05-14T00:51:17",79.87,{"$f":"VLOOKUP(O682,[1]Raw!$D:$K,8)","v":12.690399169999999},8.0916804695598046]
[null,null,null,null,null,null,null,null,null,null,null,null,null,null,"2013-05-14T01:01:17",80.19,{"$f":"VLOOKUP(O683,[1]Raw!$D:$K,8)","v":12.670499802},8.097535464119586]
[null,null,null,null,null,null,null,null,null,null,null,null,null,null,"2013-05-14T01:11:17",80.2,{"$f":"VLOOKUP(O684,[1]Raw!$D:$K,8)","v":12.688600539999999},8.0975181528101103]
[null,null,null,null,null,null,null,null,null,null,null,null,null,null,"2013-05-14T01:21:17",80.08,{"$f":"VLOOKUP(O685,[1]Raw!$D:$K,8)","v":12.653900146},8.0957733283530278]
[null,null,null,null,null,null,null,null,null,null,null,null,null,null,"2013-05-14T01:31:16",79.81,{"$f":"VLOOKUP(O686,[1]Raw!$D:$K,8)","v":12.625},8.0913207385198422]
[null,null,null,null,null,null,null,null,null,null,null,null,null,null,"2013-05-14T01:41:16",79.64,{"$f":"VLOOKUP(O687,[1]Raw!$D:$K,8)","v":12.5916996},8.0886779440751297]
[null,null,null,null,null,null,null,null,null,null,null,null,null,null,"2013-05-14T01:51:16",79.72,{"$f":"VLOOKUP(O688,[1]Raw!$D:$K,8)","v":12.595199585},8.0900516015442889]
[null,null,null,null,null,null,null,null,null,null,null,null,null,null,"2013-05-14T02:01:16",79.739999999999995,{"$f":"VLOOKUP(O689,[1]Raw!$D:$K,8)","v":12.573999405},8.0906306982930225]
[null,null,null,null,null,null,null,null,null,null,null,null,null,null,"2013-05-14T02:11:16",80.08,{"$f":"VLOOKUP(O690,[1]Raw!$D:$K,8)","v":12.638299942},8.0959401414683096]
[null,null,null,null,null,null,null,null,null,null,null,null,null,null,"2013-05-14T02:21:16",80.03,{"$f":"VLOOKUP(O691,[1]Raw!$D:$K,8)","v":12.622400283999999},8.0952283833432546]
[null,null,null,null,null,null,null,null,null,null,null,null,null,null,"2013-05-14T02:31:16",79.91,{"$f":"VLOOKUP(O692,[1]Raw!$D:$K,8)","v":12.602100372000001},8.0933289880117396]
[null,null,null,null,null,null,null,null,null,null,null,null,null,null,"2013-05-14T02:41:16",79.900000000000006,{"$f":"VLOOKUP(O693,[1]Raw!$D:$K,8)","v":12.548400879000001},8.0937265143114683]
[null,null,null,null,null,null,null,null,null,null,null,null,null,null,"2013-05-14T02:51:16",79.959999999999994,{"$f":"VLOOKUP(O694,[1]Raw!$D:$K,8)","v":12.535699844},8.0949207559487402]
[null,null,null,null,null,null,null,null,null,null,null,null,null,null,"2013-05-14T03:01:16",79.900000000000006,{"$f":"VLOOKUP(O695,[1]Raw!$D:$K,8)","v":12.517000198},8.0940621996494535]
[null,null,null,null,null,null,null,null,null,null,null,null,null,null,"2013-05-14T03:11:16",80.03,{"$f":"VLOOKUP(O696,[1]Raw!$D:$K,8)","v":12.499500275000001},8.0965429583006241]
[null,null,null,null,null,null,null,null,null,null,null,null,null,null,"2013-05-14T03:21:16",80.150000000000006,{"$f":"VLOOKUP(O697,[1]Raw!$D:$K,8)","v":12.477899551},8.098891494497078]
[null,null,null,null,null,null,null,null,null,null,null,null,null,null,"2013-05-14T03:31:18",80.23,{"$f":"VLOOKUP(O698,[1]Raw!$D:$K,8)","v":12.470399857},8.1003834359084284]
[null,null,null,null,null,null,null,null,null,null,null,null,null,null,"2013-05-14T03:41:18",80.290000000000006,{"$f":"VLOOKUP(O699,[1]Raw!$D:$K,8)","v":12.450399399},8.1016565522435968]
[null,null,null,null,null,null,null,null,null,null,null,null,null,null,"2013-05-14T03:51:18",80.239999999999995,{"$f":"VLOOKUP(O700,[1]Raw!$D:$K,8)","v":12.429199218999999},8.1010014600826388]
[null,null,null,null,null,null,null,null,null,null,null,null,null,null,"2013-05-14T04:01:18",80.22,{"$f":"VLOOKUP(O701,[1]Raw!$D:$K,8)","v":12.434000015000001},8.1005970510129277]
[null,null,null,null,null,null,null,null,null,null,null,null,null,null,"2013-05-14T04:11:18",80.11,{"$f":"VLOOKUP(O702,[1]Raw!$D:$K,8)","v":12.406900406},8.0989461134531613]
[null,null,null,null,null,null,null,null,null,null,null,null,null,null,"2013-05-14T04:21:18",80.08,{"$f":"VLOOKUP(O703,[1]Raw!$D:$K,8)","v":12.401899338},8.0984702059804512]
[null,null,null,null,null,null,null,null,null,null,null,null,null,null,"2013-05-14T04:31:16",80.05,{"$f":"VLOOKUP(O704,[1]Raw!$D:$K,8)","v":12.388500214},8.0980842262044757]
[null,null,null,null,null,null,null,null,null,null,null,null,null,null,"2013-05-14T04:41:16",80.930000000000007,{"$f":"VLOOKUP(O705,[1]Raw!$D:$K,8)","v":12.429899216000001},8.1131708895355477]
[null,null,null,null,null,null,null,null,null,null,null,null,null,null,"2013-05-14T04:51:16",81.569999999999993,{"$f":"VLOOKUP(O706,[1]Raw!$D:$K,8)","v":12.435100555},8.1244092558014707]
[null,null,null,null,null,null,null,null,null,null,null,null,null,null,"2013-05-14T05:01:16",82.14,{"$f":"VLOOKUP(O707,[1]Raw!$D:$K,8)","v":12.425199509},8.1345755705015677]
[null,null,null,null,null,null,null,null,null,null,null,null,null,null,"2013-05-14T05:11:16",82.03,{"$f":"VLOOKUP(O708,[1]Raw!$D:$K,8)","v":12.405099869000001},8.1328519841081395]
[null,null,null,null,null,null,null,null,null,null,null,null,null,null,"2013-05-14T05:21:16",82.77,{"$f":"VLOOKUP(O709,[1]Raw!$D:$K,8)","v":12.411800384999999},8.1458395555127421]
[null,null,null,null,null,null,null,null,null,null,null,null,null,null,"2013-05-14T05:31:16",82.73,{"$f":"VLOOKUP(O710,[1]Raw!$D:$K,8)","v":12.389299393},8.145378304414832]
[null,null,null,null,null,null,null,null,null,null,null,null,null,null,"2013-05-14T05:41:16",82.22,{"$f":"VLOOKUP(O711,[1]Raw!$D:$K,8)","v":12.339099883999999},8.1369211689612033]
[null,null,null,null,null,null,null,null,null,null,null,null,null,null,"2013-05-14T05:51:16",81.790000000000006,{"$f":"VLOOKUP(O712,[1]Raw!$D:$K,8)","v":12.255500793},8.1302351861412312]
[null,null,null,null,null,null,null,null,null,null,null,null,null,null,"2013-05-14T06:01:16",81.75,{"$f":"VLOOKUP(O713,[1]Raw!$D:$K,8)","v":12.248699188},8.1296024790080654]
[null,null,null,null,null,null,null,null,null,null,null,null,null,null,"2013-05-14T06:11:16",81.86,{"$f":"VLOOKUP(O714,[1]Raw!$D:$K,8)","v":12.246299744},8.1315709549307531]
[null,null,null,null,null,null,null,null,null,null,null,null,null,null,"2013-05-14T06:21:16",81.95,{"$f":"VLOOKUP(O715,[1]Raw!$D:$K,8)","v":12.235399246},8.1332784239819667]
[null,null,null,null,null,null,null,null,null,null,null,null,null,null,"2013-05-14T06:31:17",81.790000000000006,{"$f":"VLOOKUP(O716,[1]Raw!$D:$K,8)","v":12.21159935},8.130710628381502]
[null,null,null,null,null,null,null,null,null,null,null,null,null,null,"2013-05-14T06:41:17",81.430000000000007,{"$f":"VLOOKUP(O717,[1]Raw!$D:$K,8)","v":12.191400528000001},8.124570933432496]
[null,null,null,null,null,null,null,null,null,null,null,null,null,null,"2013-05-14T06:51:17",81.44,{"$f":"VLOOKUP(O718,[1]Raw!$D:$K,8)","v":12.192899704},8.1247313502719685]
[null,null,null,null,null,null,null,null,null,null,null,null,null,null,"2013-05-14T07:01:17",80.86,{"$f":"VLOOKUP(O719,[1]Raw!$D:$K,8)","v":12.132799149},8.1151349030299045]
[null,null,null,null,null,null,null,null,null,null,null,null,null,null,"2013-05-14T07:11:17",80.36,{"$f":"VLOOKUP(O720,[1]Raw!$D:$K,8)","v":12.060699463000001},8.1070770347482242]
[null,null,null,null,null,null,null,null,null,null,null,null,null,null,"2013-05-14T07:21:17",80.19,{"$f":"VLOOKUP(O721,[1]Raw!$D:$K,8)","v":12.064899445},8.104027914328352]
[null,null,null,null,null,null,null,null,null,null,null,null,null,null,"2013-05-14T07:31:16",79.3,{"$f":"VLOOKUP(O722,[1]Raw!$D:$K,8)","v":11.934499741},8.089695725377636]
[null,null,null,null,null,null,null,null,null,null,null,null,null,null,"2013-05-14T07:41:16",78.36,{"$f":"VLOOKUP(O723,[1]Raw!$D:$K,8)","v":11.850099564000001},8.0739763002111964]
[null,null,null,null,null,null,null,null,null,null,null,null,null,null,"2013-05-14T07:51:16",77,{"$f":"VLOOKUP(O724,[1]Raw!$D:$K,8)","v":11.750299454},8.0509809917146793]
[null,null,null,null,null,null,null,null,null,null,null,null,null,null,"2013-05-14T08:01:16",77.16,{"$f":"VLOOKUP(O725,[1]Raw!$D:$K,8)","v":11.745399474999999},8.0538632018146146]
[null,null,null,null,null,null,null,null,null,null,null,null,null,null,"2013-05-14T08:11:16",77.63,{"$f":"VLOOKUP(O726,[1]Raw!$D:$K,8)","v":11.727199554},8.0623706507946498]
[null,null,null,null,null,null,null,null,null,null,null,null,null,null,"2013-05-14T08:21:16",78.08,{"$f":"VLOOKUP(O727,[1]Raw!$D:$K,8)","v":11.703800201},8.0705806581833563]
[null,null,null,null,null,null,null,null,null,null,null,null,null,null,"2013-05-14T08:31:16",77.95,{"$f":"VLOOKUP(O728,[1]Raw!$D:$K,8)","v":11.678800582999999},8.0685464140668497]
[null,null,null,null,null,null,null,null,null,null,null,null,null,null,"2013-05-14T08:41:16",78.349999999999994,{"$f":"VLOOKUP(O729,[1]Raw!$D:$K,8)","v":11.693899155},8.0754632040910561]
[null,null,null,null,null,null,null,null,null,null,null,null,null,null,"2013-05-14T08:51:16",78.56,{"$f":"VLOOKUP(O730,[1]Raw!$D:$K,8)","v":11.699399948},8.0791201095616376]
[null,null,null,null,null,null,null,null,null,null,null,null,null,null,"2013-05-14T09:01:16",78.69,{"$f":"VLOOKUP(O731,[1]Raw!$D:$K,8)","v":11.715400696},8.0812493535647114]
[null,null,null,null,null,null,null,null,null,null,null,null,null,null,"2013-05-14T09:11:16",78.62,{"$f":"VLOOKUP(O732,[1]Raw!$D:$K,8)","v":11.727300644},8.0798839193451357]
[null,null,null,null,null,null,null,null,null,null,null,null,null,null,"2013-05-14T09:21:16",78.930000000000007,{"$f":"VLOOKUP(O733,[1]Raw!$D:$K,8)","v":11.748600006},8.0851405203684141]
[null,null,null,null,null,null,null,null,null,null,null,null,null,null,"2013-05-14T09:31:16",78.900000000000006,{"$f":"VLOOKUP(O734,[1]Raw!$D:$K,8)","v":11.760599136},8.084481590528986]
[null,null,null,null,null,null,null,null,null,null,null,null,null,null,"2013-05-14T09:41:16",78.78,{"$f":"VLOOKUP(O735,[1]Raw!$D:$K,8)","v":11.765699387},8.0823044242824604]
[null,null,null,null,null,null,null,null,null,null,null,null,null,null,"2013-05-14T09:51:16",78.36,{"$f":"VLOOKUP(O736,[1]Raw!$D:$K,8)","v":11.768100738999999},8.0748495191852676]
[null,null,null,null,null,null,null,null,null,null,null,null,null,null,"2013-05-14T10:01:16",78.39,{"$f":"VLOOKUP(O737,[1]Raw!$D:$K,8)","v":11.787599564000001},8.0751724527383022]
[null,null,null,null,null,null,null,null,null,null,null,null,null,null,"2013-05-14T10:11:16",77.89,{"$f":"VLOOKUP(O738,[1]Raw!$D:$K,8)","v":11.760999679999999},8.0666112574433146]
[null,null,null,null,null,null,null,null,null,null,null,null,null,null,"2013-05-14T10:21:16",77.8,{"$f":"VLOOKUP(O739,[1]Raw!$D:$K,8)","v":11.774200438999999},8.0648790738843008]
[null,null,null,null,null,null,null,null,null,null,null,null,null,null,"2013-05-14T10:31:16",77.3,{"$f":"VLOOKUP(O740,[1]Raw!$D:$K,8)","v":11.760799408},8.0561767726414928]
[null,null,null,null,null,null,null,null,null,null,null,null,null,null,"2013-05-14T10:41:16",76.92,{"$f":"VLOOKUP(O741,[1]Raw!$D:$K,8)","v":11.733600616},8.0497422250278952]
[null,null,null,null,null,null,null,null,null,null,null,null,null,null,"2013-05-14T10:51:16",76.81,{"$f":"VLOOKUP(O742,[1]Raw!$D:$K,8)","v":11.734500884999999},8.0477867246505763]
[null,null,null,null,null,null,null,null,null,null,null,null,null,null,"2013-05-14T11:01:16",76.17,{"$f":"VLOOKUP(O743,[1]Raw!$D:$K,8)","v":11.680799484},8.0370295864388162]
[null,null,null,null,null,null,null,null,null,null,null,null,null,null,"2013-05-14T11:11:16",75.86,{"$f":"VLOOKUP(O744,[1]Raw!$D:$K,8)","v":11.643600464},8.0319351717602263]
[null,null,null,null,null,null,null,null,null,null,null,null,null,null,"2013-05-14T11:21:16",73.58,{"$f":"VLOOKUP(O745,[1]Raw!$D:$K,8)","v":11.315299988},7.9949938646090066]
[null,null,null,null,null,null,null,null,null,null,null,null,null,null,"2013-05-14T11:31:16",73.28,{"$f":"VLOOKUP(O746,[1]Raw!$D:$K,8)","v":11.315599442},7.9896756963953015]
[null,null,null,null,null,null,null,null,null,null,null,null,null,null,"2013-05-14T11:41:16",73.16,{"$f":"VLOOKUP(O747,[1]Raw!$D:$K,8)","v":11.315399169999999},7.9875517487318781]
[null,null,null,null,null,null,null,null,null,null,null,null,null,null,"2013-05-14T11:51:16",73,{"$f":"VLOOKUP(O748,[1]Raw!$D:$K,8)","v":11.300100326999999},7.9848754367142769]
[null,null,null,null,null,null,null,null,null,null,null,null,null,null,"2013-05-14T12:01:16",73.010000000000005,{"$f":"VLOOKUP(O749,[1]Raw!$D:$K,8)","v":11.306400299},7.9849873860446285]
[null,null,null,null,null,null,null,null,null,null,null,null,null,null,"2013-05-14T12:11:16",73.14,{"$f":"VLOOKUP(O750,[1]Raw!$D:$K,8)","v":11.312799454},7.9872243473648794]
[null,null,null,null,null,null,null,null,null,null,null,null,null,null,"2013-05-14T12:21:16",73.209999999999994,{"$f":"VLOOKUP(O751,[1]Raw!$D:$K,8)","v":11.319900513},7.9883909347116333]
[null,null,null,null,null,null,null,null,null,null,null,null,null,null,"2013-05-14T12:31:16",73.22,{"$f":"VLOOKUP(O752,[1]Raw!$D:$K,8)","v":11.324699402},7.9885183575751597]
[null,null,null,null,null,null,null,null,null,null,null,null,null,null,"2013-05-14T12:41:16",73.39,{"$f":"VLOOKUP(O753,[1]Raw!$D:$K,8)","v":11.327600479000001},7.9915000259559577]
[null,null,null,null,null,null,null,null,null,null,null,null,null,null,"2013-05-14T12:51:16",73.52,{"$f":"VLOOKUP(O754,[1]Raw!$D:$K,8)","v":11.339000702},7.993684747097781]
[null,null,null,null,null,null,null,null,null,null,null,null,null,null,"2013-05-14T13:01:16",73.63,{"$f":"VLOOKUP(O755,[1]Raw!$D:$K,8)","v":11.34679985},7.9955524114283376]
[null,null,null,null,null,null,null,null,null,null,null,null,null,null,"2013-05-14T13:11:16",73.77,{"$f":"VLOOKUP(O756,[1]Raw!$D:$K,8)","v":11.357200623000001},7.9979243562891282]
[null,null,null,null,null,null,null,null,null,null,null,null,null,null,"2013-05-14T13:21:16",73.8,{"$f":"VLOOKUP(O757,[1]Raw!$D:$K,8)","v":11.361600876000001},7.9984100263373712]
[null,null,null,null,null,null,null,null,null,null,null,null,null,null,"2013-05-14T13:31:17",73.8,{"$f":"VLOOKUP(O758,[1]Raw!$D:$K,8)","v":11.364999771000001},7.998374682399481]
[null,null,null,null,null,null,null,null,null,null,null,null,null,null,"2013-05-14T13:41:17",73.83,{"$f":"VLOOKUP(O759,[1]Raw!$D:$K,8)","v":11.377099991},7.9987802540854505]
[null,null,null,null,null,null,null,null,null,null,null,null,null,null,"2013-05-14T13:51:17",73.88,{"$f":"VLOOKUP(O760,[1]Raw!$D:$K,8)","v":11.381399155},7.9996211835779514]
[null,null,null,null,null,null,null,null,null,null,null,null,null,null,"2013-05-14T14:01:17",74,{"$f":"VLOOKUP(O761,[1]Raw!$D:$K,8)","v":11.388799667000001},8.0016696791409654]
[null,null,null,null,null,null,null,null,null,null,null,null,null,null,"2013-05-14T14:11:17",73.97,{"$f":"VLOOKUP(O762,[1]Raw!$D:$K,8)","v":11.386600494},8.0011611979336532]
[null,null,null,null,null,null,null,null,null,null,null,null,null,null,"2013-05-14T14:21:17",73.989999999999995,{"$f":"VLOOKUP(O763,[1]Raw!$D:$K,8)","v":11.387399673000001},8.0015071282167991]
[null,null,null,null,null,null,null,null,null,null,null,null,null,null,"2013-05-14T14:31:18",73.819999999999993,{"$f":"VLOOKUP(O764,[1]Raw!$D:$K,8)","v":11.383899689},7.9985324161678184]
[null,null,null,null,null,null,null,null,null,null,null,null,null,null,"2013-05-14T14:41:18",73.7,{"$f":"VLOOKUP(O765,[1]Raw!$D:$K,8)","v":11.384000778000001},7.9964058531559479]
[null,null,null,null,null,null,null,null,null,null,null,null,null,null,"2013-05-14T14:51:18",73.680000000000007,{"$f":"VLOOKUP(O766,[1]Raw!$D:$K,8)","v":11.377799988},7.9961160267610474]
[null,null,null,null,null,null,null,null,null,null,null,null,null,null,"2013-05-14T15:01:18",73.709999999999994,{"$f":"VLOOKUP(O767,[1]Raw!$D:$K,8)","v":11.375600815},7.9966702702702328]
[null,null,null,null,null,null,null,null,null,null,null,null,null,null,"2013-05-14T15:11:18",73.83,{"$f":"VLOOKUP(O768,[1]Raw!$D:$K,8)","v":11.372900009},7.9988239325034405]
[null,null,null,null,null,null,null,null,null,null,null,null,null,null,"2013-05-14T15:21:18",73.819999999999993,{"$f":"VLOOKUP(O769,[1]Raw!$D:$K,8)","v":11.372200012},7.9986540790313017]
[null,null,null,null,null,null,null,null,null,null,null,null,null,null,"2013-05-14T15:31:16",73.87,{"$f":"VLOOKUP(O770,[1]Raw!$D:$K,8)","v":11.362899779999999},7.9996364932507005]
[null,null,null,null,null,null,null,null,null,null,null,null,null,null,"2013-05-14T15:41:16",73.95,{"$f":"VLOOKUP(O771,[1]Raw!$D:$K,8)","v":11.367200851},8.0010088412703997]
[null,null,null,null,null,null,null,null,null,null,null,null,null,null,"2013-05-14T15:51:16",73.739999999999995,{"$f":"VLOOKUP(O772,[1]Raw!$D:$K,8)","v":11.369499207},7.9972650855221383]
[null,null,null,null,null,null,null,null,null,null,null,null,null,null,"2013-05-14T16:01:16",73.97,{"$f":"VLOOKUP(O773,[1]Raw!$D:$K,8)","v":11.388999939},8.0011362258365413]
[null,null,null,null,null,null,null,null,null,null,null,null,null,null,"2013-05-14T16:11:16",73.680000000000007,{"$f":"VLOOKUP(O774,[1]Raw!$D:$K,8)","v":11.37100029},7.9961866781625064]
[null,null,null,null,null,null,null,null,null,null,null,null,null,null,"2013-05-14T16:21:16",73.83,{"$f":"VLOOKUP(O775,[1]Raw!$D:$K,8)","v":11.374900818},7.9988031245934792]
[null,null,null,null,null,null,null,null,null,null,null,null,null,null,"2013-05-14T16:31:16",74.13,{"$f":"VLOOKUP(O776,[1]Raw!$D:$K,8)","v":11.406700133999999},8.003785814730275]
[null,null,null,null,null,null,null,null,null,null,null,null,null,null,"2013-05-14T16:41:16",74.010000000000005,{"$f":"VLOOKUP(O777,[1]Raw!$D:$K,8)","v":11.391799926999999},8.0018155701716953]
[null,null,null,null,null,null,null,null,null,null,null,null,null,null,"2013-05-14T16:51:16",73.930000000000007,{"$f":"VLOOKUP(O778,[1]Raw!$D:$K,8)","v":11.400499344},8.0003080893623171]
[null,null,null,null,null,null,null,null,null,null,null,null,null,null,"2013-05-14T17:01:16",73.900000000000006,{"$f":"VLOOKUP(O779,[1]Raw!$D:$K,8)","v":11.414600372000001},7.9996300683124142]
[null,null,null,null,null,null,null,null,null,null,null,null,null,null,"2013-05-14T17:11:16",73.92,{"$f":"VLOOKUP(O780,[1]Raw!$D:$K,8)","v":11.429300308},7.9998313758454032]
[null,null,null,null,null,null,null,null,null,null,null,null,null,null,"2013-05-14T17:21:16",73.91,{"$f":"VLOOKUP(O781,[1]Raw!$D:$K,8)","v":11.427900314},7.9996688390115889]
[null,null,null,null,null,null,null,null,null,null,null,null,null,null,"2013-05-14T17:31:16",73.87,{"$f":"VLOOKUP(O782,[1]Raw!$D:$K,8)","v":11.440900803},7.998825267662844]
[null,null,null,null,null,null,null,null,null,null,null,null,null,null,"2013-05-14T17:41:16",73.77,{"$f":"VLOOKUP(O783,[1]Raw!$D:$K,8)","v":11.436899185},7.9970959437992954]
[null,null,null,null,null,null,null,null,null,null,null,null,null,null,"2013-05-14T17:51:16",73.790000000000006,{"$f":"VLOOKUP(O784,[1]Raw!$D:$K,8)","v":11.453100204},7.997281767905088]
[null,null,null,null,null,null,null,null,null,null,null,null,null,null,"2013-05-14T18:01:16",73.64,{"$f":"VLOOKUP(O785,[1]Raw!$D:$K,8)","v":11.436700821000001},7.9947957936509368]
[null,null,null,null,null,null,null,null,null,null,null,null,null,null,"2013-05-14T18:11:16",73.540000000000006,{"$f":"VLOOKUP(O786,[1]Raw!$D:$K,8)","v":11.453100204},7.9928546933402718]
[null,null,null,null,null,null,null,null,null,null,null,null,null,null,"2013-05-14T18:21:16",73.540000000000006,{"$f":"VLOOKUP(O787,[1]Raw!$D:$K,8)","v":11.488300323000001},7.9924895049986393]
[null,null,null,null,null,null,null,null,null,null,null,null,null,null,"2013-05-14T18:31:18",73.48,{"$f":"VLOOKUP(O788,[1]Raw!$D:$K,8)","v":11.517499923999999},7.9911243808368493]
[null,null,null,null,null,null,null,null,null,null,null,null,null,null,"2013-05-14T18:41:18",73.52,{"$f":"VLOOKUP(O789,[1]Raw!$D:$K,8)","v":11.505800247},7.991953882913073]
[null,null,null,null,null,null,null,null,null,null,null,null,null,null,"2013-05-14T18:51:18",73.7,{"$f":"VLOOKUP(O790,[1]Raw!$D:$K,8)","v":11.528799057000001},7.9949020315037993]
[null,null,null,null,null,null,null,null,null,null,null,null,null,null,"2013-05-14T19:01:18",73.77,{"$f":"VLOOKUP(O791,[1]Raw!$D:$K,8)","v":11.582500458},7.9955837148591629]
[null,null,null,null,null,null,null,null,null,null,null,null,null,null,"2013-05-14T19:11:18",73.81,{"$f":"VLOOKUP(O792,[1]Raw!$D:$K,8)","v":11.519899368000001},7.99694187199617]
[null,null,null,null,null,null,null,null,null,null,null,null,null,null,"2013-05-14T19:21:18",73.66,{"$f":"VLOOKUP(O793,[1]Raw!$D:$K,8)","v":11.58480072},7.9936128246988494]
[null,null,null,null,null,null,null,null,null,null,null,null,null,null,"2013-05-14T19:31:16",73.680000000000007,{"$f":"VLOOKUP(O794,[1]Raw!$D:$K,8)","v":11.569400786999999},7.9941266101573705]
[null,null,null,null,null,null,null,null,null,null,null,null,null,null,"2013-05-14T19:41:16",73.73,{"$f":"VLOOKUP(O795,[1]Raw!$D:$K,8)","v":11.6060009},7.9946318303456927]
[null,null,null,null,null,null,null,null,null,null,null,null,null,null,"2013-05-14T19:51:16",73.64,{"$f":"VLOOKUP(O796,[1]Raw!$D:$K,8)","v":11.566999435},7.9934434785794171]
[null,null,null,null,null,null,null,null,null,null,null,null,null,null,"2013-05-14T20:01:16",73.61,{"$f":"VLOOKUP(O797,[1]Raw!$D:$K,8)","v":11.599700928000001},7.99257330223893]
[null,null,null,null,null,null,null,null,null,null,null,null,null,null,"2013-05-14T20:11:16",73.55,{"$f":"VLOOKUP(O798,[1]Raw!$D:$K,8)","v":11.619699477999999},7.9913040638031143]
[null,null,null,null,null,null,null,null,null,null,null,null,null,null,"2013-05-14T20:21:16",73.62,{"$f":"VLOOKUP(O799,[1]Raw!$D:$K,8)","v":11.594400406},7.9928052625924293]
[null,null,null,null,null,null,null,null,null,null,null,null,null,null,"2013-05-14T20:31:16",73.7,{"$f":"VLOOKUP(O800,[1]Raw!$D:$K,8)","v":11.616600037},7.9939909076492883]
[null,null,null,null,null,null,null,null,null,null,null,null,null,null,"2013-05-14T20:41:16",73.77,{"$f":"VLOOKUP(O801,[1]Raw!$D:$K,8)","v":11.679199218999999},7.9945802465133102]
[null,null,null,null,null,null,null,null,null,null,null,null,null,null,"2013-05-14T20:51:16",73.900000000000006,{"$f":"VLOOKUP(O802,[1]Raw!$D:$K,8)","v":11.680299759},7.9968690723259828]
[null,null,null,null,null,null,null,null,null,null,null,null,null,null,"2013-05-14T21:01:16",73.91,{"$f":"VLOOKUP(O803,[1]Raw!$D:$K,8)","v":11.708299637},7.99675533794254]
[null,null,null,null,null,null,null,null,null,null,null,null,null,null,"2013-05-14T21:11:16",73.97,{"$f":"VLOOKUP(O804,[1]Raw!$D:$K,8)","v":11.686300277999999},7.9980453438577976]
[null,null,null,null,null,null,null,null,null,null,null,null,null,null,"2013-05-14T21:21:16",73.95,{"$f":"VLOOKUP(O805,[1]Raw!$D:$K,8)","v":11.70070076},7.9975419350078427]
[null,null,null,null,null,null,null,null,null,null,null,null,null,null,"2013-05-14T21:31:16",73.86,{"$f":"VLOOKUP(O806,[1]Raw!$D:$K,8)","v":11.722000122000001},7.995728550297188]
[null,null,null,null,null,null,null,null,null,null,null,null,null,null,"2013-05-14T21:41:16",74.150000000000006,{"$f":"VLOOKUP(O807,[1]Raw!$D:$K,8)","v":11.722999572999999},8.0008487208375438]
[null,null,null,null,null,null,null,null,null,null,null,null,null,null,"2013-05-14T21:51:16",74.88,{"$f":"VLOOKUP(O808,[1]Raw!$D:$K,8)","v":11.768299103},8.0132907024838538]
[null,null,null,null,null,null,null,null,null,null,null,null,null,null,"2013-05-14T22:01:16",75.02,{"$f":"VLOOKUP(O809,[1]Raw!$D:$K,8)","v":11.757699966000001},8.0158778321732331]
[null,null,null,null,null,null,null,null,null,null,null,null,null,null,"2013-05-14T22:11:16",75.16,{"$f":"VLOOKUP(O810,[1]Raw!$D:$K,8)","v":11.747100830000001},8.0184651543521319]
[null,null,null,null,null,null,null,null,null,null,null,null,null,null,"2013-05-14T22:21:16",75.27,{"$f":"VLOOKUP(O811,[1]Raw!$D:$K,8)","v":11.698900223000001},8.0209154138715029]
[null,null,null,null,null,null,null,null,null,null,null,null,null,null,"2013-05-14T22:31:16",75.290000000000006,{"$f":"VLOOKUP(O812,[1]Raw!$D:$K,8)","v":11.746799469000001},8.0207680106833283]
[null,null,null,null,null,null,null,null,null,null,null,null,null,null,"2013-05-14T22:41:16",75.2,{"$f":"VLOOKUP(O813,[1]Raw!$D:$K,8)","v":11.730100631999999},8.0193505469726158]
[null,null,null,null,null,null,null,null,null,null,null,null,null,null,"2013-05-14T22:51:16",75.14,{"$f":"VLOOKUP(O814,[1]Raw!$D:$K,8)","v":11.700300217000001},8.0186006813685591]
[null,null,null,null,null,null,null,null,null,null,null,null,null,null,"2013-05-14T23:01:16",75.39,{"$f":"VLOOKUP(O815,[1]Raw!$D:$K,8)","v":11.770299911},8.0222909995768106]
[null,null,null,null,null,null,null,null,null,null,null,null,null,null,"2013-05-14T23:11:16",75.3,{"$f":"VLOOKUP(O816,[1]Raw!$D:$K,8)","v":11.770900726000001},8.0206927412716365]
[null,null,null,null,null,null,null,null,null,null,null,null,null,null,"2013-05-14T23:21:16",75.400000000000006,{"$f":"VLOOKUP(O817,[1]Raw!$D:$K,8)","v":11.825300217000001},8.0218922368083661]
[null,null,null,null,null,null,null,null,null,null,null,null,null,null,"2013-05-14T23:31:16",75.45,{"$f":"VLOOKUP(O818,[1]Raw!$D:$K,8)","v":11.877899169999999},8.0222260245685959]
[null,null,null,null,null,null,null,null,null,null,null,null,null,null,"2013-05-14T23:41:16",75.44,{"$f":"VLOOKUP(O819,[1]Raw!$D:$K,8)","v":11.884000778000001},8.0219853664824647]
[null,null,null,null,null,null,null,null,null,null,null,null,null,null,"2013-05-14T23:51:16",75.56,{"$f":"VLOOKUP(O820,[1]Raw!$D:$K,8)","v":11.938400269000001},8.0235377025782011]
[null,null,null,null,null,null,null,null,null,null,null,null,null,null,"2013-05-15T00:01:16",75.53,{"$f":"VLOOKUP(O821,[1]Raw!$D:$K,8)","v":11.955299376999999},8.0228305358387448]
[null,null,null,null,null,null,null,null,null,null,null,null,null,null,"2013-05-15T00:11:16",75.67,{"$f":"VLOOKUP(O822,[1]Raw!$D:$K,8)","v":11.995000838999999},8.0248896562827081]
[null,null,null,null,null,null,null,null,null,null,null,null,null,null,"2013-05-15T00:21:16",75.77,{"$f":"VLOOKUP(O823,[1]Raw!$D:$K,8)","v":12.029699325999999},8.0262937072516696]
[null,null,null,null,null,null,null,null,null,null,null,null,null,null,"2013-05-15T00:31:16",75.78,{"$f":"VLOOKUP(O824,[1]Raw!$D:$K,8)","v":12.034700394},8.026418057858967]
[null,null,null,null,null,null,null,null,null,null,null,null,null,null,"2013-05-15T00:41:16",75.86,{"$f":"VLOOKUP(O825,[1]Raw!$D:$K,8)","v":12.026699066000001},8.0279156680988102]
[null,null,null,null,null,null,null,null,null,null,null,null,null,null,"2013-05-15T00:51:16",76.08,{"$f":"VLOOKUP(O826,[1]Raw!$D:$K,8)","v":12.007400513},8.0320061446178812]
[null,null,null,null,null,null,null,null,null,null,null,null,null,null,"2013-05-15T01:01:16",76.14,{"$f":"VLOOKUP(O827,[1]Raw!$D:$K,8)","v":11.977500916},8.0333804591185736]
[null,null,null,null,null,null,null,null,null,null,null,null,null,null,"2013-05-15T01:11:16",75.989999999999995,{"$f":"VLOOKUP(O828,[1]Raw!$D:$K,8)","v":11.964199066000001},8.0308686381768659]
[null,null,null,null,null,null,null,null,null,null,null,null,null,null,"2013-05-15T01:21:16",75.94,{"$f":"VLOOKUP(O829,[1]Raw!$D:$K,8)","v":11.985200882000001},8.0297645691840671]
[null,null,null,null,null,null,null,null,null,null,null,null,null,null,"2013-05-15T01:31:16",75.98,{"$f":"VLOOKUP(O830,[1]Raw!$D:$K,8)","v":11.992200851},8.030398162035663]
[null,null,null,null,null,null,null,null,null,null,null,null,null,null,"2013-05-15T01:41:16",75.86,{"$f":"VLOOKUP(O831,[1]Raw!$D:$K,8)","v":11.992799759},8.0282709069836784]
[null,null,null,null,null,null,null,null,null,null,null,null,null,null,"2013-05-15T01:51:16",75.790000000000006,{"$f":"VLOOKUP(O832,[1]Raw!$D:$K,8)","v":11.979600906},8.0271719517908515]
[null,null,null,null,null,null,null,null,null,null,null,null,null,null,"2013-05-15T02:01:16",75.64,{"$f":"VLOOKUP(O833,[1]Raw!$D:$K,8)","v":11.996799469000001},8.0243405913666113]
[null,null,null,null,null,null,null,null,null,null,null,null,null,null,"2013-05-15T02:11:16",75.819999999999993,{"$f":"VLOOKUP(O834,[1]Raw!$D:$K,8)","v":11.972900391},8.0277724359425111]
[null,null,null,null,null,null,null,null,null,null,null,null,null,null,"2013-05-15T02:21:16",75.69,{"$f":"VLOOKUP(O835,[1]Raw!$D:$K,8)","v":11.918600081999999},8.0260432629794725]
[null,null,null,null,null,null,null,null,null,null,null,null,null,null,"2013-05-15T02:31:17",75.209999999999994,{"$f":"VLOOKUP(O836,[1]Raw!$D:$K,8)","v":11.922199249},8.0175195646910407]
[null,null,null,null,null,null,null,null,null,null,null,null,null,null,"2013-05-15T02:41:17",75.58,{"$f":"VLOOKUP(O837,[1]Raw!$D:$K,8)","v":11.955200195},8.0237154291634898]
[null,null,null,null,null,null,null,null,null,null,null,null,null,null,"2013-05-15T02:51:17",76.11,{"$f":"VLOOKUP(O838,[1]Raw!$D:$K,8)","v":11.998500824000001},8.0326297652069041]
[null,null,null,null,null,null,null,null,null,null,null,null,null,null,"2013-05-15T03:01:17",76.400000000000006,{"$f":"VLOOKUP(O839,[1]Raw!$D:$K,8)","v":12.020299911},8.0375261813163021]
[null,null,null,null,null,null,null,null,null,null,null,null,null,null,"2013-05-15T03:11:17",76.69,{"$f":"VLOOKUP(O840,[1]Raw!$D:$K,8)","v":12.035800933999999},8.0424881582075329]
[null,null,null,null,null,null,null,null,null,null,null,null,null,null,"2013-05-15T03:21:17",76.790000000000006,{"$f":"VLOOKUP(O841,[1]Raw!$D:$K,8)","v":12.053699493},8.0440668211871298]
[null,null,null,null,null,null,null,null,null,null,null,null,null,null,"2013-05-15T03:31:16",76.819999999999993,{"$f":"VLOOKUP(O842,[1]Raw!$D:$K,8)","v":12.063999175999999},8.0444884431228072]
[null,null,null,null,null,null,null,null,null,null,null,null,null,null,"2013-05-15T03:41:16",76.84,{"$f":"VLOOKUP(O843,[1]Raw!$D:$K,8)","v":12.035800933999999},8.0451389756224003]
[null,null,null,null,null,null,null,null,null,null,null,null,null,null,"2013-05-15T03:51:16",76.849999999999994,{"$f":"VLOOKUP(O844,[1]Raw!$D:$K,8)","v":12.013299942},8.0455528460290608]
[null,null,null,null,null,null,null,null,null,null,null,null,null,null,"2013-05-15T04:01:16",76.45,{"$f":"VLOOKUP(O845,[1]Raw!$D:$K,8)","v":11.990999221999999},8.0387179643314948]
[null,null,null,null,null,null,null,null,null,null,null,null,null,null,"2013-05-15T04:11:16",76.09,{"$f":"VLOOKUP(O846,[1]Raw!$D:$K,8)","v":11.956199646},8.03272026462583]
[null,null,null,null,null,null,null,null,null,null,null,null,null,null,"2013-05-15T04:21:16",76.66,{"$f":"VLOOKUP(O847,[1]Raw!$D:$K,8)","v":12.126199722000001},8.0410066775896905]
[null,null,null,null,null,null,null,null,null,null,null,null,null,null,"2013-05-15T04:31:16",76.92,{"$f":"VLOOKUP(O848,[1]Raw!$D:$K,8)","v":12.181299210000001},8.0450195376559677]
[null,null,null,null,null,null,null,null,null,null,null,null,null,null,"2013-05-15T04:41:16",77,{"$f":"VLOOKUP(O849,[1]Raw!$D:$K,8)","v":12.195699692},8.0462808527697778]
[null,null,null,null,null,null,null,null,null,null,null,null,null,null,"2013-05-15T04:51:16",77.2,{"$f":"VLOOKUP(O850,[1]Raw!$D:$K,8)","v":12.258499146},8.0491509994566179]
[null,null,null,null,null,null,null,null,null,null,null,null,null,null,"2013-05-15T05:01:16",77.430000000000007,{"$f":"VLOOKUP(O851,[1]Raw!$D:$K,8)","v":12.298400879000001},8.0527911864423594]
[null,null,null,null,null,null,null,null,null,null,null,null,null,null,"2013-05-15T05:11:16",77.66,{"$f":"VLOOKUP(O852,[1]Raw!$D:$K,8)","v":12.324699402},8.0565741001669462]
[null,null,null,null,null,null,null,null,null,null,null,null,null,null,"2013-05-15T05:21:16",77.73,{"$f":"VLOOKUP(O853,[1]Raw!$D:$K,8)","v":12.300699234},8.0580636420360587]
[null,null,null,null,null,null,null,null,null,null,null,null,null,null,"2013-05-15T05:31:16",77.47,{"$f":"VLOOKUP(O854,[1]Raw!$D:$K,8)","v":12.284700394},8.0536420724851538]
[null,null,null,null,null,null,null,null,null,null,null,null,null,null,"2013-05-15T05:41:16",77.790000000000006,{"$f":"VLOOKUP(O855,[1]Raw!$D:$K,8)","v":12.38409996},8.058241091479621]
[null,null,null,null,null,null,null,null,null,null,null,null,null,null,"2013-05-15T05:51:16",77.72,{"$f":"VLOOKUP(O856,[1]Raw!$D:$K,8)","v":12.36000061},8.0572602257530033]
[null,null,null,null,null,null,null,null,null,null,null,null,null,null,"2013-05-15T06:01:16",77.319999999999993,{"$f":"VLOOKUP(O857,[1]Raw!$D:$K,8)","v":12.313800812},8.0506866067319578]
[null,null,null,null,null,null,null,null,null,null,null,null,null,null,"2013-05-15T06:11:16",77.39,{"$f":"VLOOKUP(O858,[1]Raw!$D:$K,8)","v":12.350400925000001},8.0515363117026997]
[null,null,null,null,null,null,null,null,null,null,null,null,null,null,"2013-05-15T06:21:16",77.63,{"$f":"VLOOKUP(O859,[1]Raw!$D:$K,8)","v":12.358100890999999},8.0556916081406378]
[null,null,null,null,null,null,null,null,null,null,null,null,null,null,"2013-05-15T06:31:16",77.64,{"$f":"VLOOKUP(O860,[1]Raw!$D:$K,8)","v":12.338699341},8.0560730965432832]
[null,null,null,null,null,null,null,null,null,null,null,null,null,null,"2013-05-15T06:41:16",77.56,{"$f":"VLOOKUP(O861,[1]Raw!$D:$K,8)","v":12.325599670000001},8.0547991690301775]
[null,null,null,null,null,null,null,null,null,null,null,null,null,null,"2013-05-15T06:51:16",77.400000000000006,{"$f":"VLOOKUP(O862,[1]Raw!$D:$K,8)","v":12.288600922000001},8.0523649362029843]
[null,null,null,null,null,null,null,null,null,null,null,null,null,null,"2013-05-15T07:01:16",77.61,{"$f":"VLOOKUP(O863,[1]Raw!$D:$K,8)","v":12.32749939},8.0556618088003855]
[null,null,null,null,null,null,null,null,null,null,null,null,null,null,"2013-05-15T07:11:16",77.86,{"$f":"VLOOKUP(O864,[1]Raw!$D:$K,8)","v":12.378299713000001},8.0595379718691884]
[null,null,null,null,null,null,null,null,null,null,null,null,null,null,"2013-05-15T07:21:16",77.86,{"$f":"VLOOKUP(O865,[1]Raw!$D:$K,8)","v":12.374900818},8.0595739184641069]
[null,null,null,null,null,null,null,null,null,null,null,null,null,null,"2013-05-15T07:31:16",77.67,{"$f":"VLOOKUP(O866,[1]Raw!$D:$K,8)","v":12.339000702},8.0565995130465318]
[null,null,null,null,null,null,null,null,null,null,null,null,null,null,"2013-05-15T07:41:16",77.47,{"$f":"VLOOKUP(O867,[1]Raw!$D:$K,8)","v":12.297399520999999},8.0535079927958062]
[null,null,null,null,null,null,null,null,null,null,null,null,null,null,"2013-05-15T07:51:16",77.510000000000005,{"$f":"VLOOKUP(O868,[1]Raw!$D:$K,8)","v":12.312799454},8.0540516122301877]
[null,null,null,null,null,null,null,null,null,null,null,null,null,null,"2013-05-15T08:01:16",77.53,{"$f":"VLOOKUP(O869,[1]Raw!$D:$K,8)","v":12.309200286999999},8.0544427202933608]
[null,null,null,null,null,null,null,null,null,null,null,null,null,null,"2013-05-15T08:11:16",77.34,{"$f":"VLOOKUP(O870,[1]Raw!$D:$K,8)","v":12.295900345},8.0512285390314489]
[null,null,null,null,null,null,null,null,null,null,null,null,null,null,"2013-05-15T08:21:16",77.400000000000006,{"$f":"VLOOKUP(O871,[1]Raw!$D:$K,8)","v":12.315599442},8.0520800198868709]
[null,null,null,null,null,null,null,null,null,null,null,null,null,null,"2013-05-15T08:31:16",77.34,{"$f":"VLOOKUP(O872,[1]Raw!$D:$K,8)","v":12.298200607},8.0512042719648953]
[null,null,null,null,null,null,null,null,null,null,null,null,null,null,"2013-05-15T08:41:16",77.45,{"$f":"VLOOKUP(O873,[1]Raw!$D:$K,8)","v":12.318599701},8.0529310918400476]
[null,null,null,null,null,null,null,null,null,null,null,null,null,null,"2013-05-15T08:51:16",77.45,{"$f":"VLOOKUP(O874,[1]Raw!$D:$K,8)","v":12.305999756},8.0530640889573331]
[null,null,null,null,null,null,null,null,null,null,null,null,null,null,"2013-05-15T09:01:16",77.37,{"$f":"VLOOKUP(O875,[1]Raw!$D:$K,8)","v":12.270200729000001},8.0520294168733315]
[null,null,null,null,null,null,null,null,null,null,null,null,null,null,"2013-05-15T09:11:16",77.180000000000007,{"$f":"VLOOKUP(O876,[1]Raw!$D:$K,8)","v":12.239599227999999},8.0489971012903663]
[null,null,null,null,null,null,null,null,null,null,null,null,null,null,"2013-05-15T09:21:16",77.2,{"$f":"VLOOKUP(O877,[1]Raw!$D:$K,8)","v":12.253200530999999},8.0492068684814626]
[null,null,null,null,null,null,null,null,null,null,null,null,null,null,"2013-05-15T09:31:16",77.150000000000006,{"$f":"VLOOKUP(O878,[1]Raw!$D:$K,8)","v":12.241300582999999},8.0484493805031843]
[null,null,null,null,null,null,null,null,null,null,null,null,null,null,"2013-05-15T09:41:16",77.05,{"$f":"VLOOKUP(O879,[1]Raw!$D:$K,8)","v":12.218900680999999},8.0469194624723421]
[null,null,null,null,null,null,null,null,null,null,null,null,null,null,"2013-05-15T09:51:16",77.010000000000005,{"$f":"VLOOKUP(O880,[1]Raw!$D:$K,8)","v":12.207300185999999},8.0463352481790658]
[null,null,null,null,null,null,null,null,null,null,null,null,null,null,"2013-05-15T10:01:16",77.010000000000005,{"$f":"VLOOKUP(O881,[1]Raw!$D:$K,8)","v":12.215599060000001},8.0462478145371765]
[null,null,null,null,null,null,null,null,null,null,null,null,null,null,"2013-05-15T10:11:16",76.900000000000006,{"$f":"VLOOKUP(O882,[1]Raw!$D:$K,8)","v":12.208700179999999},8.0443777431022276]
[null,null,null,null,null,null,null,null,null,null,null,null,null,null,"2013-05-15T10:21:16",76.81,{"$f":"VLOOKUP(O883,[1]Raw!$D:$K,8)","v":12.228200912},8.0425830158145626]
[null,null,null,null,null,null,null,null,null,null,null,null,null,null,"2013-05-15T10:31:17",76.760000000000005,{"$f":"VLOOKUP(O884,[1]Raw!$D:$K,8)","v":12.232200623000001},8.0416579337787741]
[null,null,null,null,null,null,null,null,null,null,null,null,null,null,"2013-05-15T10:41:17",76.709999999999994,{"$f":"VLOOKUP(O885,[1]Raw!$D:$K,8)","v":12.238300323000001},8.0407107960069109]
[null,null,null,null,null,null,null,null,null,null,null,null,null,null,"2013-05-15T10:51:17",76.67,{"$f":"VLOOKUP(O886,[1]Raw!$D:$K,8)","v":12.221700668},8.0401789283186211]
[null,null,null,null,null,null,null,null,null,null,null,null,null,null,"2013-05-15T11:01:17",76.25,{"$f":"VLOOKUP(O887,[1]Raw!$D:$K,8)","v":12.223699570000001},8.0327405106972378]
[null,null,null,null,null,null,null,null,null,null,null,null,null,null,"2013-05-15T11:11:17",76.290000000000006,{"$f":"VLOOKUP(O888,[1]Raw!$D:$K,8)","v":12.240699768000001},8.0332686060560885]
[null,null,null,null,null,null,null,null,null,null,null,null,null,null,"2013-05-15T11:21:17",76.349999999999994,{"$f":"VLOOKUP(O889,[1]Raw!$D:$K,8)","v":12.24600029},8.0342725565054813]
[null,null,null,null,null,null,null,null,null,null,null,null,null,null,"2013-05-15T11:31:17",76.48,{"$f":"VLOOKUP(O890,[1]Raw!$D:$K,8)","v":12.186000824000001},8.0371983818931838]
[null,null,null,null,null,null,null,null,null,null,null,null,null,null,"2013-05-15T11:41:17",76.52,{"$f":"VLOOKUP(O891,[1]Raw!$D:$K,8)","v":12.171800613},8.038054105615684]
[null,null,null,null,null,null,null,null,null,null,null,null,null,null,"2013-05-15T11:51:17",76.47,{"$f":"VLOOKUP(O892,[1]Raw!$D:$K,8)","v":12.180500030999999},8.0370795355061393]
[null,null,null,null,null,null,null,null,null,null,null,null,null,null,"2013-05-15T12:01:17",76.52,{"$f":"VLOOKUP(O893,[1]Raw!$D:$K,8)","v":12.166799545},8.0381066587416452]
[null,null,null,null,null,null,null,null,null,null,null,null,null,null,"2013-05-15T12:11:17",76.48,{"$f":"VLOOKUP(O894,[1]Raw!$D:$K,8)","v":12.161300659},8.037457871548181]
[null,null,null,null,null,null,null,null,null,null,null,null,null,null,"2013-05-15T12:21:17",76.48,{"$f":"VLOOKUP(O895,[1]Raw!$D:$K,8)","v":12.155199051},8.0375219794231523]
[null,null,null,null,null,null,null,null,null,null,null,null,null,null,"2013-05-15T12:31:16",76.44,{"$f":"VLOOKUP(O896,[1]Raw!$D:$K,8)","v":12.144800185999999},8.036924629112157]
[null,null,null,null,null,null,null,null,null,null,null,null,null,null,"2013-05-15T12:41:16",76.48,{"$f":"VLOOKUP(O897,[1]Raw!$D:$K,8)","v":12.140899658},8.0376722298573995]
[null,null,null,null,null,null,null,null,null,null,null,null,null,null,"2013-05-15T12:51:16",76.5,{"$f":"VLOOKUP(O898,[1]Raw!$D:$K,8)","v":12.142799376999999},8.0380055775147898]
[null,null,null,null,null,null,null,null,null,null,null,null,null,null,"2013-05-15T13:01:16",76.540000000000006,{"$f":"VLOOKUP(O899,[1]Raw!$D:$K,8)","v":12.147100449},8.0386669866996403]
[null,null,null,null,null,null,null,null,null,null,null,null,null,null,"2013-05-15T13:11:16",76.59,{"$f":"VLOOKUP(O900,[1]Raw!$D:$K,8)","v":12.161199570000001},8.0394020120221814]
[null,null,null,null,null,null,null,null,null,null,null,null,null,null,"2013-05-15T13:21:16",76.64,{"$f":"VLOOKUP(O901,[1]Raw!$D:$K,8)","v":12.169099808},8.0402021496525435]
[null,null,null,null,null,null,null,null,null,null,null,null,null,null,"2013-05-15T13:31:16",76.67,{"$f":"VLOOKUP(O902,[1]Raw!$D:$K,8)","v":12.172199249},8.0406994668674034]
[null,null,null,null,null,null,null,null,null,null,null,null,null,null,"2013-05-15T13:41:16",76.709999999999994,{"$f":"VLOOKUP(O903,[1]Raw!$D:$K,8)","v":12.178199768000001},8.0413428898755779]
[null,null,null,null,null,null,null,null,null,null,null,null,null,null,"2013-05-15T13:51:16",76.73,{"$f":"VLOOKUP(O904,[1]Raw!$D:$K,8)","v":12.174200058},8.0417382362445249]
[null,null,null,null,null,null,null,null,null,null,null,null,null,null,"2013-05-15T14:01:16",76.72,{"$f":"VLOOKUP(O905,[1]Raw!$D:$K,8)","v":12.177200317},8.0415300372076874]
[null,null,null,null,null,null,null,null,null,null,null,null,null,null,"2013-05-15T14:11:16",76.709999999999994,{"$f":"VLOOKUP(O906,[1]Raw!$D:$K,8)","v":12.177499771000001},8.0413502535030297]
[null,null,null,null,null,null,null,null,null,null,null,null,null,null,"2013-05-15T14:21:16",76.739999999999995,{"$f":"VLOOKUP(O907,[1]Raw!$D:$K,8)","v":12.184499741},8.0418065060487027]
[null,null,null,null,null,null,null,null,null,null,null,null,null,null,"2013-05-15T14:31:16",76.63,{"$f":"VLOOKUP(O908,[1]Raw!$D:$K,8)","v":12.189100266000001},8.0398152168724994]
[null,null,null,null,null,null,null,null,null,null,null,null,null,null,"2013-05-15T14:41:16",76.489999999999995,{"$f":"VLOOKUP(O909,[1]Raw!$D:$K,8)","v":12.1875},8.0373592608276692]
[null,null,null,null,null,null,null,null,null,null,null,null,null,null,"2013-05-15T14:51:16",76.36,{"$f":"VLOOKUP(O910,[1]Raw!$D:$K,8)","v":12.189699172999999},8.0350400222892997]
[null,null,null,null,null,null,null,null,null,null,null,null,null,null,"2013-05-15T15:01:16",76.34,{"$f":"VLOOKUP(O911,[1]Raw!$D:$K,8)","v":12.187799454},8.0347067096788454]
[null,null,null,null,null,null,null,null,null,null,null,null,null,null,"2013-05-15T15:11:16",76.28,{"$f":"VLOOKUP(O912,[1]Raw!$D:$K,8)","v":12.178899765000001},8.0337403274352415]
[null,null,null,null,null,null,null,null,null,null,null,null,null,null,"2013-05-15T15:21:16",76.38,{"$f":"VLOOKUP(O913,[1]Raw!$D:$K,8)","v":12.190999984999999},8.0353796178437733]
[null,null,null,null,null,null,null,null,null,null,null,null,null,null,"2013-05-15T15:31:17",76.239999999999995,{"$f":"VLOOKUP(O914,[1]Raw!$D:$K,8)","v":12.195299149},8.0328617720805386]
[null,null,null,null,null,null,null,null,null,null,null,null,null,null,"2013-05-15T15:41:17",76.56,{"$f":"VLOOKUP(O915,[1]Raw!$D:$K,8)","v":12.262800217000001},8.0378044912193829]
[null,null,null,null,null,null,null,null,null,null,null,null,null,null,"2013-05-15T15:51:17",76.53,{"$f":"VLOOKUP(O916,[1]Raw!$D:$K,8)","v":12.256200789999999},8.0373440589414535]
[null,null,null,null,null,null,null,null,null,null,null,null,null,null,"2013-05-15T16:01:17",76.599999999999994,{"$f":"VLOOKUP(O917,[1]Raw!$D:$K,8)","v":12.274499893},8.0383878966742284]
[null,null,null,null,null,null,null,null,null,null,null,null,null,null,"2013-05-15T16:11:17",76.72,{"$f":"VLOOKUP(O918,[1]Raw!$D:$K,8)","v":12.255199432},8.0407096967467471]
[null,null,null,null,null,null,null,null,null,null,null,null,null,null,"2013-05-15T16:21:17",76.62,{"$f":"VLOOKUP(O919,[1]Raw!$D:$K,8)","v":12.246200562},8.0390384089355411]
[null,null,null,null,null,null,null,null,null,null,null,null,null,null,"2013-05-15T16:31:16",76.77,{"$f":"VLOOKUP(O920,[1]Raw!$D:$K,8)","v":12.261100769},8.0415305571303559]
[null,null,null,null,null,null,null,null,null,null,null,null,null,null,"2013-05-15T16:41:16",76.73,{"$f":"VLOOKUP(O921,[1]Raw!$D:$K,8)","v":12.263999939},8.0407937471472497]
[null,null,null,null,null,null,null,null,null,null,null,null,null,null,"2013-05-15T16:51:16",76.48,{"$f":"VLOOKUP(O922,[1]Raw!$D:$K,8)","v":12.237899779999999},8.0366532993995357]
[null,null,null,null,null,null,null,null,null,null,null,null,null,null,"2013-05-15T17:01:16",76.62,{"$f":"VLOOKUP(O923,[1]Raw!$D:$K,8)","v":12.244300841999999},8.0390583730472098]
[null,null,null,null,null,null,null,null,null,null,null,null,null,null,"2013-05-15T17:11:16",77.290000000000006,{"$f":"VLOOKUP(O924,[1]Raw!$D:$K,8)","v":12.301799773999999},8.050283520214121]
[null,null,null,null,null,null,null,null,null,null,null,null,null,null,"2013-05-15T17:21:16",77.319999999999993,{"$f":"VLOOKUP(O925,[1]Raw!$D:$K,8)","v":12.343500136999999},8.0503733939501956]
[null,null,null,null,null,null,null,null,null,null,null,null,null,null,"2013-05-15T17:31:16",77.569999999999993,{"$f":"VLOOKUP(O926,[1]Raw!$D:$K,8)","v":12.353200912},8.0546842198947939]
[null,null,null,null,null,null,null,null,null,null,null,null,null,null,"2013-05-15T17:41:16",77.569999999999993,{"$f":"VLOOKUP(O927,[1]Raw!$D:$K,8)","v":12.367000579999999},8.054538505641835]
[null,null,null,null,null,null,null,null,null,null,null,null,null,null,"2013-05-15T17:51:16",77.819999999999993,{"$f":"VLOOKUP(O928,[1]Raw!$D:$K,8)","v":12.40929985},8.0585041949260532]
[null,null,null,null,null,null,null,null,null,null,null,null,null,null,"2013-05-15T18:01:16",77.8,{"$f":"VLOOKUP(O929,[1]Raw!$D:$K,8)","v":12.410999298},8.0581332521132296]
[null,null,null,null,null,null,null,null,null,null,null,null,null,null,"2013-05-15T18:11:16",77.75,{"$f":"VLOOKUP(O930,[1]Raw!$D:$K,8)","v":12.414600372000001},8.0572127565808351]
[null,null,null,null,null,null,null,null,null,null,null,null,null,null,"2013-05-15T18:21:16",77.73,{"$f":"VLOOKUP(O931,[1]Raw!$D:$K,8)","v":12.407400130999999},8.0569358563989084]
[null,null,null,null,null,null,null,null,null,null,null,null,null,null,"2013-05-15T18:31:16",77.67,{"$f":"VLOOKUP(O932,[1]Raw!$D:$K,8)","v":12.427900314},8.0556604030747874]
[null,null,null,null,null,null,null,null,null,null,null,null,null,null,"2013-05-15T18:41:16",77.69,{"$f":"VLOOKUP(O933,[1]Raw!$D:$K,8)","v":12.434900283999999},8.0559394306261041]
[null,null,null,null,null,null,null,null,null,null,null,null,null,null,"2013-05-15T18:51:16",77.67,{"$f":"VLOOKUP(O934,[1]Raw!$D:$K,8)","v":12.421100616},8.0557322124810877]
[null,null,null,null,null,null,null,null,null,null,null,null,null,null,"2013-05-15T19:01:16",77.63,{"$f":"VLOOKUP(O935,[1]Raw!$D:$K,8)","v":12.430700302},8.0549249271352767]
[null,null,null,null,null,null,null,null,null,null,null,null,null,null,"2013-05-15T19:11:16",77.53,{"$f":"VLOOKUP(O936,[1]Raw!$D:$K,8)","v":12.400100708},8.0534830674469227]
[null,null,null,null,null,null,null,null,null,null,null,null,null,null,"2013-05-15T19:21:16",77.41,{"$f":"VLOOKUP(O937,[1]Raw!$D:$K,8)","v":12.432899474999999},8.0510192494795394]
[null,null,null,null,null,null,null,null,null,null,null,null,null,null,"2013-05-15T19:31:16",77.38,{"$f":"VLOOKUP(O938,[1]Raw!$D:$K,8)","v":12.414899825999999},8.0506795898556778]
[null,null,null,null,null,null,null,null,null,null,null,null,null,null,"2013-05-15T19:41:16",77.31,{"$f":"VLOOKUP(O939,[1]Raw!$D:$K,8)","v":12.397699356},8.0496254729891952]
[null,null,null,null,null,null,null,null,null,null,null,null,null,null,"2013-05-15T19:51:16",77.25,{"$f":"VLOOKUP(O940,[1]Raw!$D:$K,8)","v":12.390199661},8.0486455139617608]
[null,null,null,null,null,null,null,null,null,null,null,null,null,null,"2013-05-15T20:01:16",77.14,{"$f":"VLOOKUP(O941,[1]Raw!$D:$K,8)","v":12.386499405},8.0467429597801861]
[null,null,null,null,null,null,null,null,null,null,null,null,null,null,"2013-05-15T20:11:16",77.02,{"$f":"VLOOKUP(O942,[1]Raw!$D:$K,8)","v":12.359800339},8.0449058992041103]
[null,null,null,null,null,null,null,null,null,null,null,null,null,null,"2013-05-15T20:21:16",76.95,{"$f":"VLOOKUP(O943,[1]Raw!$D:$K,8)","v":12.372800827000001},8.0435334836656249]
[null,null,null,null,null,null,null,null,null,null,null,null,null,null,"2013-05-15T20:31:16",76.89,{"$f":"VLOOKUP(O944,[1]Raw!$D:$K,8)","v":12.357599258},8.0426342806670856]
[null,null,null,null,null,null,null,null,null,null,null,null,null,null,"2013-05-15T20:41:16",76.87,{"$f":"VLOOKUP(O945,[1]Raw!$D:$K,8)","v":12.356700897},8.0422906840543646]
[null,null,null,null,null,null,null,null,null,null,null,null,null,null,"2013-05-15T20:51:16",76.88,{"$f":"VLOOKUP(O946,[1]Raw!$D:$K,8)","v":12.295700073000001},8.0431088800892319]
[null,null,null,null,null,null,null,null,null,null,null,null,null,null,"2013-05-15T21:01:16",76.88,{"$f":"VLOOKUP(O947,[1]Raw!$D:$K,8)","v":12.300199509},8.0430615407231691]
[null,null,null,null,null,null,null,null,null,null,null,null,null,null,"2013-05-15T21:11:16",76.92,{"$f":"VLOOKUP(O948,[1]Raw!$D:$K,8)","v":12.312000275000001},8.0436435905519943]
[null,null,null,null,null,null,null,null,null,null,null,null,null,null,"2013-05-15T21:21:16",76.92,{"$f":"VLOOKUP(O949,[1]Raw!$D:$K,8)","v":12.293600081999999},8.0438372211979114]
[null,null,null,null,null,null,null,null,null,null,null,null,null,null,"2013-05-15T21:31:16",77.03,{"$f":"VLOOKUP(O950,[1]Raw!$D:$K,8)","v":12.264099120999999},8.0460900984448873]
[null,null,null,null,null,null,null,null,null,null,null,null,null,null,"2013-05-15T21:41:16",77.099999999999994,{"$f":"VLOOKUP(O951,[1]Raw!$D:$K,8)","v":12.313400269000001},8.0468067465729387]
[null,null,null,null,null,null,null,null,null,null,null,null,null,null,"2013-05-15T21:51:16",77.16,{"$f":"VLOOKUP(O952,[1]Raw!$D:$K,8)","v":12.287599564000001},8.04813793820896]
[null,null,null,null,null,null,null,null,null,null,null,null,null,null,"2013-05-15T22:01:16",77.17,{"$f":"VLOOKUP(O953,[1]Raw!$D:$K,8)","v":12.273199081},8.0484662904895465]
[null,null,null,null,null,null,null,null,null,null,null,null,null,null,"2013-05-15T22:11:16",77.14,{"$f":"VLOOKUP(O954,[1]Raw!$D:$K,8)","v":12.305099487},8.0476004043760909]
[null,null,null,null,null,null,null,null,null,null,null,null,null,null,"2013-05-15T22:21:16",77.11,{"$f":"VLOOKUP(O955,[1]Raw!$D:$K,8)","v":12.274599074999999},8.0473920934526877]
[null,null,null,null,null,null,null,null,null,null,null,null,null,null,"2013-05-15T22:31:16",77.11,{"$f":"VLOOKUP(O956,[1]Raw!$D:$K,8)","v":12.269800185999999},8.0474426608101126]
[null,null,null,null,null,null,null,null,null,null,null,null,null,null,"2013-05-15T22:41:16",77.05,{"$f":"VLOOKUP(O957,[1]Raw!$D:$K,8)","v":12.257200241},8.0465159339312446]
[null,null,null,null,null,null,null,null,null,null,null,null,null,null,"2013-05-15T22:51:16",77.06,{"$f":"VLOOKUP(O958,[1]Raw!$D:$K,8)","v":12.262100220000001},8.0466408960479097]
[null,null,null,null,null,null,null,null,null,null,null,null,null,null,"2013-05-15T23:01:16",77.09,{"$f":"VLOOKUP(O959,[1]Raw!$D:$K,8)","v":12.285600662},8.0469230397853693]
[null,null,null,null,null,null,null,null,null,null,null,null,null,null,"2013-05-15T23:11:16",77.150000000000006,{"$f":"VLOOKUP(O960,[1]Raw!$D:$K,8)","v":12.299499512000001},8.0478359688740309]
[null,null,null,null,null,null,null,null,null,null,null,null,null,null,"2013-05-15T23:21:16",77.17,{"$f":"VLOOKUP(O961,[1]Raw!$D:$K,8)","v":12.319900513},8.0479740938852746]
[null,null,null,null,null,null,null,null,null,null,null,null,null,null,"2013-05-15T23:31:18",77.12,{"$f":"VLOOKUP(O962,[1]Raw!$D:$K,8)","v":12.314300536999999},8.0471503610020605]
[null,null,null,null,null,null,null,null,null,null,null,null,null,null,"2013-05-15T23:41:18",77.06,{"$f":"VLOOKUP(O963,[1]Raw!$D:$K,8)","v":12.311300277999999},8.0461226648676849]
[null,null,null,null,null,null,null,null,null,null,null,null,null,null,"2013-05-15T23:51:18",77.06,{"$f":"VLOOKUP(O964,[1]Raw!$D:$K,8)","v":12.288999557},8.0463575393846281]
[null,null,null,null,null,null,null,null,null,null,null,null,null,null,"2013-05-16T00:01:18",77.03,{"$f":"VLOOKUP(O965,[1]Raw!$D:$K,8)","v":12.300600052},8.0457056849874213]
[null,null,null,null,null,null,null,null,null,null,null,null,null,null,"2013-05-16T00:11:18",77.099999999999994,{"$f":"VLOOKUP(O966,[1]Raw!$D:$K,8)","v":12.306699753},8.0468773290875681]
[null,null,null,null,null,null,null,null,null,null,null,null,null,null,"2013-05-16T00:21:18",77.03,{"$f":"VLOOKUP(O967,[1]Raw!$D:$K,8)","v":12.310800552},8.0455982749062258]
[null,null,null,null,null,null,null,null,null,null,null,null,null,null,"2013-05-16T00:31:16",76.930000000000007,{"$f":"VLOOKUP(O968,[1]Raw!$D:$K,8)","v":12.30850029},8.043856972340393]
[null,null,null,null,null,null,null,null,null,null,null,null,null,null,"2013-05-16T00:41:16",76.94,{"$f":"VLOOKUP(O969,[1]Raw!$D:$K,8)","v":12.283000946},8.04430190657955]
[null,null,null,null,null,null,null,null,null,null,null,null,null,null,"2013-05-16T00:51:16",76.930000000000007,{"$f":"VLOOKUP(O970,[1]Raw!$D:$K,8)","v":12.298000335999999},8.0439674725921257]
[null,null,null,null,null,null,null,null,null,null,null,null,null,null,"2013-05-16T01:01:16",76.88,{"$f":"VLOOKUP(O971,[1]Raw!$D:$K,8)","v":12.262800217000001},8.0434550706805332]
[null,null,null,null,null,null,null,null,null,null,null,null,null,null,"2013-05-16T01:11:16",76.91,{"$f":"VLOOKUP(O972,[1]Raw!$D:$K,8)","v":12.254899978999999},8.0440679697528239]
[null,null,null,null,null,null,null,null,null,null,null,null,null,null,"2013-05-16T01:21:16",76.81,{"$f":"VLOOKUP(O973,[1]Raw!$D:$K,8)","v":12.224100113},8.0426261649985982]
[null,null,null,null,null,null,null,null,null,null,null,null,null,null,"2013-05-16T01:31:17",76.8,{"$f":"VLOOKUP(O974,[1]Raw!$D:$K,8)","v":12.248500824000001},8.042192846091023]
[null,null,null,null,null,null,null,null,null,null,null,null,null,null,"2013-05-16T01:41:17",76.78,{"$f":"VLOOKUP(O975,[1]Raw!$D:$K,8)","v":12.237899779999999},8.0419511798504679]
[null,null,null,null,null,null,null,null,null,null,null,null,null,null,"2013-05-16T01:51:17",76.7,{"$f":"VLOOKUP(O976,[1]Raw!$D:$K,8)","v":12.209100723000001},8.0408412490420851]
[null,null,null,null,null,null,null,null,null,null,null,null,null,null,"2013-05-16T02:01:17",76.66,{"$f":"VLOOKUP(O977,[1]Raw!$D:$K,8)","v":12.208599091},8.0401400679176263]
[null,null,null,null,null,null,null,null,null,null,null,null,null,null,"2013-05-16T02:11:17",76.77,{"$f":"VLOOKUP(O978,[1]Raw!$D:$K,8)","v":12.197599411000001},8.0421985551930444]
[null,null,null,null,null,null,null,null,null,null,null,null,null,null,"2013-05-16T02:21:17",76.75,{"$f":"VLOOKUP(O979,[1]Raw!$D:$K,8)","v":12.169900894},8.0421367447216312]
[null,null,null,null,null,null,null,null,null,null,null,null,null,null,"2013-05-16T02:31:16",76.59,{"$f":"VLOOKUP(O980,[1]Raw!$D:$K,8)","v":12.145200729000001},8.0395702222487486]
[null,null,null,null,null,null,null,null,null,null,null,null,null,null,"2013-05-16T02:41:16",76.41,{"$f":"VLOOKUP(O981,[1]Raw!$D:$K,8)","v":12.105699539},8.0368054132090556]
[null,null,null,null,null,null,null,null,null,null,null,null,null,null,"2013-05-16T02:51:16",76.38,{"$f":"VLOOKUP(O982,[1]Raw!$D:$K,8)","v":12.092100143},8.0364182398866273]
[null,null,null,null,null,null,null,null,null,null,null,null,null,null,"2013-05-16T03:01:16",76.34,{"$f":"VLOOKUP(O983,[1]Raw!$D:$K,8)","v":12.066299438},8.0359825020122937]
[null,null,null,null,null,null,null,null,null,null,null,null,null,null,"2013-05-16T03:11:16",76.16,{"$f":"VLOOKUP(O984,[1]Raw!$D:$K,8)","v":12.04240036},8.033052671276776]
[null,null,null,null,null,null,null,null,null,null,null,null,null,null,"2013-05-16T03:21:16",76.069999999999993,{"$f":"VLOOKUP(O985,[1]Raw!$D:$K,8)","v":11.999700546},8.0319101993690829]
[null,null,null,null,null,null,null,null,null,null,null,null,null,null,"2013-05-16T03:31:16",76.02,{"$f":"VLOOKUP(O986,[1]Raw!$D:$K,8)","v":11.996799469000001},8.0310569139957177]
[null,null,null,null,null,null,null,null,null,null,null,null,null,null,"2013-05-16T03:41:16",75.92,{"$f":"VLOOKUP(O987,[1]Raw!$D:$K,8)","v":11.967899322999999},8.0295924778620122]
[null,null,null,null,null,null,null,null,null,null,null,null,null,null,"2013-05-16T03:51:16",75.94,{"$f":"VLOOKUP(O988,[1]Raw!$D:$K,8)","v":11.981700897},8.0298012704805792]
[null,null,null,null,null,null,null,null,null,null,null,null,null,null,"2013-05-16T04:01:16",75.790000000000006,{"$f":"VLOOKUP(O989,[1]Raw!$D:$K,8)","v":11.947399139},8.0275093714858663]
[null,null,null,null,null,null,null,null,null,null,null,null,null,null,"2013-05-16T04:11:16",75.69,{"$f":"VLOOKUP(O990,[1]Raw!$D:$K,8)","v":11.934099197},8.0258809124279562]
[null,null,null,null,null,null,null,null,null,null,null,null,null,null,"2013-05-16T04:21:16",75.61,{"$f":"VLOOKUP(O991,[1]Raw!$D:$K,8)","v":11.938499451},8.0244205719336339]
[null,null,null,null,null,null,null,null,null,null,null,null,null,null,"2013-05-16T04:31:17",75.400000000000006,{"$f":"VLOOKUP(O992,[1]Raw!$D:$K,8)","v":11.916900634999999},8.020934014216774]
[null,null,null,null,null,null,null,null,null,null,null,null,null,null,"2013-05-16T04:41:17",75.17,{"$f":"VLOOKUP(O993,[1]Raw!$D:$K,8)","v":11.886699676999999},8.0171831624239065]
[null,null,null,null,null,null,null,null,null,null,null,null,null,null,"2013-05-16T04:51:17",74.98,{"$f":"VLOOKUP(O994,[1]Raw!$D:$K,8)","v":11.837900162},8.0143329506027516]
[null,null,null,null,null,null,null,null,null,null,null,null,null,null,"2013-05-16T05:01:17",74.87,{"$f":"VLOOKUP(O995,[1]Raw!$D:$K,8)","v":11.800100326999999},8.0127819893928578]
[null,null,null,null,null,null,null,null,null,null,null,null,null,null,"2013-05-16T05:11:17",74.58,{"$f":"VLOOKUP(O996,[1]Raw!$D:$K,8)","v":11.758399963},8.0080872183578453]
[null,null,null,null,null,null,null,null,null,null,null,null,null,null,"2013-05-16T05:21:17",75.040000000000006,{"$f":"VLOOKUP(O997,[1]Raw!$D:$K,8)","v":11.784599304},8.0159506320097247]
[null,null,null,null,null,null,null,null,null,null,null,null,null,null,"2013-05-16T05:31:17",75.569999999999993,{"$f":"VLOOKUP(O998,[1]Raw!$D:$K,8)","v":11.815000533999999},8.0250066068029859]
[null,null,null,null,null,null,null,null,null,null,null,null,null,null,"2013-05-16T05:41:17",76.61,{"$f":"VLOOKUP(O999,[1]Raw!$D:$K,8)","v":11.827400208},8.0432691599330361]
[null,null,null,null,null,null,null,null,null,null,null,null,null,null,"2013-05-16T05:51:17",76.95,{"$f":"VLOOKUP(O1000,[1]Raw!$D:$K,8)","v":11.796899796},8.0496042012014577]
[null,null,null,null,null,null,null,null,null,null,null,null,null,null,"2013-05-16T06:01:17",76.88,{"$f":"VLOOKUP(O1001,[1]Raw!$D:$K,8)","v":11.753499984999999},8.04882441009625]
[null,null,null,null,null,null,null,null,null,null,null,null,null,null,"2013-05-16T06:11:17",77.209999999999994,{"$f":"VLOOKUP(O1002,[1]Raw!$D:$K,8)","v":11.748899460000001},8.0547106700979292]
[null,null,null,null,null,null,null,null,null,null,null,null,null,null,"2013-05-16T06:21:17",76.510000000000005,{"$f":"VLOOKUP(O1003,[1]Raw!$D:$K,8)","v":11.698900223000001},8.0428547556038144]
[null,null,null,null,null,null,null,null,null,null,null,null,null,null,"2013-05-16T06:31:16",76.5,{"$f":"VLOOKUP(O1004,[1]Raw!$D:$K,8)","v":11.702699661},8.0426377727657758]
[null,null,null,null,null,null,null,null,null,null,null,null,null,null,"2013-05-16T06:41:16",76.39,{"$f":"VLOOKUP(O1005,[1]Raw!$D:$K,8)","v":11.675600052},8.0409770818516755]
[null,null,null,null,null,null,null,null,null,null,null,null,null,null,"2013-05-16T06:51:16",76.599999999999994,{"$f":"VLOOKUP(O1006,[1]Raw!$D:$K,8)","v":11.677900314},8.0446686523474753]
[null,null,null,null,null,null,null,null,null,null,null,null,null,null,"2013-05-16T07:01:16",76.36,{"$f":"VLOOKUP(O1007,[1]Raw!$D:$K,8)","v":11.651899338},8.040695953372234]
[null,null,null,null,null,null,null,null,null,null,null,null,null,null,"2013-05-16T07:11:16",76.91,{"$f":"VLOOKUP(O1008,[1]Raw!$D:$K,8)","v":11.823200226000001},8.0486190150658192]
[null,null,null,null,null,null,null,null,null,null,null,null,null,null,"2013-05-16T07:21:16",77.06,{"$f":"VLOOKUP(O1009,[1]Raw!$D:$K,8)","v":11.853599548},8.0509506015534651]
[null,null,null,null,null,null,null,null,null,null,null,null,null,null,"2013-05-16T07:31:16",77.16,{"$f":"VLOOKUP(O1010,[1]Raw!$D:$K,8)","v":11.898799896},8.052241188488269]
[null,null,null,null,null,null,null,null,null,null,null,null,null,null,"2013-05-16T07:41:16",77.14,{"$f":"VLOOKUP(O1011,[1]Raw!$D:$K,8)","v":11.920700073000001},8.0516561794863932]
[null,null,null,null,null,null,null,null,null,null,null,null,null,null,"2013-05-16T07:51:16",77.03,{"$f":"VLOOKUP(O1012,[1]Raw!$D:$K,8)","v":11.909000397},8.0498349961170899]
[null,null,null,null,null,null,null,null,null,null,null,null,null,null,"2013-05-16T08:01:16",76.95,{"$f":"VLOOKUP(O1013,[1]Raw!$D:$K,8)","v":11.927900314},8.0482211367250862]
[null,null,null,null,null,null,null,null,null,null,null,null,null,null,"2013-05-16T08:11:16",76.59,{"$f":"VLOOKUP(O1014,[1]Raw!$D:$K,8)","v":11.911699295},8.0420273819019013]
[null,null,null,null,null,null,null,null,null,null,null,null,null,null,"2013-05-16T08:21:16",76.12,{"$f":"VLOOKUP(O1015,[1]Raw!$D:$K,8)","v":11.852199554},8.0343429021927673]
[null,null,null,null,null,null,null,null,null,null,null,null,null,null,"2013-05-16T08:31:17",75.569999999999993,{"$f":"VLOOKUP(O1016,[1]Raw!$D:$K,8)","v":11.826000214},8.0248913833632134]
[null,null,null,null,null,null,null,null,null,null,null,null,null,null,"2013-05-16T08:41:17",74.98,{"$f":"VLOOKUP(O1017,[1]Raw!$D:$K,8)","v":11.765800476000001},8.0150856651018696]
[null,null,null,null,null,null,null,null,null,null,null,null,null,null,"2013-05-16T08:51:17",74.66,{"$f":"VLOOKUP(O1018,[1]Raw!$D:$K,8)","v":11.744800568},8.0096441205500444]
[null,null,null,null,null,null,null,null,null,null,null,null,null,null,"2013-05-16T09:01:17",74.77,{"$f":"VLOOKUP(O1019,[1]Raw!$D:$K,8)","v":11.710199356},8.0119510099150446]
[null,null,null,null,null,null,null,null,null,null,null,null,null,null,"2013-05-16T09:11:17",76.09,{"$f":"VLOOKUP(O1020,[1]Raw!$D:$K,8)","v":11.813499451},8.0342190007294754]
[null,null,null,null,null,null,null,null,null,null,null,null,null,null,"2013-05-16T09:21:17",76.31,{"$f":"VLOOKUP(O1021,[1]Raw!$D:$K,8)","v":11.822399139},8.0380162631396956]
[null,null,null,null,null,null,null,null,null,null,null,null,null,null,"2013-05-16T09:31:16",76.349999999999994,{"$f":"VLOOKUP(O1022,[1]Raw!$D:$K,8)","v":11.815299988},8.0387983864144754]
[null,null,null,null,null,null,null,null,null,null,null,null,null,null,"2013-05-16T09:41:16",76.08,{"$f":"VLOOKUP(O1023,[1]Raw!$D:$K,8)","v":11.769800185999999},8.0345013747338498]
[null,null,null,null,null,null,null,null,null,null,null,null,null,null,"2013-05-16T09:51:16",76,{"$f":"VLOOKUP(O1024,[1]Raw!$D:$K,8)","v":11.771200179999999},8.0330715778665223]
[null,null,null,null,null,null,null,null,null,null,null,null,null,null,"2013-05-16T10:01:16",76.239999999999995,{"$f":"VLOOKUP(O1025,[1]Raw!$D:$K,8)","v":11.803699493},8.0369749583145378]
[null,null,null,null,null,null,null,null,null,null,null,null,null,null,"2013-05-16T10:11:16",76.7,{"$f":"VLOOKUP(O1026,[1]Raw!$D:$K,8)","v":11.843599319000001},8.0446900071234317]
[null,null,null,null,null,null,null,null,null,null,null,null,null,null,"2013-05-16T10:21:16",77.06,{"$f":"VLOOKUP(O1027,[1]Raw!$D:$K,8)","v":11.873800277999999},8.0507371923532158]
[null,null,null,null,null,null,null,null,null,null,null,null,null,null,"2013-05-16T10:31:16",77.64,{"$f":"VLOOKUP(O1028,[1]Raw!$D:$K,8)","v":11.940099716000001},8.0602902571673773]
[null,null,null,null,null,null,null,null,null,null,null,null,null,null,"2013-05-16T10:41:16",78.38,{"$f":"VLOOKUP(O1029,[1]Raw!$D:$K,8)","v":12.018600464},8.0725369462971486]
[null,null,null,null,null,null,null,null,null,null,null,null,null,null,"2013-05-16T10:51:16",78.62,{"$f":"VLOOKUP(O1030,[1]Raw!$D:$K,8)","v":12.023799896},8.0767231389321879]
[null,null,null,null,null,null,null,null,null,null,null,null,null,null,"2013-05-16T11:01:16",78.67,{"$f":"VLOOKUP(O1031,[1]Raw!$D:$K,8)","v":12.034799575999999},8.0774896140361196]
[null,null,null,null,null,null,null,null,null,null,null,null,null,null,"2013-05-16T11:11:16",78.84,{"$f":"VLOOKUP(O1032,[1]Raw!$D:$K,8)","v":12.054000854},8.0802891729363395]
[null,null,null,null,null,null,null,null,null,null,null,null,null,null,"2013-05-16T11:21:16",78.67,{"$f":"VLOOKUP(O1033,[1]Raw!$D:$K,8)","v":12.026100159},8.0775822789207137]
[null,null,null,null,null,null,null,null,null,null,null,null,null,null,"2013-05-16T11:31:17",78.36,{"$f":"VLOOKUP(O1034,[1]Raw!$D:$K,8)","v":11.996599197},8.0724174516885103]
[null,null,null,null,null,null,null,null,null,null,null,null,null,null,"2013-05-16T11:41:17",78,{"$f":"VLOOKUP(O1035,[1]Raw!$D:$K,8)","v":11.924800873000001},8.0668167919963079]
[null,null,null,null,null,null,null,null,null,null,null,null,null,null,"2013-05-16T11:51:17",77.849999999999994,{"$f":"VLOOKUP(O1036,[1]Raw!$D:$K,8)","v":11.896699905},8.0644630920101363]
[null,null,null,null,null,null,null,null,null,null,null,null,null,null,"2013-05-16T12:01:17",77.400000000000006,{"$f":"VLOOKUP(O1037,[1]Raw!$D:$K,8)","v":11.847000122000001},8.0570328271976948]
[null,null,null,null,null,null,null,null,null,null,null,null,null,null,"2013-05-16T12:11:17",76.72,{"$f":"VLOOKUP(O1038,[1]Raw!$D:$K,8)","v":11.792499542},8.045582622552617]
[null,null,null,null,null,null,null,null,null,null,null,null,null,null,"2013-05-16T12:21:17",76.38,{"$f":"VLOOKUP(O1039,[1]Raw!$D:$K,8)","v":11.747299194},8.0400448948309045]
[null,null,null,null,null,null,null,null,null,null,null,null,null,null,"2013-05-16T12:31:18",76.760000000000005,{"$f":"VLOOKUP(O1040,[1]Raw!$D:$K,8)","v":11.769599915000001},8.0465317461881209]
[null,null,null,null,null,null,null,null,null,null,null,null,null,null,"2013-05-16T12:41:18",77.67,{"$f":"VLOOKUP(O1041,[1]Raw!$D:$K,8)","v":11.826000214},8.0620301487971169]
[null,null,null,null,null,null,null,null,null,null,null,null,null,null,"2013-05-16T12:51:18",78.45,{"$f":"VLOOKUP(O1042,[1]Raw!$D:$K,8)","v":11.886600494},8.0751790803824619]
[null,null,null,null,null,null,null,null,null,null,null,null,null,null,"2013-05-16T13:01:18",78.650000000000006,{"$f":"VLOOKUP(O1043,[1]Raw!$D:$K,8)","v":11.895599365000001},8.0786194164669425]
[null,null,null,null,null,null,null,null,null,null,null,null,null,null,"2013-05-16T13:11:18",78.78,{"$f":"VLOOKUP(O1044,[1]Raw!$D:$K,8)","v":11.892000198},8.0809563206506727]
[null,null,null,null,null,null,null,null,null,null,null,null,null,null,"2013-05-16T13:21:18",78.91,{"$f":"VLOOKUP(O1045,[1]Raw!$D:$K,8)","v":11.899000168000001},8.0831801172912954]
[null,null,null,null,null,null,null,null,null,null,null,null,null,null,"2013-05-16T13:31:18",79.05,{"$f":"VLOOKUP(O1046,[1]Raw!$D:$K,8)","v":11.895900726000001},8.0856885195756156]
[null,null,null,null,null,null,null,null,null,null,null,null,null,null,"2013-05-16T13:41:18",79.06,{"$f":"VLOOKUP(O1047,[1]Raw!$D:$K,8)","v":11.927099227999999},8.0855319736728148]
[null,null,null,null,null,null,null,null,null,null,null,null,null,null,"2013-05-16T13:51:18",78.97,{"$f":"VLOOKUP(O1048,[1]Raw!$D:$K,8)","v":11.906099319000001},8.0841651340666516]
[null,null,null,null,null,null,null,null,null,null,null,null,null,null,"2013-05-16T14:01:18",79.010000000000005,{"$f":"VLOOKUP(O1049,[1]Raw!$D:$K,8)","v":11.911899567000001},8.0848103820042141]
[null,null,null,null,null,null,null,null,null,null,null,null,null,null,"2013-05-16T14:11:18",79.09,{"$f":"VLOOKUP(O1050,[1]Raw!$D:$K,8)","v":11.905700683999999},8.0862910132001975]
[null,null,null,null,null,null,null,null,null,null,null,null,null,null,"2013-05-16T14:21:18",79.180000000000007,{"$f":"VLOOKUP(O1051,[1]Raw!$D:$K,8)","v":11.882400513},8.0881313941560311]
[null,null,null,null,null,null,null,null,null,null,null,null,null,null,"2013-05-16T14:31:16",79.05,{"$f":"VLOOKUP(O1052,[1]Raw!$D:$K,8)","v":11.860700607},8.0860646961555211]
[null,null,null,null,null,null,null,null,null,null,null,null,null,null,"2013-05-16T14:41:16",78.23,{"$f":"VLOOKUP(O1053,[1]Raw!$D:$K,8)","v":11.827600479000001},8.0719167931217104]
[null,null,null,null,null,null,null,null,null,null,null,null,null,null,"2013-05-16T14:51:16",77.680000000000007,{"$f":"VLOOKUP(O1054,[1]Raw!$D:$K,8)","v":11.815599442},8.0623173115711761]
[null,null,null,null,null,null,null,null,null,null,null,null,null,null,"2013-05-16T15:01:16",77.569999999999993,{"$f":"VLOOKUP(O1055,[1]Raw!$D:$K,8)","v":11.806699753},8.0604662131895477]
[null,null,null,null,null,null,null,null,null,null,null,null,null,null,"2013-05-16T15:11:16",77.42,{"$f":"VLOOKUP(O1056,[1]Raw!$D:$K,8)","v":11.785299301},8.0580399337854374]
[null,null,null,null,null,null,null,null,null,null,null,null,null,null,"2013-05-16T15:21:16",76.95,{"$f":"VLOOKUP(O1057,[1]Raw!$D:$K,8)","v":11.773399353},8.0498524464227827]
[null,null,null,null,null,null,null,null,null,null,null,null,null,null,"2013-05-16T15:31:16",76.77,{"$f":"VLOOKUP(O1058,[1]Raw!$D:$K,8)","v":11.800800323000001},8.0463793979585141]
[null,null,null,null,null,null,null,null,null,null,null,null,null,null,"2013-05-16T15:41:16",76.400000000000006,{"$f":"VLOOKUP(O1059,[1]Raw!$D:$K,8)","v":11.800899506},8.0398342783002814]
[null,null,null,null,null,null,null,null,null,null,null,null,null,null,"2013-05-16T15:51:16",75.81,{"$f":"VLOOKUP(O1060,[1]Raw!$D:$K,8)","v":11.800600052},8.0294022763228767]
[null,null,null,null,null,null,null,null,null,null,null,null,null,null,"2013-05-16T16:01:16",74.16,{"$f":"VLOOKUP(O1061,[1]Raw!$D:$K,8)","v":11.91740036},7.9990062627969873]
[null,null,null,null,null,null,null,null,null,null,null,null,null,null,"2013-05-16T16:11:16",74.13,{"$f":"VLOOKUP(O1062,[1]Raw!$D:$K,8)","v":11.931600571000001},7.9983285062144684]
[null,null,null,null,null,null,null,null,null,null,null,null,null,null,"2013-05-16T16:21:16",74.12,{"$f":"VLOOKUP(O1063,[1]Raw!$D:$K,8)","v":11.971000671000001},7.9977429188917721]
[null,null,null,null,null,null,null,null,null,null,null,null,null,null,"2013-05-16T16:31:17",74.06,{"$f":"VLOOKUP(O1064,[1]Raw!$D:$K,8)","v":11.988700867},7.9964988025517778]
[null,null,null,null,null,null,null,null,null,null,null,null,null,null,"2013-05-16T16:41:17",73.95,{"$f":"VLOOKUP(O1065,[1]Raw!$D:$K,8)","v":12.005599975999999},7.9943794439230444]
[null,null,null,null,null,null,null,null,null,null,null,null,null,null,"2013-05-16T16:51:17",73.77,{"$f":"VLOOKUP(O1066,[1]Raw!$D:$K,8)","v":12.052099227999999},7.9907169371570514]
[null,null,null,null,null,null,null,null,null,null,null,null,null,null,"2013-05-16T17:01:17",73.73,{"$f":"VLOOKUP(O1067,[1]Raw!$D:$K,8)","v":12.084199905},7.98967807603682]
[null,null,null,null,null,null,null,null,null,null,null,null,null,null,"2013-05-16T17:11:17",73.64,{"$f":"VLOOKUP(O1068,[1]Raw!$D:$K,8)","v":12.058799744},7.9883504211956318]
[null,null,null,null,null,null,null,null,null,null,null,null,null,null,"2013-05-16T17:21:17",74.069999999999993,{"$f":"VLOOKUP(O1069,[1]Raw!$D:$K,8)","v":12.157499313000001},7.994926177846529]
[null,null,null,null,null,null,null,null,null,null,null,null,null,null,"2013-05-16T17:31:16",74.180000000000007,{"$f":"VLOOKUP(O1070,[1]Raw!$D:$K,8)","v":12.219400406},7.9962278547184233]
[null,null,null,null,null,null,null,null,null,null,null,null,null,null,"2013-05-16T17:41:16",74.19,{"$f":"VLOOKUP(O1071,[1]Raw!$D:$K,8)","v":12.241600037},7.9961744809349531]
[null,null,null,null,null,null,null,null,null,null,null,null,null,null,"2013-05-16T17:51:16",74.319999999999993,{"$f":"VLOOKUP(O1072,[1]Raw!$D:$K,8)","v":12.382699966000001},7.9970081496831229]
[null,null,null,null,null,null,null,null,null,null,null,null,null,null,"2013-05-16T18:01:16",74.92,{"$f":"VLOOKUP(O1073,[1]Raw!$D:$K,8)","v":12.004600525000001},8.0115336276472977]
[null,null,null,null,null,null,null,null,null,null,null,null,null,null,"2013-05-16T18:11:16",74.8,{"$f":"VLOOKUP(O1074,[1]Raw!$D:$K,8)","v":12.093599319000001},8.0084862048649068]
[null,null,null,null,null,null,null,null,null,null,null,null,null,null,"2013-05-16T18:21:16",77.88,{"$f":"VLOOKUP(O1075,[1]Raw!$D:$K,8)","v":12.456600189},8.0590630272275519]
[null,null,null,null,null,null,null,null,null,null,null,null,null,null,"2013-05-16T18:31:17",81.36,{"$f":"VLOOKUP(O1076,[1]Raw!$D:$K,8)","v":12.791700363},8.1168611307730547]
[null,null,null,null,null,null,null,null,null,null,null,null,null,null,"2013-05-16T18:41:17",82.05,{"$f":"VLOOKUP(O1077,[1]Raw!$D:$K,8)","v":13.294700623000001},8.1235980091011193]
[null,null,null,null,null,null,null,null,null,null,null,null,null,null,"2013-05-16T18:51:17",81.510000000000005,{"$f":"VLOOKUP(O1078,[1]Raw!$D:$K,8)","v":12.866100311},8.1187038417978368]
[null,null,null,null,null,null,null,null,null,null,null,null,null,null,"2013-05-16T19:01:17",80.040000000000006,{"$f":"VLOOKUP(O1079,[1]Raw!$D:$K,8)","v":12.888399123999999},8.092563243589689]
[null,null,null,null,null,null,null,null,null,null,null,null,null,null,"2013-05-16T19:11:17",83.56,{"$f":"VLOOKUP(O1080,[1]Raw!$D:$K,8)","v":13.163900375000001},8.1515865559038243]
[null,null,null,null,null,null,null,null,null,null,null,null,null,null,"2013-05-16T19:21:17",83.7,{"$f":"VLOOKUP(O1081,[1]Raw!$D:$K,8)","v":13.288600922000001},8.152695136231662]
[null,null,null,null,null,null,null,null,null,null,null,null,null,null,"2013-05-16T19:31:16",84.43,{"$f":"VLOOKUP(O1082,[1]Raw!$D:$K,8)","v":13.037900925000001},8.16827746630773]
[null,null,null,null,null,null,null,null,null,null,null,null,null,null,"2013-05-16T19:41:16",84.46,{"$f":"VLOOKUP(O1083,[1]Raw!$D:$K,8)","v":13.146600723000001},8.167617780534389]
[null,null,null,null,null,null,null,null,null,null,null,null,null,null,"2013-05-16T19:51:16",84.54,{"$f":"VLOOKUP(O1084,[1]Raw!$D:$K,8)","v":12.999799727999999},8.1706314059828031]
[null,null,null,null,null,null,null,null,null,null,null,null,null,null,"2013-05-16T20:01:16",84.58,{"$f":"VLOOKUP(O1085,[1]Raw!$D:$K,8)","v":13.169599533},8.1694787957966266]
[null,null,null,null,null,null,null,null,null,null,null,null,null,null,"2013-05-16T20:11:16",83.27,{"$f":"VLOOKUP(O1086,[1]Raw!$D:$K,8)","v":13.252899169999999},8.1455164546156613]
[null,null,null,null,null,null,null,null,null,null,null,null,null,null,"2013-05-16T20:21:16",80.819999999999993,{"$f":"VLOOKUP(O1087,[1]Raw!$D:$K,8)","v":13.08480072},8.1042023319848457]
[null,null,null,null,null,null,null,null,null,null,null,null,null,null,"2013-05-16T20:31:16",81.209999999999994,{"$f":"VLOOKUP(O1088,[1]Raw!$D:$K,8)","v":13.144199370999999},8.1104319974130767]
[null,null,null,null,null,null,null,null,null,null,null,null,null,null,"2013-05-16T20:41:16",77.319999999999993,{"$f":"VLOOKUP(O1089,[1]Raw!$D:$K,8)","v":13.083700179999999},8.0425881489743833]
[null,null,null,null,null,null,null,null,null,null,null,null,null,null,"2013-05-16T20:51:16",75.95,{"$f":"VLOOKUP(O1090,[1]Raw!$D:$K,8)","v":12.867300033999999},8.0207196108050027]
[null,null,null,null,null,null,null,null,null,null,null,null,null,null,"2013-05-16T21:01:16",75.010000000000005,{"$f":"VLOOKUP(O1091,[1]Raw!$D:$K,8)","v":12.785499572999999},8.005004147737937]
[null,null,null,null,null,null,null,null,null,null,null,null,null,null,"2013-05-16T21:11:16",75.03,{"$f":"VLOOKUP(O1092,[1]Raw!$D:$K,8)","v":12.615200043},8.0071239417999003]
[null,null,null,null,null,null,null,null,null,null,null,null,null,null,"2013-05-16T21:21:16",74.819999999999993,{"$f":"VLOOKUP(O1093,[1]Raw!$D:$K,8)","v":12.5522995},8.0040727878606361]
[null,null,null,null,null,null,null,null,null,null,null,null,null,null,"2013-05-16T21:31:16",74.83,{"$f":"VLOOKUP(O1094,[1]Raw!$D:$K,8)","v":12.486200332999999},8.0049351852368211]
[null,null,null,null,null,null,null,null,null,null,null,null,null,null,"2013-05-16T21:41:16",74.709999999999994,{"$f":"VLOOKUP(O1095,[1]Raw!$D:$K,8)","v":12.424999237},8.0034528667318625]
[null,null,null,null,null,null,null,null,null,null,null,null,null,null,"2013-05-16T21:51:16",74.599999999999994,{"$f":"VLOOKUP(O1096,[1]Raw!$D:$K,8)","v":12.449699402},8.0012554420261388]
[null,null,null,null,null,null,null,null,null,null,null,null,null,null,"2013-05-16T22:01:16",74.63,{"$f":"VLOOKUP(O1097,[1]Raw!$D:$K,8)","v":12.429500579999999},8.0019943335413597]
[null,null,null,null,null,null,null,null,null,null,null,null,null,null,"2013-05-16T22:11:16",74.45,{"$f":"VLOOKUP(O1098,[1]Raw!$D:$K,8)","v":12.253099442},8.0006466166178569]
[null,null,null,null,null,null,null,null,null,null,null,null,null,null,"2013-05-16T22:21:16",74.209999999999994,{"$f":"VLOOKUP(O1099,[1]Raw!$D:$K,8)","v":12.254600525000001},7.9963929879114009]
[null,null,null,null,null,null,null,null,null,null,null,null,null,null,"2013-05-16T22:31:16",74.06,{"$f":"VLOOKUP(O1100,[1]Raw!$D:$K,8)","v":12.177099227999999},7.9945465508465325]
[null,null,null,null,null,null,null,null,null,null,null,null,null,null,"2013-05-16T22:41:16",74.12,{"$f":"VLOOKUP(O1101,[1]Raw!$D:$K,8)","v":12.118200302},7.9962166263692325]
[null,null,null,null,null,null,null,null,null,null,null,null,null,null,"2013-05-16T22:51:16",74.23,{"$f":"VLOOKUP(O1102,[1]Raw!$D:$K,8)","v":12.066299438},7.9986983243091521]
[null,null,null,null,null,null,null,null,null,null,null,null,null,null,"2013-05-16T23:01:16",74.33,{"$f":"VLOOKUP(O1103,[1]Raw!$D:$K,8)","v":12.109800339},8.0000138637097447]
[null,null,null,null,null,null,null,null,null,null,null,null,null,null,"2013-05-16T23:11:16",74.45,{"$f":"VLOOKUP(O1104,[1]Raw!$D:$K,8)","v":12.109399796},8.0021381269900864]
[null,null,null,null,null,null,null,null,null,null,null,null,null,null,"2013-05-16T23:21:16",74.39,{"$f":"VLOOKUP(O1105,[1]Raw!$D:$K,8)","v":12.104700089},8.0011268614591504]
[null,null,null,null,null,null,null,null,null,null,null,null,null,null,"2013-05-16T23:31:16",74.599999999999994,{"$f":"VLOOKUP(O1106,[1]Raw!$D:$K,8)","v":12.092300415},8.0049660000269274]
[null,null,null,null,null,null,null,null,null,null,null,null,null,null,"2013-05-16T23:41:16",74.709999999999994,{"$f":"VLOOKUP(O1107,[1]Raw!$D:$K,8)","v":12.100299835},8.0068263406084625]
[null,null,null,null,null,null,null,null,null,null,null,null,null,null,"2013-05-16T23:51:16",74.88,{"$f":"VLOOKUP(O1108,[1]Raw!$D:$K,8)","v":12.002000809},8.0108537520214735]
[null,null,null,null,null,null,null,null,null,null,null,null,null,null,"2013-05-17T00:01:16",75.319999999999993,{"$f":"VLOOKUP(O1109,[1]Raw!$D:$K,8)","v":12.035400391},8.0182815423729181]
[null,null,null,null,null,null,null,null,null,null,null,null,null,null,"2013-05-17T00:11:16",75.88,{"$f":"VLOOKUP(O1110,[1]Raw!$D:$K,8)","v":12.036899567000001},8.0281622321173494]
[null,null,null,null,null,null,null,null,null,null,null,null,null,null,"2013-05-17T00:21:16",76.709999999999994,{"$f":"VLOOKUP(O1111,[1]Raw!$D:$K,8)","v":12.017900467},8.0430301041868777]
[null,null,null,null,null,null,null,null,null,null,null,null,null,null,"2013-05-17T00:31:16",80.31,{"$f":"VLOOKUP(O1112,[1]Raw!$D:$K,8)","v":12.235599518000001},8.104314273228109]
[null,null,null,null,null,null,null,null,null,null,null,null,null,null,"2013-05-17T00:41:16",82.69,{"$f":"VLOOKUP(O1113,[1]Raw!$D:$K,8)","v":12.260799408},8.1460701794299055]
[null,null,null,null,null,null,null,null,null,null,null,null,null,null,"2013-05-17T00:51:16",82.98,{"$f":"VLOOKUP(O1114,[1]Raw!$D:$K,8)","v":12.208400726000001},8.1517623726563713]
[null,null,null,null,null,null,null,null,null,null,null,null,null,null,"2013-05-17T01:01:16",83.82,{"$f":"VLOOKUP(O1115,[1]Raw!$D:$K,8)","v":12.250799178999999},8.166133467281897]
[null,null,null,null,null,null,null,null,null,null,null,null,null,null,"2013-05-17T01:11:16",83.32,{"$f":"VLOOKUP(O1116,[1]Raw!$D:$K,8)","v":12.180799484},8.1580688683398694]
[null,null,null,null,null,null,null,null,null,null,null,null,null,null,"2013-05-17T01:21:16",82.72,{"$f":"VLOOKUP(O1117,[1]Raw!$D:$K,8)","v":12.129800797},8.1480265302911032]
[null,null,null,null,null,null,null,null,null,null,null,null,null,null,"2013-05-17T01:31:16",83.85,{"$f":"VLOOKUP(O1118,[1]Raw!$D:$K,8)","v":12.216499328999999},8.1670390627609741]
[null,null,null,null,null,null,null,null,null,null,null,null,null,null,"2013-05-17T01:41:16",83.54,{"$f":"VLOOKUP(O1119,[1]Raw!$D:$K,8)","v":12.117599487},8.1626464520606685]
[null,null,null,null,null,null,null,null,null,null,null,null,null,null,"2013-05-17T01:51:16",82.76,{"$f":"VLOOKUP(O1120,[1]Raw!$D:$K,8)","v":12.029100418000001},8.1498309730718184]
[null,null,null,null,null,null,null,null,null,null,null,null,null,null,"2013-05-17T02:01:16",82.34,{"$f":"VLOOKUP(O1121,[1]Raw!$D:$K,8)","v":11.957300185999999},8.143189848676359]
[null,null,null,null,null,null,null,null,null,null,null,null,null,null,"2013-05-17T02:11:16",81.36,{"$f":"VLOOKUP(O1122,[1]Raw!$D:$K,8)","v":11.863800049},8.1268787932255968]
[null,null,null,null,null,null,null,null,null,null,null,null,null,null,"2013-05-17T02:21:16",80.25,{"$f":"VLOOKUP(O1123,[1]Raw!$D:$K,8)","v":11.815999984999999},8.1077654330588871]
[null,null,null,null,null,null,null,null,null,null,null,null,null,null,"2013-05-17T02:31:16",79.459999999999994,{"$f":"VLOOKUP(O1124,[1]Raw!$D:$K,8)","v":11.833799362000001},8.0936029503755567]
[null,null,null,null,null,null,null,null,null,null,null,null,null,null,"2013-05-17T02:41:16",78.56,{"$f":"VLOOKUP(O1125,[1]Raw!$D:$K,8)","v":11.851400375000001},8.0774991617590537]
[null,null,null,null,null,null,null,null,null,null,null,null,null,null,"2013-05-17T02:51:16",77.78,{"$f":"VLOOKUP(O1126,[1]Raw!$D:$K,8)","v":11.875999451},8.0634450185026818]
[null,null,null,null,null,null,null,null,null,null,null,null,null,null,"2013-05-17T03:01:16",77.44,{"$f":"VLOOKUP(O1127,[1]Raw!$D:$K,8)","v":11.870100021000001},8.057495589419954]
[null,null,null,null,null,null,null,null,null,null,null,null,null,null,"2013-05-17T03:11:16",77.27,{"$f":"VLOOKUP(O1128,[1]Raw!$D:$K,8)","v":11.855199814000001},8.0546471905978994]
[null,null,null,null,null,null,null,null,null,null,null,null,null,null,"2013-05-17T03:21:16",77.14,{"$f":"VLOOKUP(O1129,[1]Raw!$D:$K,8)","v":11.843700409},8.052469913602458]
[null,null,null,null,null,null,null,null,null,null,null,null,null,null,"2013-05-17T03:31:16",77.180000000000007,{"$f":"VLOOKUP(O1130,[1]Raw!$D:$K,8)","v":11.856100081999999},8.0530461742339075]
[null,null,null,null,null,null,null,null,null,null,null,null,null,null,"2013-05-17T03:41:16",77.17,{"$f":"VLOOKUP(O1131,[1]Raw!$D:$K,8)","v":11.838199615000001},8.0530585940218185]
[null,null,null,null,null,null,null,null,null,null,null,null,null,null,"2013-05-17T03:51:16",77.319999999999993,{"$f":"VLOOKUP(O1132,[1]Raw!$D:$K,8)","v":11.846200942999999},8.0556265781125802]
[null,null,null,null,null,null,null,null,null,null,null,null,null,null,"2013-05-17T04:01:16",77.760000000000005,{"$f":"VLOOKUP(O1133,[1]Raw!$D:$K,8)","v":11.86179924},8.0632420063674637]
[null,null,null,null,null,null,null,null,null,null,null,null,null,null,"2013-05-17T04:11:16",78.31,{"$f":"VLOOKUP(O1134,[1]Raw!$D:$K,8)","v":11.898000717},8.0725823924519062]
[null,null,null,null,null,null,null,null,null,null,null,null,null,null,"2013-05-17T04:21:16",78.11,{"$f":"VLOOKUP(O1135,[1]Raw!$D:$K,8)","v":11.895000458},8.0690781447286604]
[null,null,null,null,null,null,null,null,null,null,null,null,null,null,"2013-05-17T04:31:16",78.05,{"$f":"VLOOKUP(O1136,[1]Raw!$D:$K,8)","v":11.899499893},8.0679694949304466]
[null,null,null,null,null,null,null,null,null,null,null,null,null,null,"2013-05-17T04:41:16",77.709999999999994,{"$f":"VLOOKUP(O1137,[1]Raw!$D:$K,8)","v":11.894300461},8.062013228256701]
[null,null,null,null,null,null,null,null,null,null,null,null,null,null,"2013-05-17T04:51:16",77.56,{"$f":"VLOOKUP(O1138,[1]Raw!$D:$K,8)","v":11.909200668},8.0592032626660366]
[null,null,null,null,null,null,null,null,null,null,null,null,null,null,"2013-05-17T05:01:16",77.13,{"$f":"VLOOKUP(O1139,[1]Raw!$D:$K,8)","v":11.920900345},8.0514772711905547]
[null,null,null,null,null,null,null,null,null,null,null,null,null,null,"2013-05-17T05:11:16",77.31,{"$f":"VLOOKUP(O1140,[1]Raw!$D:$K,8)","v":11.930000305},8.0545632988823481]
[null,null,null,null,null,null,null,null,null,null,null,null,null,null,"2013-05-17T05:21:16",77.23,{"$f":"VLOOKUP(O1141,[1]Raw!$D:$K,8)","v":11.939399719000001},8.0530496558229103]
[null,null,null,null,null,null,null,null,null,null,null,null,null,null,"2013-05-17T05:31:17",77.069999999999993,{"$f":"VLOOKUP(O1142,[1]Raw!$D:$K,8)","v":11.939800262},8.0502169316283236]
[null,null,null,null,null,null,null,null,null,null,null,null,null,null,"2013-05-17T05:41:17",77.02,{"$f":"VLOOKUP(O1143,[1]Raw!$D:$K,8)","v":11.931999207},8.049415380891455]
[null,null,null,null,null,null,null,null,null,null,null,null,null,null,"2013-05-17T05:51:17",77,{"$f":"VLOOKUP(O1144,[1]Raw!$D:$K,8)","v":11.936399460000001},8.0490153630722094]
[null,null,null,null,null,null,null,null,null,null,null,null,null,null,"2013-05-17T06:01:17",76.959999999999994,{"$f":"VLOOKUP(O1145,[1]Raw!$D:$K,8)","v":11.933200835999999},8.048341986909282]
[null,null,null,null,null,null,null,null,null,null,null,null,null,null,"2013-05-17T06:11:17",77.22,{"$f":"VLOOKUP(O1146,[1]Raw!$D:$K,8)","v":11.930900574000001},8.0529627028528026]
[null,null,null,null,null,null,null,null,null,null,null,null,null,null,"2013-05-17T06:21:17",77.180000000000007,{"$f":"VLOOKUP(O1147,[1]Raw!$D:$K,8)","v":11.919000626000001},8.0523813088083447]
[null,null,null,null,null,null,null,null,null,null,null,null,null,null,"2013-05-17T06:31:16",77.09,{"$f":"VLOOKUP(O1148,[1]Raw!$D:$K,8)","v":11.906400680999999},8.0509232556170591]
[null,null,null,null,null,null,null,null,null,null,null,null,null,null,"2013-05-17T06:41:16",77.11,{"$f":"VLOOKUP(O1149,[1]Raw!$D:$K,8)","v":11.896200179999999},8.0513846240696143]
[null,null,null,null,null,null,null,null,null,null,null,null,null,null,"2013-05-17T06:51:16",76.64,{"$f":"VLOOKUP(O1150,[1]Raw!$D:$K,8)","v":11.8458004},8.0436057661613578]
[null,null,null,null,null,null,null,null,null,null,null,null,null,null,"2013-05-17T07:01:16",74.53,{"$f":"VLOOKUP(O1151,[1]Raw!$D:$K,8)","v":11.708000182999999},8.0077277668059477]
[null,null,null,null,null,null,null,null,null,null,null,null,null,null,"2013-05-17T07:11:16",74.86,{"$f":"VLOOKUP(O1152,[1]Raw!$D:$K,8)","v":11.720600127999999},8.0134347467691107]
[null,null,null,null,null,null,null,null,null,null,null,null,null,null,"2013-05-17T07:21:16",74.98,{"$f":"VLOOKUP(O1153,[1]Raw!$D:$K,8)","v":11.718500136999999},8.0155796835352202]
[null,null,null,null,null,null,null,null,null,null,null,null,null,null,"2013-05-17T07:31:16",75.209999999999994,{"$f":"VLOOKUP(O1154,[1]Raw!$D:$K,8)","v":11.738700867},8.0194375067063515]
[null,null,null,null,null,null,null,null,null,null,null,null,null,null,"2013-05-17T07:41:16",74.959999999999994,{"$f":"VLOOKUP(O1155,[1]Raw!$D:$K,8)","v":11.71570015},8.0152550930715911]
[null,null,null,null,null,null,null,null,null,null,null,null,null,null,"2013-05-17T07:51:16",74.349999999999994,{"$f":"VLOOKUP(O1156,[1]Raw!$D:$K,8)","v":11.705999373999999},8.0045639492851794]
[null,null,null,null,null,null,null,null,null,null,null,null,null,null,"2013-05-17T08:01:16",74.34,{"$f":"VLOOKUP(O1157,[1]Raw!$D:$K,8)","v":11.704799652},8.0043995093064506]
[null,null,null,null,null,null,null,null,null,null,null,null,null,null,"2013-05-17T08:11:16",74.349999999999994,{"$f":"VLOOKUP(O1158,[1]Raw!$D:$K,8)","v":11.702600479000001},8.0045993247635874]
[null,null,null,null,null,null,null,null,null,null,null,null,null,null,"2013-05-17T08:21:16",74.39,{"$f":"VLOOKUP(O1159,[1]Raw!$D:$K,8)","v":11.702899932999999},8.0053039187956028]
[null,null,null,null,null,null,null,null,null,null,null,null,null,null,"2013-05-17T08:31:16",74.36,{"$f":"VLOOKUP(O1160,[1]Raw!$D:$K,8)","v":11.705900192},8.0047419073804615]
[null,null,null,null,null,null,null,null,null,null,null,null,null,null,"2013-05-17T08:41:16",74.14,{"$f":"VLOOKUP(O1161,[1]Raw!$D:$K,8)","v":11.701700211},8.0008931976777422]
[null,null,null,null,null,null,null,null,null,null,null,null,null,null,"2013-05-17T08:51:16",74.11,{"$f":"VLOOKUP(O1162,[1]Raw!$D:$K,8)","v":11.692699432},8.000455962384093]
[null,null,null,null,null,null,null,null,null,null,null,null,null,null,"2013-05-17T09:01:16",74.09,{"$f":"VLOOKUP(O1163,[1]Raw!$D:$K,8)","v":11.680200577000001},8.0002319960377282]
[null,null,null,null,null,null,null,null,null,null,null,null,null,null,"2013-05-17T09:11:16",73.97,{"$f":"VLOOKUP(O1164,[1]Raw!$D:$K,8)","v":11.677400588999999},7.9981377757583294]
[null,null,null,null,null,null,null,null,null,null,null,null,null,null,"2013-05-17T09:21:16",73.91,{"$f":"VLOOKUP(O1165,[1]Raw!$D:$K,8)","v":11.645500182999999},7.9974073597727831]
[null,null,null,null,null,null,null,null,null,null,null,null,null,null,"2013-05-17T09:31:16",73.61,{"$f":"VLOOKUP(O1166,[1]Raw!$D:$K,8)","v":11.601800919},7.9925515263607299]
[null,null,null,null,null,null,null,null,null,null,null,null,null,null,"2013-05-17T09:41:16",73.91,{"$f":"VLOOKUP(O1167,[1]Raw!$D:$K,8)","v":11.572099686},7.9981698125823799]
[null,null,null,null,null,null,null,null,null,null,null,null,null,null,"2013-05-17T09:51:16",73.91,{"$f":"VLOOKUP(O1168,[1]Raw!$D:$K,8)","v":11.57060051},7.9981853894748438]
[null,null,null,null,null,null,null,null,null,null,null,null,null,null,"2013-05-17T10:01:16",73.989999999999995,{"$f":"VLOOKUP(O1169,[1]Raw!$D:$K,8)","v":11.567800522000001},7.9996305757860435]
[null,null,null,null,null,null,null,null,null,null,null,null,null,null,"2013-05-17T10:11:16",74.099999999999994,{"$f":"VLOOKUP(O1170,[1]Raw!$D:$K,8)","v":11.568799973000001},8.0015673072390392]
[null,null,null,null,null,null,null,null,null,null,null,null,null,null,"2013-05-17T10:21:16",74.23,{"$f":"VLOOKUP(O1171,[1]Raw!$D:$K,8)","v":11.565099716000001},8.003906972123044]
[null,null,null,null,null,null,null,null,null,null,null,null,null,null,"2013-05-17T10:31:16",74.430000000000007,{"$f":"VLOOKUP(O1172,[1]Raw!$D:$K,8)","v":11.565099716000001},8.007447238578143]
[null,null,null,null,null,null,null,null,null,null,null,null,null,null,"2013-05-17T10:41:16",74.510000000000005,{"$f":"VLOOKUP(O1173,[1]Raw!$D:$K,8)","v":11.573200226000001},8.0087788749415605]
[null,null,null,null,null,null,null,null,null,null,null,null,null,null,"2013-05-17T10:51:16",74.83,{"$f":"VLOOKUP(O1174,[1]Raw!$D:$K,8)","v":11.580799103},8.0143637540082988]
[null,null,null,null,null,null,null,null,null,null,null,null,null,null,"2013-05-17T11:01:16",74.87,{"$f":"VLOOKUP(O1175,[1]Raw!$D:$K,8)","v":11.600999831999999},8.0148606999230605]
[null,null,null,null,null,null,null,null,null,null,null,null,null,null,"2013-05-17T11:11:16",74.849999999999994,{"$f":"VLOOKUP(O1176,[1]Raw!$D:$K,8)","v":11.60090065},8.0145077540233025]
[null,null,null,null,null,null,null,null,null,null,null,null,null,null,"2013-05-17T11:21:16",75.06,{"$f":"VLOOKUP(O1177,[1]Raw!$D:$K,8)","v":11.609300613},8.0181367085566002]
[null,null,null,null,null,null,null,null,null,null,null,null,null,null,"2013-05-17T11:31:16",75.27,{"$f":"VLOOKUP(O1178,[1]Raw!$D:$K,8)","v":11.645700455},8.021472278676308]
[null,null,null,null,null,null,null,null,null,null,null,null,null,null,"2013-05-17T11:41:16",75.37,{"$f":"VLOOKUP(O1179,[1]Raw!$D:$K,8)","v":11.663299561000001},8.0230575611629149]
[null,null,null,null,null,null,null,null,null,null,null,null,null,null,"2013-05-17T11:51:16",75.5,{"$f":"VLOOKUP(O1180,[1]Raw!$D:$K,8)","v":11.685699463000001},8.0251231551157964]
[null,null,null,null,null,null,null,null,null,null,null,null,null,null,"2013-05-17T12:01:16",75.540000000000006,{"$f":"VLOOKUP(O1181,[1]Raw!$D:$K,8)","v":11.704399109000001},8.0256348890462643]
[null,null,null,null,null,null,null,null,null,null,null,null,null,null,"2013-05-17T12:11:16",75.55,{"$f":"VLOOKUP(O1182,[1]Raw!$D:$K,8)","v":11.687299727999999},8.025991070167013]
[null,null,null,null,null,null,null,null,null,null,null,null,null,null,"2013-05-17T12:21:16",75.36,{"$f":"VLOOKUP(O1183,[1]Raw!$D:$K,8)","v":11.689100266000001},8.0226104049610321]
[null,null,null,null,null,null,null,null,null,null,null,null,null,null,"2013-05-17T12:31:16",75.22,{"$f":"VLOOKUP(O1184,[1]Raw!$D:$K,8)","v":11.690500259},8.0201186491061787]
[null,null,null,null,null,null,null,null,null,null,null,null,null,null,"2013-05-17T12:41:16",75.33,{"$f":"VLOOKUP(O1185,[1]Raw!$D:$K,8)","v":11.709999084},8.0218608032429053]
[null,null,null,null,null,null,null,null,null,null,null,null,null,null,"2013-05-17T12:51:16",75.22,{"$f":"VLOOKUP(O1186,[1]Raw!$D:$K,8)","v":11.711200714},8.0199020762818574]
[null,null,null,null,null,null,null,null,null,null,null,null,null,null,"2013-05-17T13:01:16",75.78,{"$f":"VLOOKUP(O1187,[1]Raw!$D:$K,8)","v":11.810300827000001},8.0287699208645034]
[null,null,null,null,null,null,null,null,null,null,null,null,null,null,"2013-05-17T13:11:16",75.86,{"$f":"VLOOKUP(O1188,[1]Raw!$D:$K,8)","v":11.822200775000001},8.0300599371342614]
[null,null,null,null,null,null,null,null,null,null,null,null,null,null,"2013-05-17T13:21:16",76.12,{"$f":"VLOOKUP(O1189,[1]Raw!$D:$K,8)","v":11.862199782999999},8.0342378338871026]
[null,null,null,null,null,null,null,null,null,null,null,null,null,null,"2013-05-17T13:31:16",76.09,{"$f":"VLOOKUP(O1190,[1]Raw!$D:$K,8)","v":11.881200789999999},8.0335077673678867]
[null,null,null,null,null,null,null,null,null,null,null,null,null,null,"2013-05-17T13:41:16",76.31,{"$f":"VLOOKUP(O1191,[1]Raw!$D:$K,8)","v":11.919000626000001},8.037000268364153]
[null,null,null,null,null,null,null,null,null,null,null,null,null,null,"2013-05-17T13:51:16",76.319999999999993,{"$f":"VLOOKUP(O1192,[1]Raw!$D:$K,8)","v":11.927200317},8.0370908492654713]
[null,null,null,null,null,null,null,null,null,null,null,null,null,null,"2013-05-17T14:01:16",76.34,{"$f":"VLOOKUP(O1193,[1]Raw!$D:$K,8)","v":11.944200516},8.0372656785416332]
[null,null,null,null,null,null,null,null,null,null,null,null,null,null,"2013-05-17T14:11:16",76.25,{"$f":"VLOOKUP(O1194,[1]Raw!$D:$K,8)","v":11.940799713000001},8.0357104139482409]
[null,null,null,null,null,null,null,null,null,null,null,null,null,null,"2013-05-17T14:21:16",75.739999999999995,{"$f":"VLOOKUP(O1195,[1]Raw!$D:$K,8)","v":11.941400528000001},8.0266883367513415]
[null,null,null,null,null,null,null,null,null,null,null,null,null,null,"2013-05-17T14:31:18",75.790000000000006,{"$f":"VLOOKUP(O1196,[1]Raw!$D:$K,8)","v":11.984800339},8.0271174777313004]
[null,null,null,null,null,null,null,null,null,null,null,null,null,null,"2013-05-17T14:41:18",75.819999999999993,{"$f":"VLOOKUP(O1197,[1]Raw!$D:$K,8)","v":12.025100708},8.0272255046071166]
[null,null,null,null,null,null,null,null,null,null,null,null,null,null,"2013-05-17T14:51:18",76.05,{"$f":"VLOOKUP(O1198,[1]Raw!$D:$K,8)","v":12.050399779999999},8.0310248830362578]
[null,null,null,null,null,null,null,null,null,null,null,null,null,null,"2013-05-17T15:01:18",76.22,{"$f":"VLOOKUP(O1199,[1]Raw!$D:$K,8)","v":12.086299896},8.0336521370450367]
[null,null,null,null,null,null,null,null,null,null,null,null,null,null,"2013-05-17T15:11:18",76.319999999999993,{"$f":"VLOOKUP(O1200,[1]Raw!$D:$K,8)","v":12.110399246},8.035165963186639]
[null,null,null,null,null,null,null,null,null,null,null,null,null,null,"2013-05-17T15:21:18",76.510000000000005,{"$f":"VLOOKUP(O1201,[1]Raw!$D:$K,8)","v":12.164300919},8.0379562743755724]
[null,null,null,null,null,null,null,null,null,null,null,null,null,null,"2013-05-17T15:31:16",76.569999999999993,{"$f":"VLOOKUP(O1202,[1]Raw!$D:$K,8)","v":12.181900024000001},8.0388311361480529]
[null,null,null,null,null,null,null,null,null,null,null,null,null,null,"2013-05-17T15:41:16",76.62,{"$f":"VLOOKUP(O1203,[1]Raw!$D:$K,8)","v":12.194700241},8.0395797186448217]
[null,null,null,null,null,null,null,null,null,null,null,null,null,null,"2013-05-17T15:51:16",76.59,{"$f":"VLOOKUP(O1204,[1]Raw!$D:$K,8)","v":12.166599273999999},8.0393452443280413]
[null,null,null,null,null,null,null,null,null,null,null,null,null,null,"2013-05-17T16:01:16",76.58,{"$f":"VLOOKUP(O1205,[1]Raw!$D:$K,8)","v":12.161500931000001},8.0392222004207969]
[null,null,null,null,null,null,null,null,null,null,null,null,null,null,"2013-05-17T16:11:16",76.73,{"$f":"VLOOKUP(O1206,[1]Raw!$D:$K,8)","v":12.211500168000001},8.0413458523322774]
[null,null,null,null,null,null,null,null,null,null,null,null,null,null,"2013-05-17T16:21:16",76.83,{"$f":"VLOOKUP(O1207,[1]Raw!$D:$K,8)","v":12.242700577000001},8.0427836443317613]
[null,null,null,null,null,null,null,null,null,null,null,null,null,null,"2013-05-17T16:31:16",76.8,{"$f":"VLOOKUP(O1208,[1]Raw!$D:$K,8)","v":12.251300812},8.0421633908591019]
[null,null,null,null,null,null,null,null,null,null,null,null,null,null,"2013-05-17T16:41:16",76.92,{"$f":"VLOOKUP(O1209,[1]Raw!$D:$K,8)","v":12.276699066000001},8.0440150975598659]
[null,null,null,null,null,null,null,null,null,null,null,null,null,null,"2013-05-17T16:51:16",77.06,{"$f":"VLOOKUP(O1210,[1]Raw!$D:$K,8)","v":12.334999084},8.045873105728532]
[null,null,null,null,null,null,null,null,null,null,null,null,null,null,"2013-05-17T17:01:16",77.12,{"$f":"VLOOKUP(O1211,[1]Raw!$D:$K,8)","v":12.320299149},8.0470871680584715]
[null,null,null,null,null,null,null,null,null,null,null,null,null,null,"2013-05-17T17:11:16",77.099999999999994,{"$f":"VLOOKUP(O1212,[1]Raw!$D:$K,8)","v":12.381000519000001},8.0460948381133726]
[null,null,null,null,null,null,null,null,null,null,null,null,null,null,"2013-05-17T17:21:16",77.510000000000005,{"$f":"VLOOKUP(O1213,[1]Raw!$D:$K,8)","v":12.431600571000001},8.0527977075265067]
[null,null,null,null,null,null,null,null,null,null,null,null,null,null,"2013-05-17T17:31:18",77.569999999999993,{"$f":"VLOOKUP(O1214,[1]Raw!$D:$K,8)","v":12.47480011},8.0534007072079241]
[null,null,null,null,null,null,null,null,null,null,null,null,null,null,"2013-05-17T17:41:18",77.69,{"$f":"VLOOKUP(O1215,[1]Raw!$D:$K,8)","v":12.493400574000001},8.0553217272559312]
[null,null,null,null,null,null,null,null,null,null,null,null,null,null,"2013-05-17T17:51:18",77.66,{"$f":"VLOOKUP(O1216,[1]Raw!$D:$K,8)","v":12.470899581999999},8.0550299289647231]
[null,null,null,null,null,null,null,null,null,null,null,null,null,null,"2013-05-17T18:01:18",77.7,{"$f":"VLOOKUP(O1217,[1]Raw!$D:$K,8)","v":12.458499908},8.0558666718416294]
[null,null,null,null,null,null,null,null,null,null,null,null,null,null,"2013-05-17T18:11:18",77.62,{"$f":"VLOOKUP(O1218,[1]Raw!$D:$K,8)","v":12.4897995},8.054124661663792]
[null,null,null,null,null,null,null,null,null,null,null,null,null,null,"2013-05-17T18:21:18",77.59,{"$f":"VLOOKUP(O1219,[1]Raw!$D:$K,8)","v":12.539400101},8.0530721003939139]
[null,null,null,null,null,null,null,null,null,null,null,null,null,null,"2013-05-17T18:31:16",77.56,{"$f":"VLOOKUP(O1220,[1]Raw!$D:$K,8)","v":12.504400253},8.052912003744213]
[null,null,null,null,null,null,null,null,null,null,null,null,null,null,"2013-05-17T18:41:16",77.459999999999994,{"$f":"VLOOKUP(O1221,[1]Raw!$D:$K,8)","v":12.518800734999999},8.0509958918155302]
[null,null,null,null,null,null,null,null,null,null,null,null,null,null,"2013-05-17T18:51:16",77.53,{"$f":"VLOOKUP(O1222,[1]Raw!$D:$K,8)","v":12.497800827000001},8.0524523099224083]
[null,null,null,null,null,null,null,null,null,null,null,null,null,null,"2013-05-17T19:01:16",77.66,{"$f":"VLOOKUP(O1223,[1]Raw!$D:$K,8)","v":12.501800536999999},8.054703754392408]
[null,null,null,null,null,null,null,null,null,null,null,null,null,null,"2013-05-17T19:11:16",77.22,{"$f":"VLOOKUP(O1224,[1]Raw!$D:$K,8)","v":12.490299224999999},8.0470617893934815]
[null,null,null,null,null,null,null,null,null,null,null,null,null,null,"2013-05-17T19:21:16",77.02,{"$f":"VLOOKUP(O1225,[1]Raw!$D:$K,8)","v":12.454599379999999},8.043908444366739]
[null,null,null,null,null,null,null,null,null,null,null,null,null,null,"2013-05-17T19:31:17",76.900000000000006,{"$f":"VLOOKUP(O1226,[1]Raw!$D:$K,8)","v":12.388900757},8.0424816089885596]
[null,null,null,null,null,null,null,null,null,null,null,null,null,null,"2013-05-17T19:41:17",76.959999999999994,{"$f":"VLOOKUP(O1227,[1]Raw!$D:$K,8)","v":12.400999068999999},8.0434133628943911]
[null,null,null,null,null,null,null,null,null,null,null,null,null,null,"2013-05-17T19:51:17",76.94,{"$f":"VLOOKUP(O1228,[1]Raw!$D:$K,8)","v":12.402099609},8.0430487979403633]
[null,null,null,null,null,null,null,null,null,null,null,null,null,null,"2013-05-17T20:01:17",76.86,{"$f":"VLOOKUP(O1229,[1]Raw!$D:$K,8)","v":12.32570076},8.042440182321597]
[null,null,null,null,null,null,null,null,null,null,null,null,null,null,"2013-05-17T20:11:17",76.650000000000006,{"$f":"VLOOKUP(O1230,[1]Raw!$D:$K,8)","v":12.321199417000001},8.0387800935418259]
[null,null,null,null,null,null,null,null,null,null,null,null,null,null,"2013-05-17T20:21:17",76.650000000000006,{"$f":"VLOOKUP(O1231,[1]Raw!$D:$K,8)","v":12.307899474999999},8.0389198191364333]
[null,null,null,null,null,null,null,null,null,null,null,null,null,null,"2013-05-17T20:31:16",76.67,{"$f":"VLOOKUP(O1232,[1]Raw!$D:$K,8)","v":12.281400680999999},8.0395513853204168]
[null,null,null,null,null,null,null,null,null,null,null,null,null,null,"2013-05-17T20:41:16",76.84,{"$f":"VLOOKUP(O1233,[1]Raw!$D:$K,8)","v":12.298700332999999},8.0423710800542327]
[null,null,null,null,null,null,null,null,null,null,null,null,null,null,"2013-05-17T20:51:16",76.98,{"$f":"VLOOKUP(O1234,[1]Raw!$D:$K,8)","v":12.314899445},8.0446723742954518]
[null,null,null,null,null,null,null,null,null,null,null,null,null,null,"2013-05-17T21:01:16",77.11,{"$f":"VLOOKUP(O1235,[1]Raw!$D:$K,8)","v":12.341299057000001},8.0466894314135562]
[null,null,null,null,null,null,null,null,null,null,null,null,null,null,"2013-05-17T21:11:16",77.37,{"$f":"VLOOKUP(O1236,[1]Raw!$D:$K,8)","v":12.360700607},8.0510746257453096]
[null,null,null,null,null,null,null,null,null,null,null,null,null,null,"2013-05-17T21:21:16",77.319999999999993,{"$f":"VLOOKUP(O1237,[1]Raw!$D:$K,8)","v":12.390199661},8.0498810267242149]
[null,null,null,null,null,null,null,null,null,null,null,null,null,null,"2013-05-17T21:31:16",77.11,{"$f":"VLOOKUP(O1238,[1]Raw!$D:$K,8)","v":12.302999496},8.0470928643578734]
[null,null,null,null,null,null,null,null,null,null,null,null,null,null,"2013-05-17T21:41:16",76.91,{"$f":"VLOOKUP(O1239,[1]Raw!$D:$K,8)","v":12.278699874999999},8.0438174679827732]
[null,null,null,null,null,null,null,null,null,null,null,null,null,null,"2013-05-17T21:51:16",76.63,{"$f":"VLOOKUP(O1240,[1]Raw!$D:$K,8)","v":12.310499191},8.0385394039943776]
[null,null,null,null,null,null,null,null,null,null,null,null,null,null,"2013-05-17T22:01:16",76.33,{"$f":"VLOOKUP(O1241,[1]Raw!$D:$K,8)","v":12.242700577000001},8.0339539921126715]
[null,null,null,null,null,null,null,null,null,null,null,null,null,null,"2013-05-17T22:11:16",76.319999999999993,{"$f":"VLOOKUP(O1242,[1]Raw!$D:$K,8)","v":12.213699341},8.0340816703696181]
[null,null,null,null,null,null,null,null,null,null,null,null,null,null,"2013-05-17T22:21:16",76.3,{"$f":"VLOOKUP(O1243,[1]Raw!$D:$K,8)","v":12.206800461},8.0338008297027486]
[null,null,null,null,null,null,null,null,null,null,null,null,null,null,"2013-05-17T22:31:17",76.31,{"$f":"VLOOKUP(O1244,[1]Raw!$D:$K,8)","v":12.247900009},8.033546265070747]
[null,null,null,null,null,null,null,null,null,null,null,null,null,null,"2013-05-17T22:41:17",76.33,{"$f":"VLOOKUP(O1245,[1]Raw!$D:$K,8)","v":12.177999496},8.0346329392657481]
[null,null,null,null,null,null,null,null,null,null,null,null,null,null,"2013-05-17T22:51:17",76.23,{"$f":"VLOOKUP(O1246,[1]Raw!$D:$K,8)","v":12.0916996},8.0337721498204111]
[null,null,null,null,null,null,null,null,null,null,null,null,null,null,"2013-05-17T23:01:17",76.22,{"$f":"VLOOKUP(O1247,[1]Raw!$D:$K,8)","v":12.174100876000001},8.0327308691300718]
[null,null,null,null,null,null,null,null,null,null,null,null,null,null,"2013-05-17T23:11:17",76.08,{"$f":"VLOOKUP(O1248,[1]Raw!$D:$K,8)","v":12.124799727999999},8.0307747762744182]
[null,null,null,null,null,null,null,null,null,null,null,null,null,null,"2013-05-17T23:21:17",76.06,{"$f":"VLOOKUP(O1249,[1]Raw!$D:$K,8)","v":12.083099365000001},8.0308586602160315]
[null,null,null,null,null,null,null,null,null,null,null,null,null,null,"2013-05-17T23:31:16",75.989999999999995,{"$f":"VLOOKUP(O1250,[1]Raw!$D:$K,8)","v":12.054700851},8.0299195172854709]
[null,null,null,null,null,null,null,null,null,null,null,null,null,null,"2013-05-17T23:41:16",76.05,{"$f":"VLOOKUP(O1251,[1]Raw!$D:$K,8)","v":12.013399123999999},8.0314129971127031]
[null,null,null,null,null,null,null,null,null,null,null,null,null,null,"2013-05-17T23:51:16",76.209999999999994,{"$f":"VLOOKUP(O1252,[1]Raw!$D:$K,8)","v":11.975200653},8.034641920744086]
[null,null,null,null,null,null,null,null,null,null,null,null,null,null,"2013-05-18T00:01:16",76.3,{"$f":"VLOOKUP(O1253,[1]Raw!$D:$K,8)","v":11.954000473000001},8.0364555596404195]
[null,null,null,null,null,null,null,null,null,null,null,null,null,null,"2013-05-18T00:11:16",76.28,{"$f":"VLOOKUP(O1254,[1]Raw!$D:$K,8)","v":11.955499649},8.0360862605877639]
[null,null,null,null,null,null,null,null,null,null,null,null,null,null,"2013-05-18T00:21:16",76.239999999999995,{"$f":"VLOOKUP(O1255,[1]Raw!$D:$K,8)","v":11.927900314},8.035669185238687]
[null,null,null,null,null,null,null,null,null,null,null,null,null,null,"2013-05-18T00:31:16",76.25,{"$f":"VLOOKUP(O1256,[1]Raw!$D:$K,8)","v":11.917999268000001},8.0359500313611516]
[null,null,null,null,null,null,null,null,null,null,null,null,null,null,"2013-05-18T00:41:16",76.19,{"$f":"VLOOKUP(O1257,[1]Raw!$D:$K,8)","v":11.896799088},8.0351120214223855]
[null,null,null,null,null,null,null,null,null,null,null,null,null,null,"2013-05-18T00:51:16",76.099999999999994,{"$f":"VLOOKUP(O1258,[1]Raw!$D:$K,8)","v":11.867799759},8.0338253498004537]
[null,null,null,null,null,null,null,null,null,null,null,null,null,null,"2013-05-18T01:01:16",76.16,{"$f":"VLOOKUP(O1259,[1]Raw!$D:$K,8)","v":11.888599396},8.0346677490966609]
[null,null,null,null,null,null,null,null,null,null,null,null,null,null,"2013-05-18T01:11:16",76.2,{"$f":"VLOOKUP(O1260,[1]Raw!$D:$K,8)","v":11.870300293},8.0355673207659493]
[null,null,null,null,null,null,null,null,null,null,null,null,null,null,"2013-05-18T01:21:16",76.34,{"$f":"VLOOKUP(O1261,[1]Raw!$D:$K,8)","v":11.875699997},8.0379860537521814]
[null,null,null,null,null,null,null,null,null,null,null,null,null,null,"2013-05-18T01:31:16",76.33,{"$f":"VLOOKUP(O1262,[1]Raw!$D:$K,8)","v":11.86989975},8.0378702430372115]
[null,null,null,null,null,null,null,null,null,null,null,null,null,null,"2013-05-18T01:41:16",76.48,{"$f":"VLOOKUP(O1263,[1]Raw!$D:$K,8)","v":11.872400283999999},8.0404962780497033]
[null,null,null,null,null,null,null,null,null,null,null,null,null,null,"2013-05-18T01:51:16",76.430000000000007,{"$f":"VLOOKUP(O1264,[1]Raw!$D:$K,8)","v":11.861600876000001},8.0397258305303225]
[null,null,null,null,null,null,null,null,null,null,null,null,null,null,"2013-05-18T02:01:16",76.34,{"$f":"VLOOKUP(O1265,[1]Raw!$D:$K,8)","v":11.835899353},8.0384047701868493]
[null,null,null,null,null,null,null,null,null,null,null,null,null,null,"2013-05-18T02:11:16",75.91,{"$f":"VLOOKUP(O1266,[1]Raw!$D:$K,8)","v":11.796300887999999},8.0312160787480398]
[null,null,null,null,null,null,null,null,null,null,null,null,null,null,"2013-05-18T02:21:16",75.7,{"$f":"VLOOKUP(O1267,[1]Raw!$D:$K,8)","v":11.748500824000001},8.0280030834227745]
[null,null,null,null,null,null,null,null,null,null,null,null,null,null,"2013-05-18T02:31:17",75.17,{"$f":"VLOOKUP(O1268,[1]Raw!$D:$K,8)","v":11.730699539},8.0188135518390951]
[null,null,null,null,null,null,null,null,null,null,null,null,null,null,"2013-05-18T02:41:17",75.010000000000005,{"$f":"VLOOKUP(O1269,[1]Raw!$D:$K,8)","v":11.728900909},8.0160017754192623]
[null,null,null,null,null,null,null,null,null,null,null,null,null,null,"2013-05-18T02:51:17",74.83,{"$f":"VLOOKUP(O1270,[1]Raw!$D:$K,8)","v":11.711999893},8.0129937562032616]
[null,null,null,null,null,null,null,null,null,null,null,null,null,null,"2013-05-18T03:01:17",74.47,{"$f":"VLOOKUP(O1271,[1]Raw!$D:$K,8)","v":11.693700789999999},8.0068151570065798]
[null,null,null,null,null,null,null,null,null,null,null,null,null,null,"2013-05-18T03:11:17",74.489999999999995,{"$f":"VLOOKUP(O1272,[1]Raw!$D:$K,8)","v":11.672399520999999},8.0073909443767324]
[null,null,null,null,null,null,null,null,null,null,null,null,null,null,"2013-05-18T03:21:17",74.489999999999995,{"$f":"VLOOKUP(O1273,[1]Raw!$D:$K,8)","v":11.669700623000001},8.0074190643646066]
[null,null,null,null,null,null,null,null,null,null,null,null,null,null,"2013-05-18T03:31:18",74.66,{"$f":"VLOOKUP(O1274,[1]Raw!$D:$K,8)","v":11.659400939999999},8.0105346124299555]
[null,null,null,null,null,null,null,null,null,null,null,null,null,null,"2013-05-18T03:41:18",74.86,{"$f":"VLOOKUP(O1275,[1]Raw!$D:$K,8)","v":11.638900757},8.0142878035380569]
[null,null,null,null,null,null,null,null,null,null,null,null,null,null,"2013-05-18T03:51:18",75.3,{"$f":"VLOOKUP(O1276,[1]Raw!$D:$K,8)","v":11.668600081999999},8.0217633999451916]
[null,null,null,null,null,null,null,null,null,null,null,null,null,null,"2013-05-18T04:01:18",75.69,{"$f":"VLOOKUP(O1277,[1]Raw!$D:$K,8)","v":11.689500809},8.0284450990213703]
[null,null,null,null,null,null,null,null,null,null,null,null,null,null,"2013-05-18T04:11:18",76.03,{"$f":"VLOOKUP(O1278,[1]Raw!$D:$K,8)","v":11.706800461},8.0342790568154925]
[null,null,null,null,null,null,null,null,null,null,null,null,null,null,"2013-05-18T04:21:18",76.319999999999993,{"$f":"VLOOKUP(O1279,[1]Raw!$D:$K,8)","v":11.718799591},8.0392835427643785]
[null,null,null,null,null,null,null,null,null,null,null,null,null,null,"2013-05-18T04:31:16",76.53,{"$f":"VLOOKUP(O1280,[1]Raw!$D:$K,8)","v":11.748800277999999},8.0426825750252835]
[null,null,null,null,null,null,null,null,null,null,null,null,null,null,"2013-05-18T04:41:16",77,{"$f":"VLOOKUP(O1281,[1]Raw!$D:$K,8)","v":11.789699554},8.050564625055463]
[null,null,null,null,null,null,null,null,null,null,null,null,null,null,"2013-05-18T04:51:16",77.400000000000006,{"$f":"VLOOKUP(O1282,[1]Raw!$D:$K,8)","v":11.819299698},8.0573261135808902]
[null,null,null,null,null,null,null,null,null,null,null,null,null,null,"2013-05-18T05:01:16",77.91,{"$f":"VLOOKUP(O1283,[1]Raw!$D:$K,8)","v":11.860700607},8.0659061066940136]
[null,null,null,null,null,null,null,null,null,null,null,null,null,null,"2013-05-18T05:11:16",78.09,{"$f":"VLOOKUP(O1284,[1]Raw!$D:$K,8)","v":11.874500275000001},8.0689423784163115]
[null,null,null,null,null,null,null,null,null,null,null,null,null,null,"2013-05-18T05:21:16",78.25,{"$f":"VLOOKUP(O1285,[1]Raw!$D:$K,8)","v":11.936399460000001},8.0711132103979235]
[null,null,null,null,null,null,null,null,null,null,null,null,null,null,"2013-05-18T05:31:16",78.37,{"$f":"VLOOKUP(O1286,[1]Raw!$D:$K,8)","v":11.964199066000001},8.0729388370972703]
[null,null,null,null,null,null,null,null,null,null,null,null,null,null,"2013-05-18T05:41:16",77.67,{"$f":"VLOOKUP(O1287,[1]Raw!$D:$K,8)","v":11.898500443},8.0612614735534471]
[null,null,null,null,null,null,null,null,null,null,null,null,null,null,"2013-05-18T05:51:16",77.64,{"$f":"VLOOKUP(O1288,[1]Raw!$D:$K,8)","v":11.877000809},8.0609589212759882]
[null,null,null,null,null,null,null,null,null,null,null,null,null,null,"2013-05-18T06:01:16",77.39,{"$f":"VLOOKUP(O1289,[1]Raw!$D:$K,8)","v":11.851900101},8.0568041179713799]
[null,null,null,null,null,null,null,null,null,null,null,null,null,null,"2013-05-18T06:11:16",77.34,{"$f":"VLOOKUP(O1290,[1]Raw!$D:$K,8)","v":11.897899627999999},8.055433222380687]
[null,null,null,null,null,null,null,null,null,null,null,null,null,null,"2013-05-18T06:21:16",78.17,{"$f":"VLOOKUP(O1291,[1]Raw!$D:$K,8)","v":11.99189949},8.0691092156449837]
[null,null,null,null,null,null,null,null,null,null,null,null,null,null,"2013-05-18T06:31:16",78.89,{"$f":"VLOOKUP(O1292,[1]Raw!$D:$K,8)","v":12.031400680999999},8.0814137434130249]
[null,null,null,null,null,null,null,null,null,null,null,null,null,null,"2013-05-18T06:41:16",79.510000000000005,{"$f":"VLOOKUP(O1293,[1]Raw!$D:$K,8)","v":12.041099548},8.0922668129323689]
[null,null,null,null,null,null,null,null,null,null,null,null,null,null,"2013-05-18T06:51:16",79.75,{"$f":"VLOOKUP(O1294,[1]Raw!$D:$K,8)","v":12.043699265000001},8.0964801785448639]
[null,null,null,null,null,null,null,null,null,null,null,null,null,null,"2013-05-18T07:01:16",79.83,{"$f":"VLOOKUP(O1295,[1]Raw!$D:$K,8)","v":12.005599975999999},8.0983024919570479]
[null,null,null,null,null,null,null,null,null,null,null,null,null,null,"2013-05-18T07:11:16",80.13,{"$f":"VLOOKUP(O1296,[1]Raw!$D:$K,8)","v":11.989999771000001},8.1037723091401173]
[null,null,null,null,null,null,null,null,null,null,null,null,null,null,"2013-05-18T07:21:16",80.41,{"$f":"VLOOKUP(O1297,[1]Raw!$D:$K,8)","v":11.973899841},8.1088945854382946]
[null,null,null,null,null,null,null,null,null,null,null,null,null,null,"2013-05-18T07:31:16",80.150000000000006,{"$f":"VLOOKUP(O1298,[1]Raw!$D:$K,8)","v":11.9375},8.1046901068534911]
[null,null,null,null,null,null,null,null,null,null,null,null,null,null,"2013-05-18T07:41:16",79.94,{"$f":"VLOOKUP(O1299,[1]Raw!$D:$K,8)","v":11.897399902},8.1014083201881135]
[null,null,null,null,null,null,null,null,null,null,null,null,null,null,"2013-05-18T07:51:16",79.86,{"$f":"VLOOKUP(O1300,[1]Raw!$D:$K,8)","v":11.868000030999999},8.1003095225241903]
[null,null,null,null,null,null,null,null,null,null,null,null,null,null,"2013-05-18T08:01:16",79.900000000000006,{"$f":"VLOOKUP(O1301,[1]Raw!$D:$K,8)","v":11.865999221999999},8.101038312787626]
[null,null,null,null,null,null,null,null,null,null,null,null,null,null,"2013-05-18T08:11:16",79.760000000000005,{"$f":"VLOOKUP(O1302,[1]Raw!$D:$K,8)","v":11.842899322999999},8.0988106654585099]
[null,null,null,null,null,null,null,null,null,null,null,null,null,null,"2013-05-18T08:21:16",79.81,{"$f":"VLOOKUP(O1303,[1]Raw!$D:$K,8)","v":11.828800201},8.0998462536417666]
[null,null,null,null,null,null,null,null,null,null,null,null,null,null,"2013-05-18T08:31:18",79.77,{"$f":"VLOOKUP(O1304,[1]Raw!$D:$K,8)","v":11.792600631999999},8.099527514246617]
[null,null,null,null,null,null,null,null,null,null,null,null,null,null,"2013-05-18T08:41:18",79.650000000000006,{"$f":"VLOOKUP(O1305,[1]Raw!$D:$K,8)","v":11.772399902},8.0976218290499098]
[null,null,null,null,null,null,null,null,null,null,null,null,null,null,"2013-05-18T08:51:18",79.38,{"$f":"VLOOKUP(O1306,[1]Raw!$D:$K,8)","v":11.725599289},8.0933475084102895]
[null,null,null,null,null,null,null,null,null,null,null,null,null,null,"2013-05-18T09:01:18",79.03,{"$f":"VLOOKUP(O1307,[1]Raw!$D:$K,8)","v":11.694099425999999},8.08749252446664]
[null,null,null,null,null,null,null,null,null,null,null,null,null,null,"2013-05-18T09:11:18",78.459999999999994,{"$f":"VLOOKUP(O1308,[1]Raw!$D:$K,8)","v":11.648300171000001},8.0778958152179428]
[null,null,null,null,null,null,null,null,null,null,null,null,null,null,"2013-05-18T09:21:18",77.760000000000005,{"$f":"VLOOKUP(O1309,[1]Raw!$D:$K,8)","v":11.590299606},8.0661248208716376]
[null,null,null,null,null,null,null,null,null,null,null,null,null,null,"2013-05-18T09:31:16",77.19,{"$f":"VLOOKUP(O1310,[1]Raw!$D:$K,8)","v":11.5625},8.0563304590778753]
[null,null,null,null,null,null,null,null,null,null,null,null,null,null,"2013-05-18T09:41:16",77.2,{"$f":"VLOOKUP(O1311,[1]Raw!$D:$K,8)","v":11.633199692},8.0557585615002409]
[null,null,null,null,null,null,null,null,null,null,null,null,null,null,"2013-05-18T09:51:16",77.52,{"$f":"VLOOKUP(O1312,[1]Raw!$D:$K,8)","v":11.684099197},8.0608816797476432]
[null,null,null,null,null,null,null,null,null,null,null,null,null,null,"2013-05-18T10:01:16",77.56,{"$f":"VLOOKUP(O1313,[1]Raw!$D:$K,8)","v":11.723899841},8.061167258465229]
[null,null,null,null,null,null,null,null,null,null,null,null,null,null,"2013-05-18T10:11:16",77.599999999999994,{"$f":"VLOOKUP(O1314,[1]Raw!$D:$K,8)","v":11.73679924},8.0617380820832736]
[null,null,null,null,null,null,null,null,null,null,null,null,null,null,"2013-05-18T10:21:16",77.56,{"$f":"VLOOKUP(O1315,[1]Raw!$D:$K,8)","v":11.747600555},8.0609159130903389]
[null,null,null,null,null,null,null,null,null,null,null,null,null,null,"2013-05-18T10:31:16",77.41,{"$f":"VLOOKUP(O1316,[1]Raw!$D:$K,8)","v":11.783800125000001},8.057878936572072]
[null,null,null,null,null,null,null,null,null,null,null,null,null,null,"2013-05-18T10:41:16",77.319999999999993,{"$f":"VLOOKUP(O1317,[1]Raw!$D:$K,8)","v":11.773700714},8.0563939606246233]
[null,null,null,null,null,null,null,null,null,null,null,null,null,null,"2013-05-18T10:51:16",77.040000000000006,{"$f":"VLOOKUP(O1318,[1]Raw!$D:$K,8)","v":11.788299561000001},8.0512869163790821]
[null,null,null,null,null,null,null,null,null,null,null,null,null,null,"2013-05-18T11:01:16",77.28,{"$f":"VLOOKUP(O1319,[1]Raw!$D:$K,8)","v":11.787200928000001},8.0555435359250875]
[null,null,null,null,null,null,null,null,null,null,null,null,null,null,"2013-05-18T11:11:16",77.06,{"$f":"VLOOKUP(O1320,[1]Raw!$D:$K,8)","v":11.788099289},8.0516427825869066]
[null,null,null,null,null,null,null,null,null,null,null,null,null,null,"2013-05-18T11:21:16",76.75,{"$f":"VLOOKUP(O1321,[1]Raw!$D:$K,8)","v":11.787399292},8.0461670497080728]
[null,null,null,null,null,null,null,null,null,null,null,null,null,null,"2013-05-18T11:31:17",76.42,{"$f":"VLOOKUP(O1322,[1]Raw!$D:$K,8)","v":11.8022995},8.0401732710126605]
[null,null,null,null,null,null,null,null,null,null,null,null,null,null,"2013-05-18T11:41:17",80.959999999999994,{"$f":"VLOOKUP(O1323,[1]Raw!$D:$K,8)","v":12.236700058},8.1157812448795887]
[null,null,null,null,null,null,null,null,null,null,null,null,null,null,"2013-05-18T11:51:17",81.680000000000007,{"$f":"VLOOKUP(O1324,[1]Raw!$D:$K,8)","v":12.297199249},8.1278415845358669]
[null,null,null,null,null,null,null,null,null,null,null,null,null,null,"2013-05-18T12:01:17",81.98,{"$f":"VLOOKUP(O1325,[1]Raw!$D:$K,8)","v":12.359699249},8.1324612197570456]
[null,null,null,null,null,null,null,null,null,null,null,null,null,null,"2013-05-18T12:11:17",82.82,{"$f":"VLOOKUP(O1326,[1]Raw!$D:$K,8)","v":12.432199477999999},8.1465000735214463]
[null,null,null,null,null,null,null,null,null,null,null,null,null,null,"2013-05-18T12:21:17",83.12,{"$f":"VLOOKUP(O1327,[1]Raw!$D:$K,8)","v":12.466800689999999},8.1514173495702202]
[null,null,null,null,null,null,null,null,null,null,null,null,null,null,"2013-05-18T12:31:18",84.15,{"$f":"VLOOKUP(O1328,[1]Raw!$D:$K,8)","v":12.565099716000001},8.1685153829878221]
[null,null,null,null,null,null,null,null,null,null,null,null,null,null,"2013-05-18T12:41:18",83.83,{"$f":"VLOOKUP(O1329,[1]Raw!$D:$K,8)","v":12.556499480999999},8.1629647905552947]
[null,null,null,null,null,null,null,null,null,null,null,null,null,null,"2013-05-18T12:51:18",84.81,{"$f":"VLOOKUP(O1330,[1]Raw!$D:$K,8)","v":12.6439991},8.179290421389986]
[null,null,null,null,null,null,null,null,null,null,null,null,null,null,"2013-05-18T13:01:18",83.97,{"$f":"VLOOKUP(O1331,[1]Raw!$D:$K,8)","v":12.566400528000001},8.1653260651665569]
[null,null,null,null,null,null,null,null,null,null,null,null,null,null,"2013-05-18T13:11:18",84.52,{"$f":"VLOOKUP(O1332,[1]Raw!$D:$K,8)","v":12.63310051},8.1742959448565831]
[null,null,null,null,null,null,null,null,null,null,null,null,null,null,"2013-05-18T13:21:18",84.32,{"$f":"VLOOKUP(O1333,[1]Raw!$D:$K,8)","v":12.642299652},8.1706681296397221]
[null,null,null,null,null,null,null,null,null,null,null,null,null,null,"2013-05-18T13:31:17",84.56,{"$f":"VLOOKUP(O1334,[1]Raw!$D:$K,8)","v":12.649000168000001},8.1748269356277703]
[null,null,null,null,null,null,null,null,null,null,null,null,null,null,"2013-05-18T13:41:17",84.94,{"$f":"VLOOKUP(O1335,[1]Raw!$D:$K,8)","v":12.680599213000001},8.181180612265937]
[null,null,null,null,null,null,null,null,null,null,null,null,null,null,"2013-05-18T13:51:17",84.9,{"$f":"VLOOKUP(O1336,[1]Raw!$D:$K,8)","v":12.695299149},8.1803138111666538]
[null,null,null,null,null,null,null,null,null,null,null,null,null,null,"2013-05-18T14:01:17",85.19,{"$f":"VLOOKUP(O1337,[1]Raw!$D:$K,8)","v":12.705200195},8.1853179482223144]
[null,null,null,null,null,null,null,null,null,null,null,null,null,null,"2013-05-18T14:11:17",84.91,{"$f":"VLOOKUP(O1338,[1]Raw!$D:$K,8)","v":12.680500030999999},8.1806527346156592]
[null,null,null,null,null,null,null,null,null,null,null,null,null,null,"2013-05-18T14:21:17",85.12,{"$f":"VLOOKUP(O1339,[1]Raw!$D:$K,8)","v":12.669399261000001},8.1844776365052851]
[null,null,null,null,null,null,null,null,null,null,null,null,null,null,"2013-05-18T14:31:16",88.2,{"$f":"VLOOKUP(O1340,[1]Raw!$D:$K,8)","v":12.857700348},8.2366809769464417]
[null,null,null,null,null,null,null,null,null,null,null,null,null,null,"2013-05-18T14:41:16",91.17,{"$f":"VLOOKUP(O1341,[1]Raw!$D:$K,8)","v":13.593399048},8.2806798987423438]
[null,null,null,null,null,null,null,null,null,null,null,null,null,null,"2013-05-18T14:51:16",91.82,{"$f":"VLOOKUP(O1342,[1]Raw!$D:$K,8)","v":13.803600311},8.2897220031758767]
[null,null,null,null,null,null,null,null,null,null,null,null,null,null,"2013-05-18T15:01:16",91.83,{"$f":"VLOOKUP(O1343,[1]Raw!$D:$K,8)","v":13.813800812},8.289782107991611]
[null,null,null,null,null,null,null,null,null,null,null,null,null,null,"2013-05-18T15:11:16",91.47,{"$f":"VLOOKUP(O1344,[1]Raw!$D:$K,8)","v":14.000200272000001},8.2813540126650675]
[null,null,null,null,null,null,null,null,null,null,null,null,null,null,"2013-05-18T15:21:16",91.47,{"$f":"VLOOKUP(O1345,[1]Raw!$D:$K,8)","v":14.065500259},8.2806170362631466]
[null,null,null,null,null,null,null,null,null,null,null,null,null,null,"2013-05-18T15:31:16",91.49,{"$f":"VLOOKUP(O1346,[1]Raw!$D:$K,8)","v":14.086799621999999},8.2807276424684186]
[null,null,null,null,null,null,null,null,null,null,null,null,null,null,"2013-05-18T15:41:16",91.47,{"$f":"VLOOKUP(O1347,[1]Raw!$D:$K,8)","v":14.147100449},8.2796965664768312]
[null,null,null,null,null,null,null,null,null,null,null,null,null,null,"2013-05-18T15:51:16",91.46,{"$f":"VLOOKUP(O1348,[1]Raw!$D:$K,8)","v":14.148099899},8.2795098738258268]
[null,null,null,null,null,null,null,null,null,null,null,null,null,null,"2013-05-18T16:01:16",91.58,{"$f":"VLOOKUP(O1349,[1]Raw!$D:$K,8)","v":14.166099548},8.281411846631519]
[null,null,null,null,null,null,null,null,null,null,null,null,null,null,"2013-05-18T16:11:16",91.37,{"$f":"VLOOKUP(O1350,[1]Raw!$D:$K,8)","v":14.255199432},8.2767244239085791]
[null,null,null,null,null,null,null,null,null,null,null,null,null,null,"2013-05-18T16:21:16",91.05,{"$f":"VLOOKUP(O1351,[1]Raw!$D:$K,8)","v":14.320699692},8.2703767693339714]
[null,null,null,null,null,null,null,null,null,null,null,null,null,null,"2013-05-18T16:31:16",91.08,{"$f":"VLOOKUP(O1352,[1]Raw!$D:$K,8)","v":14.343900680999999},8.2706419692913684]
[null,null,null,null,null,null,null,null,null,null,null,null,null,null,"2013-05-18T16:41:16",91.01,{"$f":"VLOOKUP(O1353,[1]Raw!$D:$K,8)","v":14.405500412},8.2687230169404788]
[null,null,null,null,null,null,null,null,null,null,null,null,null,null,"2013-05-18T16:51:16",91.05,{"$f":"VLOOKUP(O1354,[1]Raw!$D:$K,8)","v":14.441299438},8.2690220610150345]
[null,null,null,null,null,null,null,null,null,null,null,null,null,null,"2013-05-18T17:01:16",91.15,{"$f":"VLOOKUP(O1355,[1]Raw!$D:$K,8)","v":14.437700272000001},8.2708149264000337]
[null,null,null,null,null,null,null,null,null,null,null,null,null,null,"2013-05-18T17:11:16",91.18,{"$f":"VLOOKUP(O1356,[1]Raw!$D:$K,8)","v":14.435499191},8.2713653948450823]
[null,null,null,null,null,null,null,null,null,null,null,null,null,null,"2013-05-18T17:21:16",91.18,{"$f":"VLOOKUP(O1357,[1]Raw!$D:$K,8)","v":14.424600601},8.2714878643104317]
[null,null,null,null,null,null,null,null,null,null,null,null,null,null,"2013-05-18T17:31:17",91.14,{"$f":"VLOOKUP(O1358,[1]Raw!$D:$K,8)","v":14.324600220000001},8.2719107639191218]
[null,null,null,null,null,null,null,null,null,null,null,null,null,null,"2013-05-18T17:41:17",91.16,{"$f":"VLOOKUP(O1359,[1]Raw!$D:$K,8)","v":14.419200897},8.271198032259317]
[null,null,null,null,null,null,null,null,null,null,null,null,null,null,"2013-05-18T17:51:17",91.01,{"$f":"VLOOKUP(O1360,[1]Raw!$D:$K,8)","v":14.406200409},8.2687151568741228]
[null,null,null,null,null,null,null,null,null,null,null,null,null,null,"2013-05-18T18:01:17",91.02,{"$f":"VLOOKUP(O1361,[1]Raw!$D:$K,8)","v":14.322999954},8.2698249742562755]
[null,null,null,null,null,null,null,null,null,null,null,null,null,null,"2013-05-18T18:11:17",90.91,{"$f":"VLOOKUP(O1362,[1]Raw!$D:$K,8)","v":14.404899597},8.266977111390986]
[null,null,null,null,null,null,null,null,null,null,null,null,null,null,"2013-05-18T18:21:17",90.61,{"$f":"VLOOKUP(O1363,[1]Raw!$D:$K,8)","v":14.386400223000001},8.2619264433904025]
[null,null,null,null,null,null,null,null,null,null,null,null,null,null,"2013-05-18T18:31:16",90.75,{"$f":"VLOOKUP(O1364,[1]Raw!$D:$K,8)","v":14.362699509},8.2646461248282179]
[null,null,null,null,null,null,null,null,null,null,null,null,null,null,"2013-05-18T18:41:16",90.72,{"$f":"VLOOKUP(O1365,[1]Raw!$D:$K,8)","v":14.410200119000001},8.263587649010919]
[null,null,null,null,null,null,null,null,null,null,null,null,null,null,"2013-05-18T18:51:16",89.64,{"$f":"VLOOKUP(O1366,[1]Raw!$D:$K,8)","v":13.914699554},8.2501911810981348]
[null,null,null,null,null,null,null,null,null,null,null,null,null,null,"2013-05-18T19:01:16",89.61,{"$f":"VLOOKUP(O1367,[1]Raw!$D:$K,8)","v":13.951200484999999},8.2492564025994692]
[null,null,null,null,null,null,null,null,null,null,null,null,null,null,"2013-05-18T19:11:16",90.53,{"$f":"VLOOKUP(O1368,[1]Raw!$D:$K,8)","v":14.287200928000001},8.2616357437733789]
[null,null,null,null,null,null,null,null,null,null,null,null,null,null,"2013-05-18T19:21:16",89.95,{"$f":"VLOOKUP(O1369,[1]Raw!$D:$K,8)","v":13.757400513},8.257396763933313]
[null,null,null,null,null,null,null,null,null,null,null,null,null,null,"2013-05-18T19:31:16",90.79,{"$f":"VLOOKUP(O1370,[1]Raw!$D:$K,8)","v":14.286100387999999},8.2662068579406451]
[null,null,null,null,null,null,null,null,null,null,null,null,null,null,"2013-05-18T19:41:16",90.18,{"$f":"VLOOKUP(O1371,[1]Raw!$D:$K,8)","v":13.797100067000001},8.2609912477595895]
[null,null,null,null,null,null,null,null,null,null,null,null,null,null,"2013-05-18T19:51:16",90.55,{"$f":"VLOOKUP(O1372,[1]Raw!$D:$K,8)","v":13.940099716000001},8.2658821010183328]
[null,null,null,null,null,null,null,null,null,null,null,null,null,null,"2013-05-18T20:01:16",90.13,{"$f":"VLOOKUP(O1373,[1]Raw!$D:$K,8)","v":13.678600311},8.2614434837373345]
[null,null,null,null,null,null,null,null,null,null,null,null,null,null,"2013-05-18T20:11:16",88.63,{"$f":"VLOOKUP(O1374,[1]Raw!$D:$K,8)","v":13.481899261000001},8.2372798737767461]
[null,null,null,null,null,null,null,null,null,null,null,null,null,null,"2013-05-18T20:21:16",85.39,{"$f":"VLOOKUP(O1375,[1]Raw!$D:$K,8)","v":13.289499283},8.1824205315679279]
[null,null,null,null,null,null,null,null,null,null,null,null,null,null,"2013-05-18T20:31:16",86.4,{"$f":"VLOOKUP(O1376,[1]Raw!$D:$K,8)","v":13.3022995},8.2000500259099454]
[null,null,null,null,null,null,null,null,null,null,null,null,null,null,"2013-05-18T20:41:16",84.6,{"$f":"VLOOKUP(O1377,[1]Raw!$D:$K,8)","v":13.128700256},8.1702780059202151]
[null,null,null,null,null,null,null,null,null,null,null,null,null,null,"2013-05-18T20:51:16",83.78,{"$f":"VLOOKUP(O1378,[1]Raw!$D:$K,8)","v":13.044900894},8.1567545748849817]
[null,null,null,null,null,null,null,null,null,null,null,null,null,null,"2013-05-18T21:01:16",83.15,{"$f":"VLOOKUP(O1379,[1]Raw!$D:$K,8)","v":12.977600098},8.1463909259919784]
[null,null,null,null,null,null,null,null,null,null,null,null,null,null,"2013-05-18T21:11:16",82.96,{"$f":"VLOOKUP(O1380,[1]Raw!$D:$K,8)","v":12.975999831999999},8.1430616317712001]
[null,null,null,null,null,null,null,null,null,null,null,null,null,null,"2013-05-18T21:21:16",82.94,{"$f":"VLOOKUP(O1381,[1]Raw!$D:$K,8)","v":12.900999068999999},8.1435229044641808]
[null,null,null,null,null,null,null,null,null,null,null,null,null,null,"2013-05-18T21:31:16",82.44,{"$f":"VLOOKUP(O1382,[1]Raw!$D:$K,8)","v":12.669700623000001},8.1372180889975745]
[null,null,null,null,null,null,null,null,null,null,null,null,null,null,"2013-05-18T21:41:16",81.8,{"$f":"VLOOKUP(O1383,[1]Raw!$D:$K,8)","v":12.479999542},8.1279826487491444]
[null,null,null,null,null,null,null,null,null,null,null,null,null,null,"2013-05-18T21:51:16",80.739999999999995,{"$f":"VLOOKUP(O1384,[1]Raw!$D:$K,8)","v":12.352100372000001},8.1106543858257432]
[null,null,null,null,null,null,null,null,null,null,null,null,null,null,"2013-05-18T22:01:16",80.67,{"$f":"VLOOKUP(O1385,[1]Raw!$D:$K,8)","v":12.369600296},8.1092305689017774]
[null,null,null,null,null,null,null,null,null,null,null,null,null,null,"2013-05-18T22:11:16",80.64,{"$f":"VLOOKUP(O1386,[1]Raw!$D:$K,8)","v":12.406799316000001},8.1083012492484237]
[null,null,null,null,null,null,null,null,null,null,null,null,null,null,"2013-05-18T22:21:16",81.31,{"$f":"VLOOKUP(O1387,[1]Raw!$D:$K,8)","v":12.355199814000001},8.1206828862980025]
[null,null,null,null,null,null,null,null,null,null,null,null,null,null,"2013-05-18T22:31:17",82.16,{"$f":"VLOOKUP(O1388,[1]Raw!$D:$K,8)","v":12.311300277999999},8.1361634744379465]
[null,null,null,null,null,null,null,null,null,null,null,null,null,null,"2013-05-18T22:41:17",83.45,{"$f":"VLOOKUP(O1389,[1]Raw!$D:$K,8)","v":12.287200928000001},8.1592018472825885]
[null,null,null,null,null,null,null,null,null,null,null,null,null,null,"2013-05-18T22:51:17",83.13,{"$f":"VLOOKUP(O1390,[1]Raw!$D:$K,8)","v":12.276399612000001},8.1536695823657031]
[null,null,null,null,null,null,null,null,null,null,null,null,null,null,"2013-05-18T23:01:17",83.31,{"$f":"VLOOKUP(O1391,[1]Raw!$D:$K,8)","v":12.253900528000001},8.1570936034582395]
[null,null,null,null,null,null,null,null,null,null,null,null,null,null,"2013-05-18T23:11:17",83.96,{"$f":"VLOOKUP(O1392,[1]Raw!$D:$K,8)","v":12.219800949},8.1689455615852147]
[null,null,null,null,null,null,null,null,null,null,null,null,null,null,"2013-05-18T23:21:17",83.06,{"$f":"VLOOKUP(O1393,[1]Raw!$D:$K,8)","v":12.133300781000001},8.1539948635892365]
[null,null,null,null,null,null,null,null,null,null,null,null,null,null,"2013-05-18T23:31:16",83.1,{"$f":"VLOOKUP(O1394,[1]Raw!$D:$K,8)","v":12.097099304},8.1550968225345137]
[null,null,null,null,null,null,null,null,null,null,null,null,null,null,"2013-05-18T23:41:16",83.17,{"$f":"VLOOKUP(O1395,[1]Raw!$D:$K,8)","v":12.098800659},8.156315016604001]
[null,null,null,null,null,null,null,null,null,null,null,null,null,null,"2013-05-18T23:51:16",82.48,{"$f":"VLOOKUP(O1396,[1]Raw!$D:$K,8)","v":12.122100830000001},8.1438704006987752]
[null,null,null,null,null,null,null,null,null,null,null,null,null,null,"2013-05-19T00:01:16",82.81,{"$f":"VLOOKUP(O1397,[1]Raw!$D:$K,8)","v":12.073099136},8.1502347133839983]
[null,null,null,null,null,null,null,null,null,null,null,null,null,null,"2013-05-19T00:11:16",83.01,{"$f":"VLOOKUP(O1398,[1]Raw!$D:$K,8)","v":12.068899155},8.1538145285114503]
[null,null,null,null,null,null,null,null,null,null,null,null,null,null,"2013-05-19T00:21:16",82.42,{"$f":"VLOOKUP(O1399,[1]Raw!$D:$K,8)","v":12.044000626000001},8.1436601419956087]
[null,null,null,null,null,null,null,null,null,null,null,null,null,null,"2013-05-19T00:31:17",81.96,{"$f":"VLOOKUP(O1400,[1]Raw!$D:$K,8)","v":12.01499939},8.1358460339744223]
[null,null,null,null,null,null,null,null,null,null,null,null,null,null,"2013-05-19T00:41:17",81.63,{"$f":"VLOOKUP(O1401,[1]Raw!$D:$K,8)","v":12.020200729000001},8.129957447217814]
[null,null,null,null,null,null,null,null,null,null,null,null,null,null,"2013-05-19T00:51:17",80.81,{"$f":"VLOOKUP(O1402,[1]Raw!$D:$K,8)","v":11.943199158000001},8.1162962239783045]
[null,null,null,null,null,null,null,null,null,null,null,null,null,null,"2013-05-19T01:01:17",81.790000000000006,{"$f":"VLOOKUP(O1403,[1]Raw!$D:$K,8)","v":12.058700562},8.1323676286564819]
[null,null,null,null,null,null,null,null,null,null,null,null,null,null,"2013-05-19T01:11:17",80.61,{"$f":"VLOOKUP(O1404,[1]Raw!$D:$K,8)","v":11.974300384999999},8.1124254595961869]
[null,null,null,null,null,null,null,null,null,null,null,null,null,null,"2013-05-19T01:21:17",81,{"$f":"VLOOKUP(O1405,[1]Raw!$D:$K,8)","v":12.085899353},8.1181142194044646]
[null,null,null,null,null,null,null,null,null,null,null,null,null,null,"2013-05-19T01:31:18",80.349999999999994,{"$f":"VLOOKUP(O1406,[1]Raw!$D:$K,8)","v":11.978500366},8.1077845263853003]
[null,null,null,null,null,null,null,null,null,null,null,null,null,null,"2013-05-19T01:41:18",81.38,{"$f":"VLOOKUP(O1407,[1]Raw!$D:$K,8)","v":12.13999939},8.124243431685489]
[null,null,null,null,null,null,null,null,null,null,null,null,null,null,"2013-05-19T01:51:18",81.069999999999993,{"$f":"VLOOKUP(O1408,[1]Raw!$D:$K,8)","v":12.082300185999999},8.1193899087142629]
[null,null,null,null,null,null,null,null,null,null,null,null,null,null,"2013-05-19T02:01:18",83.31,{"$f":"VLOOKUP(O1409,[1]Raw!$D:$K,8)","v":12.354299545},8.155997404413263]
[null,null,null,null,null,null,null,null,null,null,null,null,null,null,"2013-05-19T02:11:18",82.27,{"$f":"VLOOKUP(O1410,[1]Raw!$D:$K,8)","v":12.183300018000001},8.1394954117589755]
[null,null,null,null,null,null,null,null,null,null,null,null,null,null,"2013-05-19T02:21:18",83.04,{"$f":"VLOOKUP(O1411,[1]Raw!$D:$K,8)","v":12.442899704},8.1502660006440486]
[null,null,null,null,null,null,null,null,null,null,null,null,null,null,"2013-05-19T02:31:16",83.26,{"$f":"VLOOKUP(O1412,[1]Raw!$D:$K,8)","v":12.498500824000001},8.1535421273750242]
[null,null,null,null,null,null,null,null,null,null,null,null,null,null,"2013-05-19T02:41:16",84.1,{"$f":"VLOOKUP(O1413,[1]Raw!$D:$K,8)","v":12.563699722000001},8.1676487402685893]
[null,null,null,null,null,null,null,null,null,null,null,null,null,null,"2013-05-19T02:51:16",87.9,{"$f":"VLOOKUP(O1414,[1]Raw!$D:$K,8)","v":13.096399307},8.2287331585306145]
[null,null,null,null,null,null,null,null,null,null,null,null,null,null,"2013-05-19T03:01:16",88.49,{"$f":"VLOOKUP(O1415,[1]Raw!$D:$K,8)","v":13.056400299},8.2395681932498714]
[null,null,null,null,null,null,null,null,null,null,null,null,null,null,"2013-05-19T03:11:16",88.93,{"$f":"VLOOKUP(O1416,[1]Raw!$D:$K,8)","v":13.13010025},8.2464904628465892]
[null,null,null,null,null,null,null,null,null,null,null,null,null,null,"2013-05-19T03:21:16",88.89,{"$f":"VLOOKUP(O1417,[1]Raw!$D:$K,8)","v":13.113300323000001},8.2459744277414622]
[null,null,null,null,null,null,null,null,null,null,null,null,null,null,"2013-05-19T03:31:17",88.63,{"$f":"VLOOKUP(O1418,[1]Raw!$D:$K,8)","v":13.159200668},8.2408837064458549]
[null,null,null,null,null,null,null,null,null,null,null,null,null,null,"2013-05-19T03:41:17",87.99,{"$f":"VLOOKUP(O1419,[1]Raw!$D:$K,8)","v":13.084400176999999},8.2304515029252912]
[null,null,null,null,null,null,null,null,null,null,null,null,null,null,"2013-05-19T03:51:17",88.4,{"$f":"VLOOKUP(O1420,[1]Raw!$D:$K,8)","v":13.169000626000001},8.2367256431002254]
[null,null,null,null,null,null,null,null,null,null,null,null,null,null,"2013-05-19T04:01:17",88.18,{"$f":"VLOOKUP(O1421,[1]Raw!$D:$K,8)","v":13.119100571000001},8.2334097452031525]
[null,null,null,null,null,null,null,null,null,null,null,null,null,null,"2013-05-19T04:11:17",88.37,{"$f":"VLOOKUP(O1422,[1]Raw!$D:$K,8)","v":13.162599564000001},8.2362690386313986]
[null,null,null,null,null,null,null,null,null,null,null,null,null,null,"2013-05-19T04:21:17",88.64,{"$f":"VLOOKUP(O1423,[1]Raw!$D:$K,8)","v":13.150299071999999},8.2411592660395954]
[null,null,null,null,null,null,null,null,null,null,null,null,null,null,"2013-05-19T04:31:16",89.15,{"$f":"VLOOKUP(O1424,[1]Raw!$D:$K,8)","v":13.238899231},8.2491437897599482]
[null,null,null,null,null,null,null,null,null,null,null,null,null,null,"2013-05-19T04:41:16",88.85,{"$f":"VLOOKUP(O1425,[1]Raw!$D:$K,8)","v":13.170299529999999},8.2446320821983115]
[null,null,null,null,null,null,null,null,null,null,null,null,null,null,"2013-05-19T04:51:16",89.97,{"$f":"VLOOKUP(O1426,[1]Raw!$D:$K,8)","v":13.330900192},8.2625387722846639]
[null,null,null,null,null,null,null,null,null,null,null,null,null,null,"2013-05-19T05:01:16",89.04,{"$f":"VLOOKUP(O1427,[1]Raw!$D:$K,8)","v":13.165100098},8.2480347391552087]
[null,null,null,null,null,null,null,null,null,null,null,null,null,null,"2013-05-19T05:11:16",90.53,{"$f":"VLOOKUP(O1428,[1]Raw!$D:$K,8)","v":13.396799088},8.271647008631934]
[null,null,null,null,null,null,null,null,null,null,null,null,null,null,"2013-05-19T05:21:16",90.01,{"$f":"VLOOKUP(O1429,[1]Raw!$D:$K,8)","v":13.294500351},8.2636520745481459]
[null,null,null,null,null,null,null,null,null,null,null,null,null,null,"2013-05-19T05:31:16",90.61,{"$f":"VLOOKUP(O1430,[1]Raw!$D:$K,8)","v":13.404600143},8.2729660431044287]
[null,null,null,null,null,null,null,null,null,null,null,null,null,null,"2013-05-19T05:41:16",90.5,{"$f":"VLOOKUP(O1431,[1]Raw!$D:$K,8)","v":13.388399123999999},8.2712140893210329]
[null,null,null,null,null,null,null,null,null,null,null,null,null,null,"2013-05-19T05:51:16",90.63,{"$f":"VLOOKUP(O1432,[1]Raw!$D:$K,8)","v":13.411699295},8.273237692296922]
[null,null,null,null,null,null,null,null,null,null,null,null,null,null,"2013-05-19T06:01:16",90.44,{"$f":"VLOOKUP(O1433,[1]Raw!$D:$K,8)","v":13.434299469000001},8.2696413878918431]
[null,null,null,null,null,null,null,null,null,null,null,null,null,null,"2013-05-19T06:11:16",90.54,{"$f":"VLOOKUP(O1434,[1]Raw!$D:$K,8)","v":13.410499572999999},8.2716683688529056]
[null,null,null,null,null,null,null,null,null,null,null,null,null,null,"2013-05-19T06:21:16",90.58,{"$f":"VLOOKUP(O1435,[1]Raw!$D:$K,8)","v":13.446199417000001},8.271969201777333]
[null,null,null,null,null,null,null,null,null,null,null,null,null,null,"2013-05-19T06:31:16",90.44,{"$f":"VLOOKUP(O1436,[1]Raw!$D:$K,8)","v":13.417299270999999},8.2698329914743454]
[null,null,null,null,null,null,null,null,null,null,null,null,null,null,"2013-05-19T06:41:16",90.58,{"$f":"VLOOKUP(O1437,[1]Raw!$D:$K,8)","v":13.451200484999999},8.2719128024496964]
[null,null,null,null,null,null,null,null,null,null,null,null,null,null,"2013-05-19T06:51:16",90.81,{"$f":"VLOOKUP(O1438,[1]Raw!$D:$K,8)","v":13.452100754},8.2759471506740674]
[null,null,null,null,null,null,null,null,null,null,null,null,null,null,"2013-05-19T07:01:16",90.67,{"$f":"VLOOKUP(O1439,[1]Raw!$D:$K,8)","v":13.4666996},8.2733205744745533]
[null,null,null,null,null,null,null,null,null,null,null,null,null,null,"2013-05-19T07:11:16",91.19,{"$f":"VLOOKUP(O1440,[1]Raw!$D:$K,8)","v":13.480699539},8.2823058173294086]
[null,null,null,null,null,null,null,null,null,null,null,null,null,null,"2013-05-19T07:21:16",90.65,{"$f":"VLOOKUP(O1441,[1]Raw!$D:$K,8)","v":13.464799880999999},8.2729903262782134]
[null,null,null,null,null,null,null,null,null,null,null,null,null,null,"2013-05-19T07:31:16",91.33,{"$f":"VLOOKUP(O1442,[1]Raw!$D:$K,8)","v":13.515399932999999},8.284374647965949]
[null,null,null,null,null,null,null,null,null,null,null,null,null,null,"2013-05-19T07:41:16",91.44,{"$f":"VLOOKUP(O1443,[1]Raw!$D:$K,8)","v":13.476800919},8.2867457381508505]
[null,null,null,null,null,null,null,null,null,null,null,null,null,null,"2013-05-19T07:51:16",90.87,{"$f":"VLOOKUP(O1444,[1]Raw!$D:$K,8)","v":13.492599487},8.2765448699856456]
[null,null,null,null,null,null,null,null,null,null,null,null,null,null,"2013-05-19T08:01:16",91.6,{"$f":"VLOOKUP(O1445,[1]Raw!$D:$K,8)","v":13.523700714},8.2890274070939114]
[null,null,null,null,null,null,null,null,null,null,null,null,null,null,"2013-05-19T08:11:16",90.5,{"$f":"VLOOKUP(O1446,[1]Raw!$D:$K,8)","v":13.465599060000001},8.2703437175149386]
[null,null,null,null,null,null,null,null,null,null,null,null,null,null,"2013-05-19T08:21:16",91.32,{"$f":"VLOOKUP(O1447,[1]Raw!$D:$K,8)","v":13.528999328999999},8.2840449338116855]
[null,null,null,null,null,null,null,null,null,null,null,null,null,null,"2013-05-19T08:31:18",90.94,{"$f":"VLOOKUP(O1448,[1]Raw!$D:$K,8)","v":13.476699828999999},8.2779552449294656]
[null,null,null,null,null,null,null,null,null,null,null,null,null,null,"2013-05-19T08:41:18",90.48,{"$f":"VLOOKUP(O1449,[1]Raw!$D:$K,8)","v":13.44659996},8.2702061722558469]
[null,null,null,null,null,null,null,null,null,null,null,null,null,null,"2013-05-19T08:51:18",91.23,{"$f":"VLOOKUP(O1450,[1]Raw!$D:$K,8)","v":13.498699188},8.2828054887239357]
[null,null,null,null,null,null,null,null,null,null,null,null,null,null,"2013-05-19T09:01:18",90.44,{"$f":"VLOOKUP(O1451,[1]Raw!$D:$K,8)","v":13.415800095},8.2698498892796408]
[null,null,null,null,null,null,null,null,null,null,null,null,null,null,"2013-05-19T09:11:18",90.09,{"$f":"VLOOKUP(O1452,[1]Raw!$D:$K,8)","v":13.394899368000001},8.2639295843577489]
[null,null,null,null,null,null,null,null,null,null,null,null,null,null,"2013-05-19T09:21:18",91.45,{"$f":"VLOOKUP(O1453,[1]Raw!$D:$K,8)","v":13.475000380999999},8.2869419685881116]
[null,null,null,null,null,null,null,null,null,null,null,null,null,null,"2013-05-19T09:31:16",89.88,{"$f":"VLOOKUP(O1454,[1]Raw!$D:$K,8)","v":13.343200683999999},8.2608171743065544]
[null,null,null,null,null,null,null,null,null,null,null,null,null,null,"2013-05-19T09:41:16",91.19,{"$f":"VLOOKUP(O1455,[1]Raw!$D:$K,8)","v":13.392299652},8.2833061370524739]
[null,null,null,null,null,null,null,null,null,null,null,null,null,null,"2013-05-19T09:51:16",91.4,{"$f":"VLOOKUP(O1456,[1]Raw!$D:$K,8)","v":13.40929985},8.2868070740611106]
[null,null,null,null,null,null,null,null,null,null,null,null,null,null,"2013-05-19T10:01:16",89.56,{"$f":"VLOOKUP(O1457,[1]Raw!$D:$K,8)","v":13.285200119000001},8.2558389837344208]
[null,null,null,null,null,null,null,null,null,null,null,null,null,null,"2013-05-19T10:11:16",91.63,{"$f":"VLOOKUP(O1458,[1]Raw!$D:$K,8)","v":13.500799178999999},8.2898144502681212]
[null,null,null,null,null,null,null,null,null,null,null,null,null,null,"2013-05-19T10:21:16",90.61,{"$f":"VLOOKUP(O1459,[1]Raw!$D:$K,8)","v":13.283500671000001},8.274332958180695]
[null,null,null,null,null,null,null,null,null,null,null,null,null,null,"2013-05-19T10:31:16",88.89,{"$f":"VLOOKUP(O1460,[1]Raw!$D:$K,8)","v":13.217399597},8.2448089437430898]
[null,null,null,null,null,null,null,null,null,null,null,null,null,null,"2013-05-19T10:41:16",89.68,{"$f":"VLOOKUP(O1461,[1]Raw!$D:$K,8)","v":13.216600418000001},8.2587212933051202]
[null,null,null,null,null,null,null,null,null,null,null,null,null,null,"2013-05-19T10:51:16",88.62,{"$f":"VLOOKUP(O1462,[1]Raw!$D:$K,8)","v":13.141599655},8.2409044660706048]
[null,null,null,null,null,null,null,null,null,null,null,null,null,null,"2013-05-19T11:01:16",88.23,{"$f":"VLOOKUP(O1463,[1]Raw!$D:$K,8)","v":13.131500244},8.2341516463253459]
[null,null,null,null,null,null,null,null,null,null,null,null,null,null,"2013-05-19T11:11:16",88.29,{"$f":"VLOOKUP(O1464,[1]Raw!$D:$K,8)","v":13.115100861},8.2353909695613936]
[null,null,null,null,null,null,null,null,null,null,null,null,null,null,"2013-05-19T11:21:16",87.71,{"$f":"VLOOKUP(O1465,[1]Raw!$D:$K,8)","v":13.047599792},8.2259310653428894]
[null,null,null,null,null,null,null,null,null,null,null,null,null,null,"2013-05-19T11:31:17",87.45,{"$f":"VLOOKUP(O1466,[1]Raw!$D:$K,8)","v":13.036600113},8.2214748416945529]
[null,null,null,null,null,null,null,null,null,null,null,null,null,null,"2013-05-19T11:41:17",87.08,{"$f":"VLOOKUP(O1467,[1]Raw!$D:$K,8)","v":12.970699310000001},8.2156903352816979]
[null,null,null,null,null,null,null,null,null,null,null,null,null,null,"2013-05-19T11:51:17",87.01,{"$f":"VLOOKUP(O1468,[1]Raw!$D:$K,8)","v":12.961900711},8.214554956094652]
[null,null,null,null,null,null,null,null,null,null,null,null,null,null,"2013-05-19T12:01:17",86.79,{"$f":"VLOOKUP(O1469,[1]Raw!$D:$K,8)","v":12.941200256},8.2109091049369471]
[null,null,null,null,null,null,null,null,null,null,null,null,null,null,"2013-05-19T12:11:17",86.81,{"$f":"VLOOKUP(O1470,[1]Raw!$D:$K,8)","v":12.924600601},8.2114454525930665]
[null,null,null,null,null,null,null,null,null,null,null,null,null,null,"2013-05-19T12:21:17",86.2,{"$f":"VLOOKUP(O1471,[1]Raw!$D:$K,8)","v":12.843099594},8.2015997220366845]
[null,null,null,null,null,null,null,null,null,null,null,null,null,null,"2013-05-19T12:31:18",86.22,{"$f":"VLOOKUP(O1472,[1]Raw!$D:$K,8)","v":12.870199203},8.2016525651118481]
[null,null,null,null,null,null,null,null,null,null,null,null,null,null,"2013-05-19T12:41:18",86.15,{"$f":"VLOOKUP(O1473,[1]Raw!$D:$K,8)","v":12.857099533},8.2005638864901336]
[null,null,null,null,null,null,null,null,null,null,null,null,null,null,"2013-05-19T12:51:18",85.69,{"$f":"VLOOKUP(O1474,[1]Raw!$D:$K,8)","v":12.784799575999999},8.1932552119823789]
[null,null,null,null,null,null,null,null,null,null,null,null,null,null,"2013-05-19T13:01:18",85.88,{"$f":"VLOOKUP(O1475,[1]Raw!$D:$K,8)","v":12.847299575999999},8.1959142590706549]
[null,null,null,null,null,null,null,null,null,null,null,null,null,null,"2013-05-19T13:11:18",85.9,{"$f":"VLOOKUP(O1476,[1]Raw!$D:$K,8)","v":12.817899704},8.1965912057193862]
[null,null,null,null,null,null,null,null,null,null,null,null,null,null,"2013-05-19T13:21:18",85.55,{"$f":"VLOOKUP(O1477,[1]Raw!$D:$K,8)","v":12.786800384999999},8.1907655481505053]
[null,null,null,null,null,null,null,null,null,null,null,null,null,null,"2013-05-19T13:31:17",85.91,{"$f":"VLOOKUP(O1478,[1]Raw!$D:$K,8)","v":12.827899932999999},8.1966570503064293]
[null,null,null,null,null,null,null,null,null,null,null,null,null,null,"2013-05-19T13:41:17",86.01,{"$f":"VLOOKUP(O1479,[1]Raw!$D:$K,8)","v":12.803199768000001},8.1986922002724363]
[null,null,null,null,null,null,null,null,null,null,null,null,null,null,"2013-05-19T13:51:17",84.87,{"$f":"VLOOKUP(O1480,[1]Raw!$D:$K,8)","v":12.681499480999999},8.1799364645319539]
[null,null,null,null,null,null,null,null,null,null,null,null,null,null,"2013-05-19T14:01:17",85.25,{"$f":"VLOOKUP(O1481,[1]Raw!$D:$K,8)","v":12.741500854},8.1859762649196508]
[null,null,null,null,null,null,null,null,null,null,null,null,null,null,"2013-05-19T14:11:17",84.99,{"$f":"VLOOKUP(O1482,[1]Raw!$D:$K,8)","v":12.722000122000001},8.1816071574710953]
[null,null,null,null,null,null,null,null,null,null,null,null,null,null,"2013-05-19T14:21:17",84.34,{"$f":"VLOOKUP(O1483,[1]Raw!$D:$K,8)","v":12.634199142},8.1711095748431362]
[null,null,null,null,null,null,null,null,null,null,null,null,null,null,"2013-05-19T14:31:18",84.53,{"$f":"VLOOKUP(O1484,[1]Raw!$D:$K,8)","v":12.663299561000001},8.1741410908580932]
[null,null,null,null,null,null,null,null,null,null,null,null,null,null,"2013-05-19T14:41:18",85.17,{"$f":"VLOOKUP(O1485,[1]Raw!$D:$K,8)","v":12.813800812},8.1837709064381894]
[null,null,null,null,null,null,null,null,null,null,null,null,null,null,"2013-05-19T14:51:18",85.34,{"$f":"VLOOKUP(O1486,[1]Raw!$D:$K,8)","v":12.831600189},8.1865711290625391]
[null,null,null,null,null,null,null,null,null,null,null,null,null,null,"2013-05-19T15:01:18",85.35,{"$f":"VLOOKUP(O1487,[1]Raw!$D:$K,8)","v":12.822799683},8.1868442012644103]
[null,null,null,null,null,null,null,null,null,null,null,null,null,null,"2013-05-19T15:11:18",85.45,{"$f":"VLOOKUP(O1488,[1]Raw!$D:$K,8)","v":12.853700637999999},8.1882663441133197]
[null,null,null,null,null,null,null,null,null,null,null,null,null,null,"2013-05-19T15:21:18",85.2,{"$f":"VLOOKUP(O1489,[1]Raw!$D:$K,8)","v":12.847299575999999},8.1839313176857225]
[null,null,null,null,null,null,null,null,null,null,null,null,null,null,"2013-05-19T15:31:17",85.26,{"$f":"VLOOKUP(O1490,[1]Raw!$D:$K,8)","v":12.852100372000001},8.1849358419085885]
[null,null,null,null,null,null,null,null,null,null,null,null,null,null,"2013-05-19T15:41:17",85.39,{"$f":"VLOOKUP(O1491,[1]Raw!$D:$K,8)","v":12.871999741},8.1870076869616604]
[null,null,null,null,null,null,null,null,null,null,null,null,null,null,"2013-05-19T15:51:17",85.59,{"$f":"VLOOKUP(O1492,[1]Raw!$D:$K,8)","v":12.899799347},8.1902255783994704]
[null,null,null,null,null,null,null,null,null,null,null,null,null,null,"2013-05-19T16:01:17",85.77,{"$f":"VLOOKUP(O1493,[1]Raw!$D:$K,8)","v":13.025299071999999},8.1920139844370148]
[null,null,null,null,null,null,null,null,null,null,null,null,null,null,"2013-05-19T16:11:17",85.89,{"$f":"VLOOKUP(O1494,[1]Raw!$D:$K,8)","v":13.040399551},8.193960873648896]
[null,null,null,null,null,null,null,null,null,null,null,null,null,null,"2013-05-19T16:21:17",86.15,{"$f":"VLOOKUP(O1495,[1]Raw!$D:$K,8)","v":13.201999664000001},8.1967569102441491]
[null,null,null,null,null,null,null,null,null,null,null,null,null,null,"2013-05-19T16:31:18",86.55,{"$f":"VLOOKUP(O1496,[1]Raw!$D:$K,8)","v":13.262100220000001},8.2031330443715422]
[null,null,null,null,null,null,null,null,null,null,null,null,null,null,"2013-05-19T16:41:18",86.46,{"$f":"VLOOKUP(O1497,[1]Raw!$D:$K,8)","v":13.313400269000001},8.2009831622037055]
[null,null,null,null,null,null,null,null,null,null,null,null,null,null,"2013-05-19T16:51:18",86.32,{"$f":"VLOOKUP(O1498,[1]Raw!$D:$K,8)","v":13.282499313000001},8.1988608657747655]
[null,null,null,null,null,null,null,null,null,null,null,null,null,null,"2013-05-19T17:01:18",86.36,{"$f":"VLOOKUP(O1499,[1]Raw!$D:$K,8)","v":13.317699432},8.1991764176952486]
[null,null,null,null,null,null,null,null,null,null,null,null,null,null,"2013-05-19T17:11:18",86.49,{"$f":"VLOOKUP(O1500,[1]Raw!$D:$K,8)","v":13.231700897},8.2024129280947538]
[null,null,null,null,null,null,null,null,null,null,null,null,null,null,"2013-05-19T17:21:18",87.13,{"$f":"VLOOKUP(O1501,[1]Raw!$D:$K,8)","v":13.369100571000001},8.2121538439689825]
[null,null,null,null,null,null,null,null,null,null,null,null,null,null,"2013-05-19T17:31:16",86.87,{"$f":"VLOOKUP(O1502,[1]Raw!$D:$K,8)","v":13.236700058},8.2090449667794658]
[null,null,null,null,null,null,null,null,null,null,null,null,null,null,"2013-05-19T17:41:16",87.32,{"$f":"VLOOKUP(O1503,[1]Raw!$D:$K,8)","v":13.509500504},8.2139405484712924]
[null,null,null,null,null,null,null,null,null,null,null,null,null,null,"2013-05-19T17:51:16",88.45,{"$f":"VLOOKUP(O1504,[1]Raw!$D:$K,8)","v":13.674900055},8.23196555246599]
[null,null,null,null,null,null,null,null,null,null,null,null,null,null,"2013-05-19T18:01:16",87.56,{"$f":"VLOOKUP(O1505,[1]Raw!$D:$K,8)","v":13.311000824000001},8.2203624327630447]
[null,null,null,null,null,null,null,null,null,null,null,null,null,null,"2013-05-19T18:11:16",86.95,{"$f":"VLOOKUP(O1506,[1]Raw!$D:$K,8)","v":13.248500824000001},8.2103221656444383]
[null,null,null,null,null,null,null,null,null,null,null,null,null,null,"2013-05-19T18:21:16",87.72,{"$f":"VLOOKUP(O1507,[1]Raw!$D:$K,8)","v":13.292299270999999},8.2233852217448451]
[null,null,null,null,null,null,null,null,null,null,null,null,null,null,"2013-05-19T18:31:16",87.56,{"$f":"VLOOKUP(O1508,[1]Raw!$D:$K,8)","v":13.319000244},8.2202736190971208]
[null,null,null,null,null,null,null,null,null,null,null,null,null,null,"2013-05-19T18:41:16",87.51,{"$f":"VLOOKUP(O1509,[1]Raw!$D:$K,8)","v":13.229999542},8.2203821088647384]
[null,null,null,null,null,null,null,null,null,null,null,null,null,null,"2013-05-19T18:51:16",86.84,{"$f":"VLOOKUP(O1510,[1]Raw!$D:$K,8)","v":13.027299880999999},8.2108355969203455]
[null,null,null,null,null,null,null,null,null,null,null,null,null,null,"2013-05-19T19:01:16",87.42,{"$f":"VLOOKUP(O1511,[1]Raw!$D:$K,8)","v":13.405700683999999},8.2168490757718633]
[null,null,null,null,null,null,null,null,null,null,null,null,null,null,"2013-05-19T19:11:16",87.15,{"$f":"VLOOKUP(O1512,[1]Raw!$D:$K,8)","v":13.138299942},8.2150633919695597]
[null,null,null,null,null,null,null,null,null,null,null,null,null,null,"2013-05-19T19:21:16",87.3,{"$f":"VLOOKUP(O1513,[1]Raw!$D:$K,8)","v":13.274299621999999},8.2161950894484193]
[null,null,null,null,null,null,null,null,null,null,null,null,null,null,"2013-05-19T19:31:16",86.33,{"$f":"VLOOKUP(O1514,[1]Raw!$D:$K,8)","v":13.092199325999999},8.2011371222007661]
[null,null,null,null,null,null,null,null,null,null,null,null,null,null,"2013-05-19T19:41:16",86.74,{"$f":"VLOOKUP(O1515,[1]Raw!$D:$K,8)","v":13.057600021000001},8.208738988121759]
[null,null,null,null,null,null,null,null,null,null,null,null,null,null,"2013-05-19T19:51:16",84.95,{"$f":"VLOOKUP(O1516,[1]Raw!$D:$K,8)","v":12.842300415},8.1795807064685615]
[null,null,null,null,null,null,null,null,null,null,null,null,null,null,"2013-05-19T20:01:16",84.01,{"$f":"VLOOKUP(O1517,[1]Raw!$D:$K,8)","v":12.786699295},8.1636230728020465]
[null,null,null,null,null,null,null,null,null,null,null,null,null,null,"2013-05-19T20:11:16",83.93,{"$f":"VLOOKUP(O1518,[1]Raw!$D:$K,8)","v":12.734199523999999},8.1627864093845055]
[null,null,null,null,null,null,null,null,null,null,null,null,null,null,"2013-05-19T20:21:16",84.03,{"$f":"VLOOKUP(O1519,[1]Raw!$D:$K,8)","v":12.962600708},8.1620548729935951]
[null,null,null,null,null,null,null,null,null,null,null,null,null,null,"2013-05-19T20:31:16",84.04,{"$f":"VLOOKUP(O1520,[1]Raw!$D:$K,8)","v":12.926599503},8.1626239582903377]
[null,null,null,null,null,null,null,null,null,null,null,null,null,null,"2013-05-19T20:41:16",85.94,{"$f":"VLOOKUP(O1521,[1]Raw!$D:$K,8)","v":13.503900528000001},8.1897399373265873]
[null,null,null,null,null,null,null,null,null,null,null,null,null,null,"2013-05-19T20:51:16",85.95,{"$f":"VLOOKUP(O1522,[1]Raw!$D:$K,8)","v":13.474899292},8.1902344842299399]
[null,null,null,null,null,null,null,null,null,null,null,null,null,null,"2013-05-19T21:01:16",86.41,{"$f":"VLOOKUP(O1523,[1]Raw!$D:$K,8)","v":13.345600127999999},8.1997483079750992]
[null,null,null,null,null,null,null,null,null,null,null,null,null,null,"2013-05-19T21:11:16",86.11,{"$f":"VLOOKUP(O1524,[1]Raw!$D:$K,8)","v":13.198600769},8.1960903680569999]
[null,null,null,null,null,null,null,null,null,null,null,null,null,null,"2013-05-19T21:21:16",85.85,{"$f":"VLOOKUP(O1525,[1]Raw!$D:$K,8)","v":13.001800536999999},8.1936818351260214]
[null,null,null,null,null,null,null,null,null,null,null,null,null,null,"2013-05-19T21:31:17",85.44,{"$f":"VLOOKUP(O1526,[1]Raw!$D:$K,8)","v":12.676000595},8.190047419791771]
[null,null,null,null,null,null,null,null,null,null,null,null,null,null,"2013-05-19T21:41:17",86.14,{"$f":"VLOOKUP(O1527,[1]Raw!$D:$K,8)","v":12.61179924},8.20310071600864]
[null,null,null,null,null,null,null,null,null,null,null,null,null,null,"2013-05-19T21:51:17",86.74,{"$f":"VLOOKUP(O1528,[1]Raw!$D:$K,8)","v":12.524400711},8.2146536118023228]
[null,null,null,null,null,null,null,null,null,null,null,null,null,null,"2013-05-19T22:01:17",86.67,{"$f":"VLOOKUP(O1529,[1]Raw!$D:$K,8)","v":12.484699249},8.21385978778906]
[null,null,null,null,null,null,null,null,null,null,null,null,null,null,"2013-05-19T22:11:17",87.51,{"$f":"VLOOKUP(O1530,[1]Raw!$D:$K,8)","v":12.490499496},8.2286162828216849]
[null,null,null,null,null,null,null,null,null,null,null,null,null,null,"2013-05-19T22:21:17",87.08,{"$f":"VLOOKUP(O1531,[1]Raw!$D:$K,8)","v":12.362899779999999},8.2224510890651921]
[null,null,null,null,null,null,null,null,null,null,null,null,null,null,"2013-05-19T22:31:17",86.95,{"$f":"VLOOKUP(O1532,[1]Raw!$D:$K,8)","v":12.370300293},8.220073914008875]
[null,null,null,null,null,null,null,null,null,null,null,null,null,null,"2013-05-19T22:41:17",86.06,{"$f":"VLOOKUP(O1533,[1]Raw!$D:$K,8)","v":12.210199356},8.2061396106538975]
[null,null,null,null,null,null,null,null,null,null,null,null,null,null,"2013-05-19T22:51:17",85.74,{"$f":"VLOOKUP(O1534,[1]Raw!$D:$K,8)","v":12.282100677000001},8.1996918107295063]
[null,null,null,null,null,null,null,null,null,null,null,null,null,null,"2013-05-19T23:01:17",85.74,{"$f":"VLOOKUP(O1535,[1]Raw!$D:$K,8)","v":12.392000198},8.1984756443665407]
[null,null,null,null,null,null,null,null,null,null,null,null,null,null,"2013-05-19T23:11:17",85.16,{"$f":"VLOOKUP(O1536,[1]Raw!$D:$K,8)","v":12.265199661},8.1896373340991868]
[null,null,null,null,null,null,null,null,null,null,null,null,null,null,"2013-05-19T23:21:17",85.23,{"$f":"VLOOKUP(O1537,[1]Raw!$D:$K,8)","v":12.371799469000001},8.1896969456794562]
[null,null,null,null,null,null,null,null,null,null,null,null,null,null,"2013-05-19T23:31:17",85.2,{"$f":"VLOOKUP(O1538,[1]Raw!$D:$K,8)","v":12.469299316000001},8.1880923412218518]
[null,null,null,null,null,null,null,null,null,null,null,null,null,null,"2013-05-19T23:41:17",85.37,{"$f":"VLOOKUP(O1539,[1]Raw!$D:$K,8)","v":12.492900848},8.1908316655948514]
[null,null,null,null,null,null,null,null,null,null,null,null,null,null,"2013-05-19T23:51:17",85.22,{"$f":"VLOOKUP(O1540,[1]Raw!$D:$K,8)","v":12.472099304},8.1884143809154235]
[null,null,null,null,null,null,null,null,null,null,null,null,null,null,"2013-05-20T00:01:17",85.45,{"$f":"VLOOKUP(O1541,[1]Raw!$D:$K,8)","v":12.615499496},8.1908907321717344]
[null,null,null,null,null,null,null,null,null,null,null,null,null,null,"2013-05-20T00:11:17",85.43,{"$f":"VLOOKUP(O1542,[1]Raw!$D:$K,8)","v":12.520500182999999},8.1915857680522439]
[null,null,null,null,null,null,null,null,null,null,null,null,null,null,"2013-05-20T00:21:17",85.45,{"$f":"VLOOKUP(O1543,[1]Raw!$D:$K,8)","v":12.594100952},8.1911267054450665]
[null,null,null,null,null,null,null,null,null,null,null,null,null,null,"2013-05-20T00:31:16",85.71,{"$f":"VLOOKUP(O1544,[1]Raw!$D:$K,8)","v":12.6060009},8.1955810557272386]
[null,null,null,null,null,null,null,null,null,null,null,null,null,null,"2013-05-20T00:41:16",85.76,{"$f":"VLOOKUP(O1545,[1]Raw!$D:$K,8)","v":12.634599686},8.1961470112355279]
[null,null,null,null,null,null,null,null,null,null,null,null,null,null,"2013-05-20T00:51:16",86.3,{"$f":"VLOOKUP(O1546,[1]Raw!$D:$K,8)","v":12.596200942999999},8.2060953853481635]
[null,null,null,null,null,null,null,null,null,null,null,null,null,null,"2013-05-20T01:01:16",86.8,{"$f":"VLOOKUP(O1547,[1]Raw!$D:$K,8)","v":12.586500168000001},8.2150219084023988]
[null,null,null,null,null,null,null,null,null,null,null,null,null,null,"2013-05-20T01:11:16",86.85,{"$f":"VLOOKUP(O1548,[1]Raw!$D:$K,8)","v":12.563199997},8.2161628224036303]
[null,null,null,null,null,null,null,null,null,null,null,null,null,null,"2013-05-20T01:21:16",87.22,{"$f":"VLOOKUP(O1549,[1]Raw!$D:$K,8)","v":12.427000046},8.2242074303857962]
[null,null,null,null,null,null,null,null,null,null,null,null,null,null,"2013-05-20T01:31:16",87.47,{"$f":"VLOOKUP(O1550,[1]Raw!$D:$K,8)","v":12.411199570000001},8.2287958468901685]
[null,null,null,null,null,null,null,null,null,null,null,null,null,null,"2013-05-20T01:41:16",87.6,{"$f":"VLOOKUP(O1551,[1]Raw!$D:$K,8)","v":12.39730072},8.2312455342820599]
[null,null,null,null,null,null,null,null,null,null,null,null,null,null,"2013-05-20T01:51:16",87.2,{"$f":"VLOOKUP(O1552,[1]Raw!$D:$K,8)","v":12.395299911},8.2242079495820306]
[null,null,null,null,null,null,null,null,null,null,null,null,null,null,"2013-05-20T02:01:16",87.32,{"$f":"VLOOKUP(O1553,[1]Raw!$D:$K,8)","v":12.424100876000001},8.2260045670632618]
[null,null,null,null,null,null,null,null,null,null,null,null,null,null,"2013-05-20T02:11:16",87.28,{"$f":"VLOOKUP(O1554,[1]Raw!$D:$K,8)","v":12.377700806},8.2258163014562626]
[null,null,null,null,null,null,null,null,null,null,null,null,null,null,"2013-05-20T02:21:16",86.61,{"$f":"VLOOKUP(O1555,[1]Raw!$D:$K,8)","v":12.448400497},8.2132044020670438]
[null,null,null,null,null,null,null,null,null,null,null,null,null,null,"2013-05-20T02:31:16",86.64,{"$f":"VLOOKUP(O1556,[1]Raw!$D:$K,8)","v":12.398799896},8.2142851141856159]
[null,null,null,null,null,null,null,null,null,null,null,null,null,null,"2013-05-20T02:41:16",86.97,{"$f":"VLOOKUP(O1557,[1]Raw!$D:$K,8)","v":13.028999328999999},8.2131061681694675]
[null,null,null,null,null,null,null,null,null,null,null,null,null,null,"2013-05-20T02:51:16",86.66,{"$f":"VLOOKUP(O1558,[1]Raw!$D:$K,8)","v":12.75399971},8.2106938150192352]
[null,null,null,null,null,null,null,null,null,null,null,null,null,null,"2013-05-20T03:01:16",86.91,{"$f":"VLOOKUP(O1559,[1]Raw!$D:$K,8)","v":12.789100647},8.2147109609201525]
[null,null,null,null,null,null,null,null,null,null,null,null,null,null,"2013-05-20T03:11:16",87.57,{"$f":"VLOOKUP(O1560,[1]Raw!$D:$K,8)","v":13.002700806},8.2239652453151617]
[null,null,null,null,null,null,null,null,null,null,null,null,null,null,"2013-05-20T03:21:16",87.52,{"$f":"VLOOKUP(O1561,[1]Raw!$D:$K,8)","v":12.929000854},8.2239046966567919]
[null,null,null,null,null,null,null,null,null,null,null,null,null,null,"2013-05-20T03:31:17",87.37,{"$f":"VLOOKUP(O1562,[1]Raw!$D:$K,8)","v":12.923799515000001},8.2213199997317723]
[null,null,null,null,null,null,null,null,null,null,null,null,null,null,"2013-05-20T03:41:17",87.38,{"$f":"VLOOKUP(O1563,[1]Raw!$D:$K,8)","v":12.939899445},8.2213171219844181]
[null,null,null,null,null,null,null,null,null,null,null,null,null,null,"2013-05-20T03:51:17",87.19,{"$f":"VLOOKUP(O1564,[1]Raw!$D:$K,8)","v":12.930200577000001},8.2180777779497944]
[null,null,null,null,null,null,null,null,null,null,null,null,null,null,"2013-05-20T04:01:17",87.03,{"$f":"VLOOKUP(O1565,[1]Raw!$D:$K,8)","v":12.911500931000001},8.2154666545872814]
[null,null,null,null,null,null,null,null,null,null,null,null,null,null,"2013-05-20T04:11:17",87.15,{"$f":"VLOOKUP(O1566,[1]Raw!$D:$K,8)","v":12.910900116000001},8.2175874909406783]
[null,null,null,null,null,null,null,null,null,null,null,null,null,null,"2013-05-20T04:21:17",87.03,{"$f":"VLOOKUP(O1567,[1]Raw!$D:$K,8)","v":12.867599487},8.2159540887380533]
[null,null,null,null,null,null,null,null,null,null,null,null,null,null,"2013-05-20T04:31:16",86.68,{"$f":"VLOOKUP(O1568,[1]Raw!$D:$K,8)","v":12.831600189},8.2101858686751381]
[null,null,null,null,null,null,null,null,null,null,null,null,null,null,"2013-05-20T04:41:16",86.65,{"$f":"VLOOKUP(O1569,[1]Raw!$D:$K,8)","v":12.821899414000001},8.2097647075307005]
[null,null,null,null,null,null,null,null,null,null,null,null,null,null,"2013-05-20T04:51:16",86.69,{"$f":"VLOOKUP(O1570,[1]Raw!$D:$K,8)","v":12.826099396},8.2104230836072105]
[null,null,null,null,null,null,null,null,null,null,null,null,null,null,"2013-05-20T05:01:16",86.3,{"$f":"VLOOKUP(O1571,[1]Raw!$D:$K,8)","v":12.762399673000001},8.2042548628935599]
[null,null,null,null,null,null,null,null,null,null,null,null,null,null,"2013-05-20T05:11:16",86.58,{"$f":"VLOOKUP(O1572,[1]Raw!$D:$K,8)","v":12.868600845},8.2080136719724006]
[null,null,null,null,null,null,null,null,null,null,null,null,null,null,"2013-05-20T05:21:16",86.73,{"$f":"VLOOKUP(O1573,[1]Raw!$D:$K,8)","v":12.834600449},8.2110337463464198]
[null,null,null,null,null,null,null,null,null,null,null,null,null,null,"2013-05-20T05:31:18",86.57,{"$f":"VLOOKUP(O1574,[1]Raw!$D:$K,8)","v":12.824100494},8.2083304371146042]
[null,null,null,null,null,null,null,null,null,null,null,null,null,null,"2013-05-20T05:41:18",86.32,{"$f":"VLOOKUP(O1575,[1]Raw!$D:$K,8)","v":12.796100616},8.2042344144651427]
[null,null,null,null,null,null,null,null,null,null,null,null,null,null,"2013-05-20T05:51:18",86.01,{"$f":"VLOOKUP(O1576,[1]Raw!$D:$K,8)","v":12.735399246},8.1994413538153452]
[null,null,null,null,null,null,null,null,null,null,null,null,null,null,"2013-05-20T06:01:18",85.97,{"$f":"VLOOKUP(O1577,[1]Raw!$D:$K,8)","v":12.767700195},8.1983793289890343]
[null,null,null,null,null,null,null,null,null,null,null,null,null,null,"2013-05-20T06:11:18",85.84,{"$f":"VLOOKUP(O1578,[1]Raw!$D:$K,8)","v":12.718200683999999},8.1966343554894863]
[null,null,null,null,null,null,null,null,null,null,null,null,null,null,"2013-05-20T06:21:18",85.84,{"$f":"VLOOKUP(O1579,[1]Raw!$D:$K,8)","v":12.772399902},8.1960359554667477]
[null,null,null,null,null,null,null,null,null,null,null,null,null,null,"2013-05-20T06:31:16",86.14,{"$f":"VLOOKUP(O1580,[1]Raw!$D:$K,8)","v":12.830499649},8.2006816449170419]
[null,null,null,null,null,null,null,null,null,null,null,null,null,null,"2013-05-20T06:41:16",85.83,{"$f":"VLOOKUP(O1581,[1]Raw!$D:$K,8)","v":12.699399948},8.1966656718248405]
[null,null,null,null,null,null,null,null,null,null,null,null,null,null,"2013-05-20T06:51:16",86.47,{"$f":"VLOOKUP(O1582,[1]Raw!$D:$K,8)","v":12.859699249},8.2061739434837531]
[null,null,null,null,null,null,null,null,null,null,null,null,null,null,"2013-05-20T07:01:16",87.79,{"$f":"VLOOKUP(O1583,[1]Raw!$D:$K,8)","v":13.005199432},8.227812137155631]
[null,null,null,null,null,null,null,null,null,null,null,null,null,null,"2013-05-20T07:11:16",87.67,{"$f":"VLOOKUP(O1584,[1]Raw!$D:$K,8)","v":12.968999863000001},8.2261017402602956]
[null,null,null,null,null,null,null,null,null,null,null,null,null,null,"2013-05-20T07:21:16",88.16,{"$f":"VLOOKUP(O1585,[1]Raw!$D:$K,8)","v":13.062000275000001},8.2336946991570379]
[null,null,null,null,null,null,null,null,null,null,null,null,null,null,"2013-05-20T07:31:16",87.84,{"$f":"VLOOKUP(O1586,[1]Raw!$D:$K,8)","v":12.969800949},8.2290872719991874]
[null,null,null,null,null,null,null,null,null,null,null,null,null,null,"2013-05-20T07:41:16",87.69,{"$f":"VLOOKUP(O1587,[1]Raw!$D:$K,8)","v":12.949199676999999},8.226674567358744]
[null,null,null,null,null,null,null,null,null,null,null,null,null,null,"2013-05-20T07:51:16",88.36,{"$f":"VLOOKUP(O1588,[1]Raw!$D:$K,8)","v":13.018699646},8.2377002503704624]
[null,null,null,null,null,null,null,null,null,null,null,null,null,null,"2013-05-20T08:01:16",88.02,{"$f":"VLOOKUP(O1589,[1]Raw!$D:$K,8)","v":12.907400130999999},8.2329542666525075]
[null,null,null,null,null,null,null,null,null,null,null,null,null,null,"2013-05-20T08:11:16",87.05,{"$f":"VLOOKUP(O1590,[1]Raw!$D:$K,8)","v":12.779800415},8.2172818863324721]
[null,null,null,null,null,null,null,null,null,null,null,null,null,null,"2013-05-20T08:21:16",87.45,{"$f":"VLOOKUP(O1591,[1]Raw!$D:$K,8)","v":12.826799393},8.2238089820817351]
[null,null,null,null,null,null,null,null,null,null,null,null,null,null,"2013-05-20T08:31:17",86.57,{"$f":"VLOOKUP(O1592,[1]Raw!$D:$K,8)","v":12.677000046},8.2099610978471951]
[null,null,null,null,null,null,null,null,null,null,null,null,null,null,"2013-05-20T08:41:17",86.5,{"$f":"VLOOKUP(O1593,[1]Raw!$D:$K,8)","v":12.515399932999999},8.2105194570983908]
[null,null,null,null,null,null,null,null,null,null,null,null,null,null,"2013-05-20T08:51:17",86.63,{"$f":"VLOOKUP(O1594,[1]Raw!$D:$K,8)","v":12.417900084999999},8.2138963067156396]
[null,null,null,null,null,null,null,null,null,null,null,null,null,null,"2013-05-20T09:01:17",86.58,{"$f":"VLOOKUP(O1595,[1]Raw!$D:$K,8)","v":12.457099915000001},8.2125783617806185]
[null,null,null,null,null,null,null,null,null,null,null,null,null,null,"2013-05-20T09:11:17",86.22,{"$f":"VLOOKUP(O1596,[1]Raw!$D:$K,8)","v":12.491600037},8.205843344372882]
[null,null,null,null,null,null,null,null,null,null,null,null,null,null,"2013-05-20T09:21:17",86.37,{"$f":"VLOOKUP(O1597,[1]Raw!$D:$K,8)","v":12.500299454},8.2083934312306468]
[null,null,null,null,null,null,null,null,null,null,null,null,null,null,"2013-05-20T09:31:16",86.42,{"$f":"VLOOKUP(O1598,[1]Raw!$D:$K,8)","v":12.529499054},8.2089516485238239]
[null,null,null,null,null,null,null,null,null,null,null,null,null,null,"2013-05-20T09:41:16",86.31,{"$f":"VLOOKUP(O1599,[1]Raw!$D:$K,8)","v":12.509700775000001},8.2072305832189656]
[null,null,null,null,null,null,null,null,null,null,null,null,null,null,"2013-05-20T09:51:16",86.29,{"$f":"VLOOKUP(O1600,[1]Raw!$D:$K,8)","v":12.517700195},8.2067890420629386]
[null,null,null,null,null,null,null,null,null,null,null,null,null,null,"2013-05-20T10:01:16",86.11,{"$f":"VLOOKUP(O1601,[1]Raw!$D:$K,8)","v":12.510400772000001},8.2036942705891711]
[null,null,null,null,null,null,null,null,null,null,null,null,null,null,"2013-05-20T10:11:16",85.98,{"$f":"VLOOKUP(O1602,[1]Raw!$D:$K,8)","v":12.468599319000001},8.2018634202567036]
[null,null,null,null,null,null,null,null,null,null,null,null,null,null,"2013-05-20T10:21:16",86,{"$f":"VLOOKUP(O1603,[1]Raw!$D:$K,8)","v":12.465900421000001},8.2022462095881856]
[null,null,null,null,null,null,null,null,null,null,null,null,null,null,"2013-05-20T10:31:16",86.37,{"$f":"VLOOKUP(O1604,[1]Raw!$D:$K,8)","v":12.476299286},8.2086596738590174]
[null,null,null,null,null,null,null,null,null,null,null,null,null,null,"2013-05-20T10:41:16",86.11,{"$f":"VLOOKUP(O1605,[1]Raw!$D:$K,8)","v":12.447299957},8.20439330380343]
[null,null,null,null,null,null,null,null,null,null,null,null,null,null,"2013-05-20T10:51:16",86.28,{"$f":"VLOOKUP(O1606,[1]Raw!$D:$K,8)","v":12.448999405},8.2073743864453608]
[null,null,null,null,null,null,null,null,null,null,null,null,null,null,"2013-05-20T11:01:16",86.81,{"$f":"VLOOKUP(O1607,[1]Raw!$D:$K,8)","v":12.473199844},8.2164578838136642]
[null,null,null,null,null,null,null,null,null,null,null,null,null,null,"2013-05-20T11:11:16",87.62,{"$f":"VLOOKUP(O1608,[1]Raw!$D:$K,8)","v":12.461000443},8.2308866715832121]
[null,null,null,null,null,null,null,null,null,null,null,null,null,null,"2013-05-20T11:21:16",86.9,{"$f":"VLOOKUP(O1609,[1]Raw!$D:$K,8)","v":12.430299759},8.2185233715830552]
[null,null,null,null,null,null,null,null,null,null,null,null,null,null,"2013-05-20T11:31:17",86.53,{"$f":"VLOOKUP(O1610,[1]Raw!$D:$K,8)","v":12.403099060000001},8.2122958887107647]
[null,null,null,null,null,null,null,null,null,null,null,null,null,null,"2013-05-20T11:41:17",87.14,{"$f":"VLOOKUP(O1611,[1]Raw!$D:$K,8)","v":12.439599991},8.2226551685938638]
[null,null,null,null,null,null,null,null,null,null,null,null,null,null,"2013-05-20T11:51:17",87.77,{"$f":"VLOOKUP(O1612,[1]Raw!$D:$K,8)","v":12.423200607},8.2339562756486728]
[null,null,null,null,null,null,null,null,null,null,null,null,null,null,"2013-05-20T12:01:17",87.12,{"$f":"VLOOKUP(O1613,[1]Raw!$D:$K,8)","v":12.421899796},8.2224994802291747]
[null,null,null,null,null,null,null,null,null,null,null,null,null,null,"2013-05-20T12:11:17",87.22,{"$f":"VLOOKUP(O1614,[1]Raw!$D:$K,8)","v":12.416299820000001},8.224326749394189]
[null,null,null,null,null,null,null,null,null,null,null,null,null,null,"2013-05-20T12:21:17",86.81,{"$f":"VLOOKUP(O1615,[1]Raw!$D:$K,8)","v":12.357400894},8.2177462896830846]
[null,null,null,null,null,null,null,null,null,null,null,null,null,null,"2013-05-20T12:31:16",86.5,{"$f":"VLOOKUP(O1616,[1]Raw!$D:$K,8)","v":12.330200195},8.2125763760615715]
[null,null,null,null,null,null,null,null,null,null,null,null,null,null,"2013-05-20T12:41:16",86.3,{"$f":"VLOOKUP(O1617,[1]Raw!$D:$K,8)","v":12.328399658},8.2090655861643356]
[null,null,null,null,null,null,null,null,null,null,null,null,null,null,"2013-05-20T12:51:16",86.23,{"$f":"VLOOKUP(O1618,[1]Raw!$D:$K,8)","v":12.32570076},8.2078597562665809]
[null,null,null,null,null,null,null,null,null,null,null,null,null,null,"2013-05-20T13:01:16",86.18,{"$f":"VLOOKUP(O1619,[1]Raw!$D:$K,8)","v":12.328800201},8.2069426621428807]
[null,null,null,null,null,null,null,null,null,null,null,null,null,null,"2013-05-20T13:11:16",86.04,{"$f":"VLOOKUP(O1620,[1]Raw!$D:$K,8)","v":12.308900832999999},8.2046917121443759]
[null,null,null,null,null,null,null,null,null,null,null,null,null,null,"2013-05-20T13:21:16",85.57,{"$f":"VLOOKUP(O1621,[1]Raw!$D:$K,8)","v":12.309900283999999},8.196382712142249]
[null,null,null,null,null,null,null,null,null,null,null,null,null,null,"2013-05-20T13:31:16",86.13,{"$f":"VLOOKUP(O1622,[1]Raw!$D:$K,8)","v":12.314699172999999},8.2062163643613726]
[null,null,null,null,null,null,null,null,null,null,null,null,null,null,"2013-05-20T13:41:16",86.01,{"$f":"VLOOKUP(O1623,[1]Raw!$D:$K,8)","v":12.297000884999999},8.204293972859281]
[null,null,null,null,null,null,null,null,null,null,null,null,null,null,"2013-05-20T13:51:16",86.01,{"$f":"VLOOKUP(O1624,[1]Raw!$D:$K,8)","v":12.306800841999999},8.2041853345425615]
[null,null,null,null,null,null,null,null,null,null,null,null,null,null,"2013-05-20T14:01:16",86.39,{"$f":"VLOOKUP(O1625,[1]Raw!$D:$K,8)","v":12.315000533999999},8.21080327794445]
[null,null,null,null,null,null,null,null,null,null,null,null,null,null,"2013-05-20T14:11:16",86.25,{"$f":"VLOOKUP(O1626,[1]Raw!$D:$K,8)","v":12.307500838999999},8.2084148459127668]
[null,null,null,null,null,null,null,null,null,null,null,null,null,null,"2013-05-20T14:21:16",86.62,{"$f":"VLOOKUP(O1627,[1]Raw!$D:$K,8)","v":12.327699661},8.2147226520562331]
[null,null,null,null,null,null,null,null,null,null,null,null,null,null,"2013-05-20T14:31:18",86.74,{"$f":"VLOOKUP(O1628,[1]Raw!$D:$K,8)","v":12.329000473000001},8.2168266613149843]
[null,null,null,null,null,null,null,null,null,null,null,null,null,null,"2013-05-20T14:41:18",87,{"$f":"VLOOKUP(O1629,[1]Raw!$D:$K,8)","v":12.342500686999999},8.2212662436607555]
[null,null,null,null,null,null,null,null,null,null,null,null,null,null,"2013-05-20T14:51:18",87.2,{"$f":"VLOOKUP(O1630,[1]Raw!$D:$K,8)","v":12.348100662},8.2247343976972633]
[null,null,null,null,null,null,null,null,null,null,null,null,null,null,"2013-05-20T15:01:18",87.68,{"$f":"VLOOKUP(O1631,[1]Raw!$D:$K,8)","v":12.367900848},8.2329862795729074]
[null,null,null,null,null,null,null,null,null,null,null,null,null,null,"2013-05-20T15:11:18",87.84,{"$f":"VLOOKUP(O1632,[1]Raw!$D:$K,8)","v":12.391599655},8.2355452762863504]
[null,null,null,null,null,null,null,null,null,null,null,null,null,null,"2013-05-20T15:21:18",87.42,{"$f":"VLOOKUP(O1633,[1]Raw!$D:$K,8)","v":12.451499939},8.227463542738052]
[null,null,null,null,null,null,null,null,null,null,null,null,null,null,"2013-05-20T15:31:16",87.34,{"$f":"VLOOKUP(O1634,[1]Raw!$D:$K,8)","v":12.486099243},8.2256658827004649]
[null,null,null,null,null,null,null,null,null,null,null,null,null,null,"2013-05-20T15:41:16",87.47,{"$f":"VLOOKUP(O1635,[1]Raw!$D:$K,8)","v":12.536300659},8.2273994121445977]
[null,null,null,null,null,null,null,null,null,null,null,null,null,null,"2013-05-20T15:51:16",87.79,{"$f":"VLOOKUP(O1636,[1]Raw!$D:$K,8)","v":12.654499054},8.2317239868125593]
[null,null,null,null,null,null,null,null,null,null,null,null,null,null,"2013-05-20T16:01:16",88.09,{"$f":"VLOOKUP(O1637,[1]Raw!$D:$K,8)","v":12.868499756},8.2346219980634423]
[null,null,null,null,null,null,null,null,null,null,null,null,null,null,"2013-05-20T16:11:16",88.14,{"$f":"VLOOKUP(O1638,[1]Raw!$D:$K,8)","v":12.894199370999999},8.235215917025684]
[null,null,null,null,null,null,null,null,null,null,null,null,null,null,"2013-05-20T16:21:16",88.59,{"$f":"VLOOKUP(O1639,[1]Raw!$D:$K,8)","v":13.128099442},8.240527280391742]
[null,null,null,null,null,null,null,null,null,null,null,null,null,null,"2013-05-20T16:31:16",88.82,{"$f":"VLOOKUP(O1640,[1]Raw!$D:$K,8)","v":13.308300018000001},8.2425603724933296]
[null,null,null,null,null,null,null,null,null,null,null,null,null,null,"2013-05-20T16:41:16",89.4,{"$f":"VLOOKUP(O1641,[1]Raw!$D:$K,8)","v":13.239400864},8.2535376299222669]
[null,null,null,null,null,null,null,null,null,null,null,null,null,null,"2013-05-20T16:51:16",89.65,{"$f":"VLOOKUP(O1642,[1]Raw!$D:$K,8)","v":13.509700775000001},8.2549026492752144]
[null,null,null,null,null,null,null,null,null,null,null,null,null,null,"2013-05-20T17:01:16",91.13,{"$f":"VLOOKUP(O1643,[1]Raw!$D:$K,8)","v":14.152700424000001},8.2736691689936741]
[null,null,null,null,null,null,null,null,null,null,null,null,null,null,"2013-05-20T17:11:16",91.84,{"$f":"VLOOKUP(O1644,[1]Raw!$D:$K,8)","v":14.376199722000001},8.2836005236484276]
[null,null,null,null,null,null,null,null,null,null,null,null,null,null,"2013-05-20T17:21:16",92.12,{"$f":"VLOOKUP(O1645,[1]Raw!$D:$K,8)","v":14.392599106},8.288323157850348]
[null,null,null,null,null,null,null,null,null,null,null,null,null,null,"2013-05-20T17:31:16",92.22,{"$f":"VLOOKUP(O1646,[1]Raw!$D:$K,8)","v":14.280399322999999},8.2913446306977239]
[null,null,null,null,null,null,null,null,null,null,null,null,null,null,"2013-05-20T17:41:16",92.11,{"$f":"VLOOKUP(O1647,[1]Raw!$D:$K,8)","v":14.30340004},8.2891558618727537]
[null,null,null,null,null,null,null,null,null,null,null,null,null,null,"2013-05-20T17:51:16",92.03,{"$f":"VLOOKUP(O1648,[1]Raw!$D:$K,8)","v":14.271099091},8.288118252485777]
[null,null,null,null,null,null,null,null,null,null,null,null,null,null,"2013-05-20T18:01:16",91.61,{"$f":"VLOOKUP(O1649,[1]Raw!$D:$K,8)","v":14.101499557},8.2826671954490898]
[null,null,null,null,null,null,null,null,null,null,null,null,null,null,"2013-05-20T18:11:16",90.75,{"$f":"VLOOKUP(O1650,[1]Raw!$D:$K,8)","v":13.667299270999999},8.2724648070623434]
[null,null,null,null,null,null,null,null,null,null,null,null,null,null,"2013-05-20T18:21:16",89.5,{"$f":"VLOOKUP(O1651,[1]Raw!$D:$K,8)","v":12.930000305},8.2587749920478473]
[null,null,null,null,null,null,null,null,null,null,null,null,null,null,"2013-05-20T18:31:16",88.65,{"$f":"VLOOKUP(O1652,[1]Raw!$D:$K,8)","v":12.699199676999999},8.246387593047789]
[null,null,null,null,null,null,null,null,null,null,null,null,null,null,"2013-05-20T18:41:16",89.35,{"$f":"VLOOKUP(O1653,[1]Raw!$D:$K,8)","v":12.911600113},8.256339340416984]
[null,null,null,null,null,null,null,null,null,null,null,null,null,null,"2013-05-20T18:51:16",89.38,{"$f":"VLOOKUP(O1654,[1]Raw!$D:$K,8)","v":12.966899872000001},8.2562461032480137]
[null,null,null,null,null,null,null,null,null,null,null,null,null,null,"2013-05-20T19:01:16",89.33,{"$f":"VLOOKUP(O1655,[1]Raw!$D:$K,8)","v":13.2791996},8.2518594148483224]
[null,null,null,null,null,null,null,null,null,null,null,null,null,null,"2013-05-20T19:11:16",89.7,{"$f":"VLOOKUP(O1656,[1]Raw!$D:$K,8)","v":12.86989975},8.2629754945397185]
[null,null,null,null,null,null,null,null,null,null,null,null,null,null,"2013-05-20T19:21:16",89.48,{"$f":"VLOOKUP(O1657,[1]Raw!$D:$K,8)","v":12.88409996},8.2589391460833106]
[null,null,null,null,null,null,null,null,null,null,null,null,null,null,"2013-05-20T19:31:16",89.55,{"$f":"VLOOKUP(O1658,[1]Raw!$D:$K,8)","v":12.8125},8.2609788407130651]
[null,null,null,null,null,null,null,null,null,null,null,null,null,null,"2013-05-20T19:41:16",89.22,{"$f":"VLOOKUP(O1659,[1]Raw!$D:$K,8)","v":12.684600830000001},8.2566016076980073]
[null,null,null,null,null,null,null,null,null,null,null,null,null,null,"2013-05-20T19:51:16",89.47,{"$f":"VLOOKUP(O1660,[1]Raw!$D:$K,8)","v":12.588699341},8.2620907196213871]
[null,null,null,null,null,null,null,null,null,null,null,null,null,null,"2013-05-20T20:01:16",89.93,{"$f":"VLOOKUP(O1661,[1]Raw!$D:$K,8)","v":12.617799759},8.2698752071956694]
[null,null,null,null,null,null,null,null,null,null,null,null,null,null,"2013-05-20T20:11:16",89.59,{"$f":"VLOOKUP(O1662,[1]Raw!$D:$K,8)","v":12.623100280999999},8.2638191251934945]
[null,null,null,null,null,null,null,null,null,null,null,null,null,null,"2013-05-20T20:21:16",90.61,{"$f":"VLOOKUP(O1663,[1]Raw!$D:$K,8)","v":12.88999939},8.2787826102201798]
[null,null,null,null,null,null,null,null,null,null,null,null,null,null,"2013-05-20T20:31:19",90.97,{"$f":"VLOOKUP(O1664,[1]Raw!$D:$K,8)","v":12.791999817000001},8.2862378161679739]
[null,null,null,null,null,null,null,null,null,null,null,null,null,null,"2013-05-20T20:41:19",91.73,{"$f":"VLOOKUP(O1665,[1]Raw!$D:$K,8)","v":12.857099533},8.2988911244650403]
[null,null,null,null,null,null,null,null,null,null,null,null,null,null,"2013-05-20T20:51:19",91.49,{"$f":"VLOOKUP(O1666,[1]Raw!$D:$K,8)","v":12.733800887999999},8.296065767558483]
[null,null,null,null,null,null,null,null,null,null,null,null,null,null,"2013-05-20T21:01:19",90.85,{"$f":"VLOOKUP(O1667,[1]Raw!$D:$K,8)","v":12.611900329999999},8.2861674597155393]
[null,null,null,null,null,null,null,null,null,null,null,null,null,null,"2013-05-20T21:11:19",89.1,{"$f":"VLOOKUP(O1668,[1]Raw!$D:$K,8)","v":12.618000030999999},8.2552349701834835]
[null,null,null,null,null,null,null,null,null,null,null,null,null,null,"2013-05-20T21:21:19",89.77,{"$f":"VLOOKUP(O1669,[1]Raw!$D:$K,8)","v":12.842500686999999},8.2645178410903632]
[null,null,null,null,null,null,null,null,null,null,null,null,null,null,"2013-05-20T21:31:16",90.29,{"$f":"VLOOKUP(O1670,[1]Raw!$D:$K,8)","v":12.898599624999999},8.2730472092918603]
[null,null,null,null,null,null,null,null,null,null,null,null,null,null,"2013-05-20T21:41:16",90.63,{"$f":"VLOOKUP(O1671,[1]Raw!$D:$K,8)","v":12.758800507},8.280621458242674]
[null,null,null,null,null,null,null,null,null,null,null,null,null,null,"2013-05-20T21:51:16",90.13,{"$f":"VLOOKUP(O1672,[1]Raw!$D:$K,8)","v":12.648899077999999},8.2730505704254949]
[null,null,null,null,null,null,null,null,null,null,null,null,null,null,"2013-05-20T22:01:16",90.46,{"$f":"VLOOKUP(O1673,[1]Raw!$D:$K,8)","v":12.820299149},8.2769285009978315]
[null,null,null,null,null,null,null,null,null,null,null,null,null,null,"2013-05-20T22:11:16",90.29,{"$f":"VLOOKUP(O1674,[1]Raw!$D:$K,8)","v":12.846200942999999},8.2736395807109169]
[null,null,null,null,null,null,null,null,null,null,null,null,null,null,"2013-05-20T22:21:16",89.37,{"$f":"VLOOKUP(O1675,[1]Raw!$D:$K,8)","v":12.722900391},8.258815090677583]
[null,null,null,null,null,null,null,null,null,null,null,null,null,null,"2013-05-20T22:31:16",89.04,{"$f":"VLOOKUP(O1676,[1]Raw!$D:$K,8)","v":12.593999863000001},8.2544467818271716]
[null,null,null,null,null,null,null,null,null,null,null,null,null,null,"2013-05-20T22:41:16",88.63,{"$f":"VLOOKUP(O1677,[1]Raw!$D:$K,8)","v":12.456300734999999},8.2487617392559134]
[null,null,null,null,null,null,null,null,null,null,null,null,null,null,"2013-05-20T22:51:16",88.17,{"$f":"VLOOKUP(O1678,[1]Raw!$D:$K,8)","v":12.437000275000001},8.2408608505781089]
[null,null,null,null,null,null,null,null,null,null,null,null,null,null,"2013-05-20T23:01:16",87.99,{"$f":"VLOOKUP(O1679,[1]Raw!$D:$K,8)","v":12.459999084},8.2374268309920833]
[null,null,null,null,null,null,null,null,null,null,null,null,null,null,"2013-05-20T23:11:16",86.98,{"$f":"VLOOKUP(O1680,[1]Raw!$D:$K,8)","v":12.252500533999999},8.2219163165371665]
[null,null,null,null,null,null,null,null,null,null,null,null,null,null,"2013-05-20T23:21:16",87.67,{"$f":"VLOOKUP(O1681,[1]Raw!$D:$K,8)","v":12.357400894},8.2329271902432897]
[null,null,null,null,null,null,null,null,null,null,null,null,null,null,"2013-05-20T23:31:18",88.18,{"$f":"VLOOKUP(O1682,[1]Raw!$D:$K,8)","v":12.339500427000001},8.2421305916534902]
[null,null,null,null,null,null,null,null,null,null,null,null,null,null,"2013-05-20T23:41:18",88.01,{"$f":"VLOOKUP(O1683,[1]Raw!$D:$K,8)","v":12.365800858},8.2388348233316275]
[null,null,null,null,null,null,null,null,null,null,null,null,null,null,"2013-05-20T23:51:18",87.61,{"$f":"VLOOKUP(O1684,[1]Raw!$D:$K,8)","v":12.327899932999999},8.2321979185426155]
[null,null,null,null,null,null,null,null,null,null,null,null,null,null,"2013-05-21T00:01:18",88.45,{"$f":"VLOOKUP(O1685,[1]Raw!$D:$K,8)","v":12.465799332},8.2454788295774133]
[null,null,null,null,null,null,null,null,null,null,null,null,null,null,"2013-05-21T00:11:18",88.35,{"$f":"VLOOKUP(O1686,[1]Raw!$D:$K,8)","v":12.457799911},8.2438040140554172]
[null,null,null,null,null,null,null,null,null,null,null,null,null,null,"2013-05-21T00:21:18",88.81,{"$f":"VLOOKUP(O1687,[1]Raw!$D:$K,8)","v":12.428800582999999},8.252247349926602]
[null,null,null,null,null,null,null,null,null,null,null,null,null,null,"2013-05-21T00:31:17",89.01,{"$f":"VLOOKUP(O1688,[1]Raw!$D:$K,8)","v":12.450899123999999},8.2555280739321564]
[null,null,null,null,null,null,null,null,null,null,null,null,null,null,"2013-05-21T00:41:17",88.29,{"$f":"VLOOKUP(O1689,[1]Raw!$D:$K,8)","v":12.447599411000001},8.2428596499367401]
[null,null,null,null,null,null,null,null,null,null,null,null,null,null,"2013-05-21T00:51:17",86.84,{"$f":"VLOOKUP(O1690,[1]Raw!$D:$K,8)","v":12.330400467},8.2185764693246739]
[null,null,null,null,null,null,null,null,null,null,null,null,null,null,"2013-05-21T01:01:17",86.22,{"$f":"VLOOKUP(O1691,[1]Raw!$D:$K,8)","v":12.277099609},8.2082226202233457]
[null,null,null,null,null,null,null,null,null,null,null,null,null,null,"2013-05-21T01:11:17",85.45,{"$f":"VLOOKUP(O1692,[1]Raw!$D:$K,8)","v":12.242500305},8.1950090627054291]
[null,null,null,null,null,null,null,null,null,null,null,null,null,null,"2013-05-21T01:21:17",84.45,{"$f":"VLOOKUP(O1693,[1]Raw!$D:$K,8)","v":12.161500931000001},8.1782404796911834]
[null,null,null,null,null,null,null,null,null,null,null,null,null,null,"2013-05-21T01:31:16",83.73,{"$f":"VLOOKUP(O1694,[1]Raw!$D:$K,8)","v":12.069400786999999},8.1665314764449839]
[null,null,null,null,null,null,null,null,null,null,null,null,null,null,"2013-05-21T01:41:16",83.15,{"$f":"VLOOKUP(O1695,[1]Raw!$D:$K,8)","v":12.042999268000001},8.1565713591512381]
[null,null,null,null,null,null,null,null,null,null,null,null,null,null,"2013-05-21T01:51:16",83.58,{"$f":"VLOOKUP(O1696,[1]Raw!$D:$K,8)","v":12.06760025},8.1639006929411266]
[null,null,null,null,null,null,null,null,null,null,null,null,null,null,"2013-05-21T02:01:16",83.06,{"$f":"VLOOKUP(O1697,[1]Raw!$D:$K,8)","v":12.025699615000001},8.1551698832786865]
[null,null,null,null,null,null,null,null,null,null,null,null,null,null,"2013-05-21T02:11:16",83.86,{"$f":"VLOOKUP(O1698,[1]Raw!$D:$K,8)","v":12.092599869000001},8.1685740966741385]
[null,null,null,null,null,null,null,null,null,null,null,null,null,null,"2013-05-21T02:21:16",83.07,{"$f":"VLOOKUP(O1699,[1]Raw!$D:$K,8)","v":12.024200438999999},8.1553629891019632]
[null,null,null,null,null,null,null,null,null,null,null,null,null,null,"2013-05-21T02:31:16",82.39,{"$f":"VLOOKUP(O1700,[1]Raw!$D:$K,8)","v":11.988700867},8.1437318460370456]
[null,null,null,null,null,null,null,null,null,null,null,null,null,null,"2013-05-21T02:41:16",82.31,{"$f":"VLOOKUP(O1701,[1]Raw!$D:$K,8)","v":11.962499619000001},8.1426029548182619]
[null,null,null,null,null,null,null,null,null,null,null,null,null,null,"2013-05-21T02:51:16",80.94,{"$f":"VLOOKUP(O1702,[1]Raw!$D:$K,8)","v":11.829200745},8.1198259211277986]
[null,null,null,null,null,null,null,null,null,null,null,null,null,null,"2013-05-21T03:01:16",79.95,{"$f":"VLOOKUP(O1703,[1]Raw!$D:$K,8)","v":11.760499954},8.1030563021944211]
[null,null,null,null,null,null,null,null,null,null,null,null,null,null,"2013-05-21T03:11:16",78.349999999999994,{"$f":"VLOOKUP(O1704,[1]Raw!$D:$K,8)","v":11.654300689999999},8.0758852698891523]
[null,null,null,null,null,null,null,null,null,null,null,null,null,null,"2013-05-21T03:21:16",75.489999999999995,{"$f":"VLOOKUP(O1705,[1]Raw!$D:$K,8)","v":11.569200516},8.0261676381561351]
[null,null,null,null,null,null,null,null,null,null,null,null,null,null,"2013-05-21T03:31:17",72.53,{"$f":"VLOOKUP(O1706,[1]Raw!$D:$K,8)","v":11.476800919},7.9747249052328169]
[null,null,null,null,null,null,null,null,null,null,null,null,null,null,"2013-05-21T03:41:17",74.09,{"$f":"VLOOKUP(O1707,[1]Raw!$D:$K,8)","v":11.559600830000001},8.0014859858458696]
[null,null,null,null,null,null,null,null,null,null,null,null,null,null,"2013-05-21T03:51:17",74.44,{"$f":"VLOOKUP(O1708,[1]Raw!$D:$K,8)","v":11.563199997},8.0076440541532001]
[null,null,null,null,null,null,null,null,null,null,null,null,null,null,"2013-05-21T04:01:17",75.06,{"$f":"VLOOKUP(O1709,[1]Raw!$D:$K,8)","v":11.598600387999999},8.0182486265130262]
[null,null,null,null,null,null,null,null,null,null,null,null,null,null,"2013-05-21T04:11:17",75.930000000000007,{"$f":"VLOOKUP(O1710,[1]Raw!$D:$K,8)","v":11.640100479000001},8.0332107106937762]
[null,null,null,null,null,null,null,null,null,null,null,null,null,null,"2013-05-21T04:21:17",76.52,{"$f":"VLOOKUP(O1711,[1]Raw!$D:$K,8)","v":11.67939949},8.0432372983525422]
[null,null,null,null,null,null,null,null,null,null,null,null,null,null,"2013-05-21T04:31:18",75.08,{"$f":"VLOOKUP(O1712,[1]Raw!$D:$K,8)","v":11.555999756},8.0190483250344649]
[null,null,null,null,null,null,null,null,null,null,null,null,null,null,"2013-05-21T04:41:18",67.45,{"$f":"VLOOKUP(O1713,[1]Raw!$D:$K,8)","v":10.903300285},7.8905181401315403]
[null,null,null,null,null,null,null,null,null,null,null,null,null,null,"2013-05-21T04:51:18",66.400000000000006,{"$f":"VLOOKUP(O1714,[1]Raw!$D:$K,8)","v":10.880000114},7.8721207629414653]
[null,null,null,null,null,null,null,null,null,null,null,null,null,null,"2013-05-21T05:01:18",66.08,{"$f":"VLOOKUP(O1715,[1]Raw!$D:$K,8)","v":10.853199958999999},7.8667094082381546]
[null,null,null,null,null,null,null,null,null,null,null,null,null,null,"2013-05-21T05:11:18",65.650000000000006,{"$f":"VLOOKUP(O1716,[1]Raw!$D:$K,8)","v":10.812999724999999},7.8594778717913263]
[null,null,null,null,null,null,null,null,null,null,null,null,null,null,"2013-05-21T05:21:18",65.02,{"$f":"VLOOKUP(O1717,[1]Raw!$D:$K,8)","v":10.755299568},7.8488672797824348]
[null,null,null,null,null,null,null,null,null,null,null,null,null,null,"2013-05-21T05:31:16",64.760000000000005,{"$f":"VLOOKUP(O1718,[1]Raw!$D:$K,8)","v":10.718999863000001},7.8446104200097668]
[null,null,null,null,null,null,null,null,null,null,null,null,null,null,"2013-05-21T05:41:16",65.03,{"$f":"VLOOKUP(O1719,[1]Raw!$D:$K,8)","v":10.723999977},7.8493545377832996]
[null,null,null,null,null,null,null,null,null,null,null,null,null,null,"2013-05-21T05:51:16",65.62,{"$f":"VLOOKUP(O1720,[1]Raw!$D:$K,8)","v":10.772100449},7.8593515209006863]
[null,null,null,null,null,null,null,null,null,null,null,null,null,null,"2013-05-21T06:01:16",66.34,{"$f":"VLOOKUP(O1721,[1]Raw!$D:$K,8)","v":10.799200058},7.8718617677594125]
[null,null,null,null,null,null,null,null,null,null,null,null,null,null,"2013-05-21T06:11:16",66.680000000000007,{"$f":"VLOOKUP(O1722,[1]Raw!$D:$K,8)","v":10.814599991},7.8777425410688373]
[null,null,null,null,null,null,null,null,null,null,null,null,null,null,"2013-05-21T06:21:16",67.25,{"$f":"VLOOKUP(O1723,[1]Raw!$D:$K,8)","v":10.834300041000001},7.8876613991295788]
[null,null,null,null,null,null,null,null,null,null,null,null,null,null,"2013-05-21T06:31:16",67.98,{"$f":"VLOOKUP(O1724,[1]Raw!$D:$K,8)","v":10.894499779},7.9000103177013088]
[null,null,null,null,null,null,null,null,null,null,null,null,null,null,"2013-05-21T06:41:16",68.36,{"$f":"VLOOKUP(O1725,[1]Raw!$D:$K,8)","v":10.942099571},7.9062723511396422]
[null,null,null,null,null,null,null,null,null,null,null,null,null,null,"2013-05-21T06:51:16",68.930000000000007,{"$f":"VLOOKUP(O1726,[1]Raw!$D:$K,8)","v":10.976200104},7.9160389966103804]
[null,null,null,null,null,null,null,null,null,null,null,null,null,null,"2013-05-21T07:01:16",68.92,{"$f":"VLOOKUP(O1727,[1]Raw!$D:$K,8)","v":10.961899756999999},7.9160063768105635]
[null,null,null,null,null,null,null,null,null,null,null,null,null,null,"2013-05-21T07:11:16",68.989999999999995,{"$f":"VLOOKUP(O1728,[1]Raw!$D:$K,8)","v":10.924799919},7.9176238873901088]
[null,null,null,null,null,null,null,null,null,null,null,null,null,null,"2013-05-21T07:21:16",69.05,{"$f":"VLOOKUP(O1729,[1]Raw!$D:$K,8)","v":10.895600319},7.9189843042835513]
[null,null,null,null,null,null,null,null,null,null,null,null,null,null,"2013-05-21T07:31:16",69.58,{"$f":"VLOOKUP(O1730,[1]Raw!$D:$K,8)","v":10.909199715},7.9282498331667144]
[null,null,null,null,null,null,null,null,null,null,null,null,null,null,"2013-05-21T07:41:16",69.430000000000007,{"$f":"VLOOKUP(O1731,[1]Raw!$D:$K,8)","v":10.880800247},7.9258770408943269]
[null,null,null,null,null,null,null,null,null,null,null,null,null,null,"2013-05-21T07:51:16",69.86,{"$f":"VLOOKUP(O1732,[1]Raw!$D:$K,8)","v":10.887900352000001},7.9334346187321749]
[null,null,null,null,null,null,null,null,null,null,null,null,null,null,"2013-05-21T08:01:16",69.959999999999994,{"$f":"VLOOKUP(O1733,[1]Raw!$D:$K,8)","v":10.911700249000001},7.9349663856786607]
[null,null,null,null,null,null,null,null,null,null,null,null,null,null,"2013-05-21T08:11:16",70.14,{"$f":"VLOOKUP(O1734,[1]Raw!$D:$K,8)","v":10.931200026999999},7.9379610090349768]
[null,null,null,null,null,null,null,null,null,null,null,null,null,null,"2013-05-21T08:21:16",70.239999999999995,{"$f":"VLOOKUP(O1735,[1]Raw!$D:$K,8)","v":10.949700355999999},7.9395462532379115]
[null,null,null,null,null,null,null,null,null,null,null,null,null,null,"2013-05-21T08:31:16",70.58,{"$f":"VLOOKUP(O1736,[1]Raw!$D:$K,8)","v":10.987700461999999},7.9451891340000325]
[null,null,null,null,null,null,null,null,null,null,null,null,null,null,"2013-05-21T08:41:16",70.88,{"$f":"VLOOKUP(O1737,[1]Raw!$D:$K,8)","v":11.013999939},7.9502409411357657]
[null,null,null,null,null,null,null,null,null,null,null,null,null,null,"2013-05-21T08:51:16",71.45,{"$f":"VLOOKUP(O1738,[1]Raw!$D:$K,8)","v":11.067100525000001},7.9598046256253703]
[null,null,null,null,null,null,null,null,null,null,null,null,null,null,"2013-05-21T09:01:16",71.849999999999994,{"$f":"VLOOKUP(O1739,[1]Raw!$D:$K,8)","v":11.098499298},7.9665742346984629]
[null,null,null,null,null,null,null,null,null,null,null,null,null,null,"2013-05-21T09:11:16",71.900000000000006,{"$f":"VLOOKUP(O1740,[1]Raw!$D:$K,8)","v":11.085899353},7.9675905333549064]
[null,null,null,null,null,null,null,null,null,null,null,null,null,null,"2013-05-21T09:21:16",70.72,{"$f":"VLOOKUP(O1741,[1]Raw!$D:$K,8)","v":10.962400435999999},7.9479312973678065]
[null,null,null,null,null,null,null,null,null,null,null,null,null,null,"2013-05-21T09:31:16",69.739999999999995,{"$f":"VLOOKUP(O1742,[1]Raw!$D:$K,8)","v":10.905599594},7.9311252297151027]
[null,null,null,null,null,null,null,null,null,null,null,null,null,null,"2013-05-21T09:41:16",68.989999999999995,{"$f":"VLOOKUP(O1743,[1]Raw!$D:$K,8)","v":10.844499588},7.9184375907306697]
[null,null,null,null,null,null,null,null,null,null,null,null,null,null,"2013-05-21T09:51:16",68.58,{"$f":"VLOOKUP(O1744,[1]Raw!$D:$K,8)","v":10.834699630999999},7.9112607152300898]
[null,null,null,null,null,null,null,null,null,null,null,null,null,null,"2013-05-21T10:01:16",68.91,{"$f":"VLOOKUP(O1745,[1]Raw!$D:$K,8)","v":10.863300323000001},7.9168274311328855]
[null,null,null,null,null,null,null,null,null,null,null,null,null,null,"2013-05-21T10:11:16",68.7,{"$f":"VLOOKUP(O1746,[1]Raw!$D:$K,8)","v":10.871600151000001},7.9130170018865265]
[null,null,null,null,null,null,null,null,null,null,null,null,null,null,"2013-05-21T10:21:16",68.73,{"$f":"VLOOKUP(O1747,[1]Raw!$D:$K,8)","v":10.894000052999999},7.913322715570712]
[null,null,null,null,null,null,null,null,null,null,null,null,null,null,"2013-05-21T10:31:16",68.319999999999993,{"$f":"VLOOKUP(O1748,[1]Raw!$D:$K,8)","v":10.88010025},7.9061882882460308]
[null,null,null,null,null,null,null,null,null,null,null,null,null,null,"2013-05-21T10:41:16",68.25,{"$f":"VLOOKUP(O1749,[1]Raw!$D:$K,8)","v":10.884799957},7.9048987998660882]
[null,null,null,null,null,null,null,null,null,null,null,null,null,null,"2013-05-21T10:51:16",67.900000000000006,{"$f":"VLOOKUP(O1750,[1]Raw!$D:$K,8)","v":10.849399567000001},7.899044849163765]
[null,null,null,null,null,null,null,null,null,null,null,null,null,null,"2013-05-21T11:01:16",66.31,{"$f":"VLOOKUP(O1751,[1]Raw!$D:$K,8)","v":10.703399658},7.8722849229798477]
[null,null,null,null,null,null,null,null,null,null,null,null,null,null,"2013-05-21T11:11:16",66.84,{"$f":"VLOOKUP(O1752,[1]Raw!$D:$K,8)","v":10.745200156999999},7.8812766763948545]
[null,null,null,null,null,null,null,null,null,null,null,null,null,null,"2013-05-21T11:21:16",67.2,{"$f":"VLOOKUP(O1753,[1]Raw!$D:$K,8)","v":10.779700279},7.8873215217867934]
[null,null,null,null,null,null,null,null,null,null,null,null,null,null,"2013-05-21T11:31:18",67.45,{"$f":"VLOOKUP(O1754,[1]Raw!$D:$K,8)","v":10.815299988},7.8914015608298058]
[null,null,null,null,null,null,null,null,null,null,null,null,null,null,"2013-05-21T11:41:18",67.680000000000007,{"$f":"VLOOKUP(O1755,[1]Raw!$D:$K,8)","v":10.841600418000001},7.8952191562362932]
[null,null,null,null,null,null,null,null,null,null,null,null,null,null,"2013-05-21T11:51:18",67.849999999999994,{"$f":"VLOOKUP(O1756,[1]Raw!$D:$K,8)","v":10.860899925},7.8980418110834707]
[null,null,null,null,null,null,null,null,null,null,null,null,null,null,"2013-05-21T12:01:18",67.92,{"$f":"VLOOKUP(O1757,[1]Raw!$D:$K,8)","v":10.866900444000001},7.8992235641607653]
[null,null,null,null,null,null,null,null,null,null,null,null,null,null,"2013-05-21T12:11:18",67.98,{"$f":"VLOOKUP(O1758,[1]Raw!$D:$K,8)","v":10.871999741},7.9002368988033185]
[null,null,null,null,null,null,null,null,null,null,null,null,null,null,"2013-05-21T12:21:18",67.95,{"$f":"VLOOKUP(O1759,[1]Raw!$D:$K,8)","v":10.886599541000001},7.8995575625123413]
[null,null,null,null,null,null,null,null,null,null,null,null,null,null,"2013-05-21T12:31:17",67.88,{"$f":"VLOOKUP(O1760,[1]Raw!$D:$K,8)","v":10.87650013},7.8984171510957353]
[null,null,null,null,null,null,null,null,null,null,null,null,null,null,"2013-05-21T12:41:17",68.03,{"$f":"VLOOKUP(O1761,[1]Raw!$D:$K,8)","v":10.889800072},7.9009448128236359]
[null,null,null,null,null,null,null,null,null,null,null,null,null,null,"2013-05-21T12:51:17",68.069999999999993,{"$f":"VLOOKUP(O1762,[1]Raw!$D:$K,8)","v":10.91079998},7.9014429824189563]
[null,null,null,null,null,null,null,null,null,null,null,null,null,null,"2013-05-21T13:01:17",68.209999999999994,{"$f":"VLOOKUP(O1763,[1]Raw!$D:$K,8)","v":10.923500061},7.9037988321851405]
[null,null,null,null,null,null,null,null,null,null,null,null,null,null,"2013-05-21T13:11:17",68.39,{"$f":"VLOOKUP(O1764,[1]Raw!$D:$K,8)","v":10.938699722000001},7.9068388662683722]
[null,null,null,null,null,null,null,null,null,null,null,null,null,null,"2013-05-21T13:21:17",68.5,{"$f":"VLOOKUP(O1765,[1]Raw!$D:$K,8)","v":10.946499825},7.9087115366865444]
[null,null,null,null,null,null,null,null,null,null,null,null,null,null,"2013-05-21T13:31:16",68.61,{"$f":"VLOOKUP(O1766,[1]Raw!$D:$K,8)","v":10.930299759},7.9108266357916976]
[null,null,null,null,null,null,null,null,null,null,null,null,null,null,"2013-05-21T13:41:16",68.709999999999994,{"$f":"VLOOKUP(O1767,[1]Raw!$D:$K,8)","v":10.926600455999999},7.9126381342385192]
[null,null,null,null,null,null,null,null,null,null,null,null,null,null,"2013-05-21T13:51:16",68.78,{"$f":"VLOOKUP(O1768,[1]Raw!$D:$K,8)","v":10.899399756999999},7.9141552322204189]
[null,null,null,null,null,null,null,null,null,null,null,null,null,null,"2013-05-21T14:01:16",68.61,{"$f":"VLOOKUP(O1769,[1]Raw!$D:$K,8)","v":10.880700110999999},7.9113279903844536]
[null,null,null,null,null,null,null,null,null,null,null,null,null,null,"2013-05-21T14:11:16",68.33,{"$f":"VLOOKUP(O1770,[1]Raw!$D:$K,8)","v":10.851499557},7.9066544055417873]
[null,null,null,null,null,null,null,null,null,null,null,null,null,null,"2013-05-21T14:21:16",68.17,{"$f":"VLOOKUP(O1771,[1]Raw!$D:$K,8)","v":10.804900169},7.9042850789443877]
[null,null,null,null,null,null,null,null,null,null,null,null,null,null,"2013-05-21T14:31:16",68.44,{"$f":"VLOOKUP(O1772,[1]Raw!$D:$K,8)","v":10.873200417},7.9083872555741666]
[null,null,null,null,null,null,null,null,null,null,null,null,null,null,"2013-05-21T14:41:16",68.78,{"$f":"VLOOKUP(O1773,[1]Raw!$D:$K,8)","v":10.924400329999999},7.9139022716822343]
[null,null,null,null,null,null,null,null,null,null,null,null,null,null,"2013-05-21T14:51:16",68.959999999999994,{"$f":"VLOOKUP(O1774,[1]Raw!$D:$K,8)","v":10.94659996},7.916870865429436]
[null,null,null,null,null,null,null,null,null,null,null,null,null,null,"2013-05-21T15:01:16",69.260000000000005,{"$f":"VLOOKUP(O1775,[1]Raw!$D:$K,8)","v":11.007799149},7.9215720519336399]
[null,null,null,null,null,null,null,null,null,null,null,null,null,null,"2013-05-21T15:11:16",69.59,{"$f":"VLOOKUP(O1776,[1]Raw!$D:$K,8)","v":11.069400786999999},7.9267990928867533]
[null,null,null,null,null,null,null,null,null,null,null,null,null,null,"2013-05-21T15:21:16",69.86,{"$f":"VLOOKUP(O1777,[1]Raw!$D:$K,8)","v":11.094999313000001},7.9313263630090871]
[null,null,null,null,null,null,null,null,null,null,null,null,null,null,"2013-05-21T15:31:18",69.75,{"$f":"VLOOKUP(O1778,[1]Raw!$D:$K,8)","v":11.119800568},7.9291238969070887]
[null,null,null,null,null,null,null,null,null,null,null,null,null,null,"2013-05-21T15:41:18",69.42,{"$f":"VLOOKUP(O1779,[1]Raw!$D:$K,8)","v":11.103099823000001},7.9234427176233657]
[null,null,null,null,null,null,null,null,null,null,null,null,null,null,"2013-05-21T15:51:18",68.66,{"$f":"VLOOKUP(O1780,[1]Raw!$D:$K,8)","v":11.011899948},7.9108889893244889]
[null,null,null,null,null,null,null,null,null,null,null,null,null,null,"2013-05-21T16:01:18",66.88,{"$f":"VLOOKUP(O1781,[1]Raw!$D:$K,8)","v":10.854499817000001},7.8808929677820307]
[null,null,null,null,null,null,null,null,null,null,null,null,null,null,"2013-05-21T16:11:18",66.84,{"$f":"VLOOKUP(O1782,[1]Raw!$D:$K,8)","v":10.711500168000001},7.8816140116791535]
[null,null,null,null,null,null,null,null,null,null,null,null,null,null,"2013-05-21T16:21:18",67.05,{"$f":"VLOOKUP(O1783,[1]Raw!$D:$K,8)","v":10.717599869000001},7.8852813259146846]
[null,null,null,null,null,null,null,null,null,null,null,null,null,null,"2013-05-21T16:31:18",67.28,{"$f":"VLOOKUP(O1784,[1]Raw!$D:$K,8)","v":10.757800101999999},7.8889613053738987]
[null,null,null,null,null,null,null,null,null,null,null,null,null,null,"2013-05-21T16:41:18",67.42,{"$f":"VLOOKUP(O1785,[1]Raw!$D:$K,8)","v":10.767200470000001},7.8913521231889723]
[null,null,null,null,null,null,null,null,null,null,null,null,null,null,"2013-05-21T16:51:18",67.400000000000006,{"$f":"VLOOKUP(O1786,[1]Raw!$D:$K,8)","v":10.770799637},7.8909609584259499]
[null,null,null,null,null,null,null,null,null,null,null,null,null,null,"2013-05-21T17:01:18",67.37,{"$f":"VLOOKUP(O1787,[1]Raw!$D:$K,8)","v":10.778300285},7.8903531275838619]
[null,null,null,null,null,null,null,null,null,null,null,null,null,null,"2013-05-21T17:11:18",67.55,{"$f":"VLOOKUP(O1788,[1]Raw!$D:$K,8)","v":10.786600113},7.8934647792262727]
[null,null,null,null,null,null,null,null,null,null,null,null,null,null,"2013-05-21T17:21:18",67.34,{"$f":"VLOOKUP(O1789,[1]Raw!$D:$K,8)","v":10.782799721},7.8897754528156279]
[null,null,null,null,null,null,null,null,null,null,null,null,null,null,"2013-05-21T17:31:16",67.31,{"$f":"VLOOKUP(O1790,[1]Raw!$D:$K,8)","v":10.760800361999999},7.8894637412882735]
[null,null,null,null,null,null,null,null,null,null,null,null,null,null,"2013-05-21T17:41:16",67.3,{"$f":"VLOOKUP(O1791,[1]Raw!$D:$K,8)","v":10.772500038},7.8891688084094422]
[null,null,null,null,null,null,null,null,null,null,null,null,null,null,"2013-05-21T17:51:16",67.040000000000006,{"$f":"VLOOKUP(O1792,[1]Raw!$D:$K,8)","v":10.756099701},7.8847179441819941]
[null,null,null,null,null,null,null,null,null,null,null,null,null,null,"2013-05-21T18:01:16",67.13,{"$f":"VLOOKUP(O1793,[1]Raw!$D:$K,8)","v":10.734499931},7.8865321822814227]
[null,null,null,null,null,null,null,null,null,null,null,null,null,null,"2013-05-21T18:11:16",67.31,{"$f":"VLOOKUP(O1794,[1]Raw!$D:$K,8)","v":10.802100182},7.8890492731840034]
[null,null,null,null,null,null,null,null,null,null,null,null,null,null,"2013-05-21T18:21:16",67.37,{"$f":"VLOOKUP(O1795,[1]Raw!$D:$K,8)","v":10.795100211999999},7.8901844736088123]
[null,null,null,null,null,null,null,null,null,null,null,null,null,null,"2013-05-21T18:31:16",66.959999999999994,{"$f":"VLOOKUP(O1796,[1]Raw!$D:$K,8)","v":10.760999679999999},7.8832487274693364]
[null,null,null,null,null,null,null,null,null,null,null,null,null,null,"2013-05-21T18:41:16",66.819999999999993,{"$f":"VLOOKUP(O1797,[1]Raw!$D:$K,8)","v":10.796699523999999},7.8804063401725157]
[null,null,null,null,null,null,null,null,null,null,null,null,null,null,"2013-05-21T18:51:16",66.28,{"$f":"VLOOKUP(O1798,[1]Raw!$D:$K,8)","v":10.759900093000001},7.8711886961110871]
[null,null,null,null,null,null,null,null,null,null,null,null,null,null,"2013-05-21T19:01:16",66.2,{"$f":"VLOOKUP(O1799,[1]Raw!$D:$K,8)","v":10.695799828},7.8704076505358183]
[null,null,null,null,null,null,null,null,null,null,null,null,null,null,"2013-05-21T19:11:16",66.39,{"$f":"VLOOKUP(O1800,[1]Raw!$D:$K,8)","v":10.749400139},7.8732461541081165]
[null,null,null,null,null,null,null,null,null,null,null,null,null,null,"2013-05-21T19:21:16",66.58,{"$f":"VLOOKUP(O1801,[1]Raw!$D:$K,8)","v":10.730500221},7.8768079350641695]
[null,null,null,null,null,null,null,null,null,null,null,null,null,null,"2013-05-21T19:31:16",66.680000000000007,{"$f":"VLOOKUP(O1802,[1]Raw!$D:$K,8)","v":10.753899574},7.8783493029881493]
[null,null,null,null,null,null,null,null,null,null,null,null,null,null,"2013-05-21T19:41:16",66.540000000000006,{"$f":"VLOOKUP(O1803,[1]Raw!$D:$K,8)","v":10.742300033999999},7.8759799126248202]
[null,null,null,null,null,null,null,null,null,null,null,null,null,null,"2013-05-21T19:51:16",66.489999999999995,{"$f":"VLOOKUP(O1804,[1]Raw!$D:$K,8)","v":10.766900063},7.8748466196181033]
[null,null,null,null,null,null,null,null,null,null,null,null,null,null,"2013-05-21T20:01:16",66.349999999999994,{"$f":"VLOOKUP(O1805,[1]Raw!$D:$K,8)","v":10.754300117},7.8724871761432613]
[null,null,null,null,null,null,null,null,null,null,null,null,null,null,"2013-05-21T20:11:16",66.599999999999994,{"$f":"VLOOKUP(O1806,[1]Raw!$D:$K,8)","v":10.761799812},7.8768502041375816]
[null,null,null,null,null,null,null,null,null,null,null,null,null,null,"2013-05-21T20:21:16",66.63,{"$f":"VLOOKUP(O1807,[1]Raw!$D:$K,8)","v":10.769700050000001},7.8773037901856311]
[null,null,null,null,null,null,null,null,null,null,null,null,null,null,"2013-05-21T20:31:16",66.61,{"$f":"VLOOKUP(O1808,[1]Raw!$D:$K,8)","v":10.777099609},7.876874832407915]
[null,null,null,null,null,null,null,null,null,null,null,null,null,null,"2013-05-21T20:41:16",66.53,{"$f":"VLOOKUP(O1809,[1]Raw!$D:$K,8)","v":10.777999877999999},7.8754458045400213]
[null,null,null,null,null,null,null,null,null,null,null,null,null,null,"2013-05-21T20:51:16",66.33,{"$f":"VLOOKUP(O1810,[1]Raw!$D:$K,8)","v":10.758899689},7.8720862527761106]
[null,null,null,null,null,null,null,null,null,null,null,null,null,null,"2013-05-21T21:01:16",66.3,{"$f":"VLOOKUP(O1811,[1]Raw!$D:$K,8)","v":10.760600090000001},7.8715367450872886]
[null,null,null,null,null,null,null,null,null,null,null,null,null,null,"2013-05-21T21:11:16",66.599999999999994,{"$f":"VLOOKUP(O1812,[1]Raw!$D:$K,8)","v":10.767700195},7.8767912452670226]
[null,null,null,null,null,null,null,null,null,null,null,null,null,null,"2013-05-21T21:21:16",66.83,{"$f":"VLOOKUP(O1813,[1]Raw!$D:$K,8)","v":10.803899765000001},7.8805117994708098]
[null,null,null,null,null,null,null,null,null,null,null,null,null,null,"2013-05-21T21:31:16",66.900000000000006,{"$f":"VLOOKUP(O1814,[1]Raw!$D:$K,8)","v":10.826899529},7.881524042726487]
[null,null,null,null,null,null,null,null,null,null,null,null,null,null,"2013-05-21T21:41:16",66.849999999999994,{"$f":"VLOOKUP(O1815,[1]Raw!$D:$K,8)","v":10.820199966000001},7.8807036969117936]
[null,null,null,null,null,null,null,null,null,null,null,null,null,null,"2013-05-21T21:51:16",66.78,{"$f":"VLOOKUP(O1816,[1]Raw!$D:$K,8)","v":10.786800384999999},7.8797953793239568]
[null,null,null,null,null,null,null,null,null,null,null,null,null,null,"2013-05-21T22:01:16",66.64,{"$f":"VLOOKUP(O1817,[1]Raw!$D:$K,8)","v":10.762700081},7.8775512625540793]
[null,null,null,null,null,null,null,null,null,null,null,null,null,null,"2013-05-21T22:11:16",66.67,{"$f":"VLOOKUP(O1818,[1]Raw!$D:$K,8)","v":10.777299880999999},7.8779378581044153]
[null,null,null,null,null,null,null,null,null,null,null,null,null,null,"2013-05-21T22:21:16",66.739999999999995,{"$f":"VLOOKUP(O1819,[1]Raw!$D:$K,8)","v":10.797800064},7.878975397276454]
[null,null,null,null,null,null,null,null,null,null,null,null,null,null,"2013-05-21T22:31:16",66.78,{"$f":"VLOOKUP(O1820,[1]Raw!$D:$K,8)","v":10.802599906999999},7.8796373600225591]
[null,null,null,null,null,null,null,null,null,null,null,null,null,null,"2013-05-21T22:41:16",66.89,{"$f":"VLOOKUP(O1821,[1]Raw!$D:$K,8)","v":10.799900055},7.8816167552113852]
[null,null,null,null,null,null,null,null,null,null,null,null,null,null,"2013-05-21T22:51:16",66.87,{"$f":"VLOOKUP(O1822,[1]Raw!$D:$K,8)","v":10.822400093000001},7.881036639349893]
[null,null,null,null,null,null,null,null,null,null,null,null,null,null,"2013-05-21T23:01:16",66.73,{"$f":"VLOOKUP(O1823,[1]Raw!$D:$K,8)","v":10.806900024000001},7.8787069254926445]
[null,null,null,null,null,null,null,null,null,null,null,null,null,null,"2013-05-21T23:11:16",66.599999999999994,{"$f":"VLOOKUP(O1824,[1]Raw!$D:$K,8)","v":10.780400276},7.8766643495420228]
[null,null,null,null,null,null,null,null,null,null,null,null,null,null,"2013-05-21T23:21:16",66.5,{"$f":"VLOOKUP(O1825,[1]Raw!$D:$K,8)","v":10.79090023},7.8747844857428859]
[null,null,null,null,null,null,null,null,null,null,null,null,null,null,"2013-05-21T23:31:17",66.39,{"$f":"VLOOKUP(O1826,[1]Raw!$D:$K,8)","v":10.773799896},7.8730026574198506]
[null,null,null,null,null,null,null,null,null,null,null,null,null,null,"2013-05-21T23:41:17",66.48,{"$f":"VLOOKUP(O1827,[1]Raw!$D:$K,8)","v":10.78069973},7.8745313294421591]
[null,null,null,null,null,null,null,null,null,null,null,null,null,null,"2013-05-21T23:51:17",66.48,{"$f":"VLOOKUP(O1828,[1]Raw!$D:$K,8)","v":10.772000312999999},7.8746181849575194]
[null,null,null,null,null,null,null,null,null,null,null,null,null,null,"2013-05-22T00:01:17",66.5,{"$f":"VLOOKUP(O1829,[1]Raw!$D:$K,8)","v":10.764499664000001},7.8750481011245475]
[null,null,null,null,null,null,null,null,null,null,null,null,null,null,"2013-05-22T00:11:17",66.27,{"$f":"VLOOKUP(O1830,[1]Raw!$D:$K,8)","v":10.737600326999999},7.8712335734629395]
[null,null,null,null,null,null,null,null,null,null,null,null,null,null,"2013-05-22T00:21:17",66.13,{"$f":"VLOOKUP(O1831,[1]Raw!$D:$K,8)","v":10.710200309999999},7.8690212281062584]
[null,null,null,null,null,null,null,null,null,null,null,null,null,null,"2013-05-22T00:31:17",66.33,{"$f":"VLOOKUP(O1832,[1]Raw!$D:$K,8)","v":10.715999603},7.8725142848565159]
[null,null,null,null,null,null,null,null,null,null,null,null,null,null,"2013-05-22T00:41:17",66.59,{"$f":"VLOOKUP(O1833,[1]Raw!$D:$K,8)","v":10.718400001999999},7.8771064055543123]
[null,null,null,null,null,null,null,null,null,null,null,null,null,null,"2013-05-22T00:51:17",66.959999999999994,{"$f":"VLOOKUP(O1834,[1]Raw!$D:$K,8)","v":10.697400093000001},7.8838858297924217]
[null,null,null,null,null,null,null,null,null,null,null,null,null,null,"2013-05-22T01:01:17",66.349999999999994,{"$f":"VLOOKUP(O1835,[1]Raw!$D:$K,8)","v":10.701000214},7.8730190749270754]
[null,null,null,null,null,null,null,null,null,null,null,null,null,null,"2013-05-22T01:11:17",66.47,{"$f":"VLOOKUP(O1836,[1]Raw!$D:$K,8)","v":10.727499962},7.8748850268538479]
[null,null,null,null,null,null,null,null,null,null,null,null,null,null,"2013-05-22T01:21:17",66.19,{"$f":"VLOOKUP(O1837,[1]Raw!$D:$K,8)","v":10.684499741},7.8703427793994907]
[null,null,null,null,null,null,null,null,null,null,null,null,null,null,"2013-05-22T01:31:16",66.87,{"$f":"VLOOKUP(O1838,[1]Raw!$D:$K,8)","v":10.693300247},7.8823288963427176]
[null,null,null,null,null,null,null,null,null,null,null,null,null,null,"2013-05-22T01:41:16",66.55,{"$f":"VLOOKUP(O1839,[1]Raw!$D:$K,8)","v":10.729399681},7.8762863301247723]
[null,null,null,null,null,null,null,null,null,null,null,null,null,null,"2013-05-22T01:51:16",66.44,{"$f":"VLOOKUP(O1840,[1]Raw!$D:$K,8)","v":10.742500305},7.8742026495583035]
[null,null,null,null,null,null,null,null,null,null,null,null,null,null,"2013-05-22T02:01:16",66.510000000000005,{"$f":"VLOOKUP(O1841,[1]Raw!$D:$K,8)","v":10.739999771000001},7.875470309531817]
[null,null,null,null,null,null,null,null,null,null,null,null,null,null,"2013-05-22T02:11:16",67.400000000000006,{"$f":"VLOOKUP(O1842,[1]Raw!$D:$K,8)","v":10.835800171000001},7.8903083743645936]
[null,null,null,null,null,null,null,null,null,null,null,null,null,null,"2013-05-22T02:21:16",67.98,{"$f":"VLOOKUP(O1843,[1]Raw!$D:$K,8)","v":10.883600234999999},7.9001200743971118]
[null,null,null,null,null,null,null,null,null,null,null,null,null,null,"2013-05-22T02:31:16",68.02,{"$f":"VLOOKUP(O1844,[1]Raw!$D:$K,8)","v":10.899499893},7.9006696825961571]
[null,null,null,null,null,null,null,null,null,null,null,null,null,null,"2013-05-22T02:41:16",68.02,{"$f":"VLOOKUP(O1845,[1]Raw!$D:$K,8)","v":10.903499603},7.9006293996819554]
[null,null,null,null,null,null,null,null,null,null,null,null,null,null,"2013-05-22T02:51:16",68.569999999999993,{"$f":"VLOOKUP(O1846,[1]Raw!$D:$K,8)","v":10.949000358999999},7.9099280662803713]
[null,null,null,null,null,null,null,null,null,null,null,null,null,null,"2013-05-22T03:01:16",68.5,{"$f":"VLOOKUP(O1847,[1]Raw!$D:$K,8)","v":10.988599776999999},7.9082864642117032]
[null,null,null,null,null,null,null,null,null,null,null,null,null,null,"2013-05-22T03:11:16",68.44,{"$f":"VLOOKUP(O1848,[1]Raw!$D:$K,8)","v":10.930399895000001},7.9078096740124142]
[null,null,null,null,null,null,null,null,null,null,null,null,null,null,"2013-05-22T03:21:16",68.37,{"$f":"VLOOKUP(O1849,[1]Raw!$D:$K,8)","v":10.907099724},7.9068029598773695]
[null,null,null,null,null,null,null,null,null,null,null,null,null,null,"2013-05-22T03:31:16",68.569999999999993,{"$f":"VLOOKUP(O1850,[1]Raw!$D:$K,8)","v":10.948100090000001},7.9099371612176048]
[null,null,null,null,null,null,null,null,null,null,null,null,null,null,"2013-05-22T03:41:16",68.48,{"$f":"VLOOKUP(O1851,[1]Raw!$D:$K,8)","v":10.932900429},7.908494058742507]
[null,null,null,null,null,null,null,null,null,null,null,null,null,null,"2013-05-22T03:51:16",68.77,{"$f":"VLOOKUP(O1852,[1]Raw!$D:$K,8)","v":10.966400146},7.9133000234635142]
[null,null,null,null,null,null,null,null,null,null,null,null,null,null,"2013-05-22T04:01:16",70.290000000000006,{"$f":"VLOOKUP(O1853,[1]Raw!$D:$K,8)","v":11.126499175999999},7.9386292818405684]
[null,null,null,null,null,null,null,null,null,null,null,null,null,null,"2013-05-22T04:11:16",69.069999999999993,{"$f":"VLOOKUP(O1854,[1]Raw!$D:$K,8)","v":11.104299545},7.917225037423206]
[null,null,null,null,null,null,null,null,null,null,null,null,null,null,"2013-05-22T04:21:16",69.09,{"$f":"VLOOKUP(O1855,[1]Raw!$D:$K,8)","v":11.082300185999999},7.9178023730502325]
[null,null,null,null,null,null,null,null,null,null,null,null,null,null,"2013-05-22T04:31:16",68.239999999999995,{"$f":"VLOOKUP(O1856,[1]Raw!$D:$K,8)","v":10.953499794000001},7.9040285970236415]
[null,null,null,null,null,null,null,null,null,null,null,null,null,null,"2013-05-22T04:41:16",67.86,{"$f":"VLOOKUP(O1857,[1]Raw!$D:$K,8)","v":10.906399727},7.8977614111130841]
[null,null,null,null,null,null,null,null,null,null,null,null,null,null,"2013-05-22T04:51:16",67.73,{"$f":"VLOOKUP(O1858,[1]Raw!$D:$K,8)","v":10.874799727999999},7.8957726117731335]
[null,null,null,null,null,null,null,null,null,null,null,null,null,null,"2013-05-22T05:01:16",70.16,{"$f":"VLOOKUP(O1859,[1]Raw!$D:$K,8)","v":11.071399689},7.9368860747285161]
[null,null,null,null,null,null,null,null,null,null,null,null,null,null,"2013-05-22T05:11:16",70.180000000000007,{"$f":"VLOOKUP(O1860,[1]Raw!$D:$K,8)","v":11.142999649},7.9365109972693011]
[null,null,null,null,null,null,null,null,null,null,null,null,null,null,"2013-05-22T05:21:16",69.36,{"$f":"VLOOKUP(O1861,[1]Raw!$D:$K,8)","v":11.073799133},7.922676073358196]
[null,null,null,null,null,null,null,null,null,null,null,null,null,null,"2013-05-22T05:31:17",68.47,{"$f":"VLOOKUP(O1862,[1]Raw!$D:$K,8)","v":10.961600303999999},7.9080268885296681]
[null,null,null,null,null,null,null,null,null,null,null,null,null,null,"2013-05-22T05:41:17",67.400000000000006,{"$f":"VLOOKUP(O1863,[1]Raw!$D:$K,8)","v":10.847599983},7.8901899401551479]
[null,null,null,null,null,null,null,null,null,null,null,null,null,null,"2013-05-22T05:51:17",67.180000000000007,{"$f":"VLOOKUP(O1864,[1]Raw!$D:$K,8)","v":10.820300101999999},7.8865594557676637]
[null,null,null,null,null,null,null,null,null,null,null,null,null,null,"2013-05-22T06:01:17",66.77,{"$f":"VLOOKUP(O1865,[1]Raw!$D:$K,8)","v":10.790100098},7.8795848792403982]
[null,null,null,null,null,null,null,null,null,null,null,null,null,null,"2013-05-22T06:11:17",66.66,{"$f":"VLOOKUP(O1866,[1]Raw!$D:$K,8)","v":10.726200104},7.8782712005133249]
[null,null,null,null,null,null,null,null,null,null,null,null,null,null,"2013-05-22T06:21:17",67.3,{"$f":"VLOOKUP(O1867,[1]Raw!$D:$K,8)","v":10.819000244},7.8887022274260001]
[null,null,null,null,null,null,null,null,null,null,null,null,null,null,"2013-05-22T06:31:17",67.3,{"$f":"VLOOKUP(O1868,[1]Raw!$D:$K,8)","v":10.828599929999999},7.8886059236353603]
[null,null,null,null,null,null,null,null,null,null,null,null,null,null,"2013-05-22T06:41:17",67.150000000000006,{"$f":"VLOOKUP(O1869,[1]Raw!$D:$K,8)","v":10.798700332999999},7.8862435305988754]
[null,null,null,null,null,null,null,null,null,null,null,null,null,null,"2013-05-22T06:51:17",66.97,{"$f":"VLOOKUP(O1870,[1]Raw!$D:$K,8)","v":10.734499931},7.8836916825231613]
[null,null,null,null,null,null,null,null,null,null,null,null,null,null,"2013-05-22T07:01:17",66.930000000000007,{"$f":"VLOOKUP(O1871,[1]Raw!$D:$K,8)","v":10.774100303999999},7.8825850093464815]
[null,null,null,null,null,null,null,null,null,null,null,null,null,null,"2013-05-22T07:11:17",67.42,{"$f":"VLOOKUP(O1872,[1]Raw!$D:$K,8)","v":10.833999634},7.8906813852093629]
[null,null,null,null,null,null,null,null,null,null,null,null,null,null,"2013-05-22T07:21:17",67.67,{"$f":"VLOOKUP(O1873,[1]Raw!$D:$K,8)","v":10.843600273},7.8950215858794275]
[null,null,null,null,null,null,null,null,null,null,null,null,null,null,"2013-05-22T07:31:16",67.75,{"$f":"VLOOKUP(O1874,[1]Raw!$D:$K,8)","v":10.865599632},7.8962200224698318]
[null,null,null,null,null,null,null,null,null,null,null,null,null,null,"2013-05-22T07:41:16",68.260000000000005,{"$f":"VLOOKUP(O1875,[1]Raw!$D:$K,8)","v":10.868000030999999},7.9052457187199696]
[null,null,null,null,null,null,null,null,null,null,null,null,null,null,"2013-05-22T07:51:16",68.53,{"$f":"VLOOKUP(O1876,[1]Raw!$D:$K,8)","v":10.90170002},7.9096962874764571]
[null,null,null,null,null,null,null,null,null,null,null,null,null,null,"2013-05-22T08:01:16",68.900000000000006,{"$f":"VLOOKUP(O1877,[1]Raw!$D:$K,8)","v":10.908800125000001},7.9161891798987636]
[null,null,null,null,null,null,null,null,null,null,null,null,null,null,"2013-05-22T08:11:16",69.34,{"$f":"VLOOKUP(O1878,[1]Raw!$D:$K,8)","v":10.964300156},7.9234323578646517]
[null,null,null,null,null,null,null,null,null,null,null,null,null,null,"2013-05-22T08:21:16",69.55,{"$f":"VLOOKUP(O1879,[1]Raw!$D:$K,8)","v":10.969099998000001},7.9271087206242266]
[null,null,null,null,null,null,null,null,null,null,null,null,null,null,"2013-05-22T08:31:16",70.069999999999993,{"$f":"VLOOKUP(O1880,[1]Raw!$D:$K,8)","v":11.038600922000001},7.9356243575443868]
[null,null,null,null,null,null,null,null,null,null,null,null,null,null,"2013-05-22T08:41:16",70.47,{"$f":"VLOOKUP(O1881,[1]Raw!$D:$K,8)","v":11.07060051},7.9423911809710743]
[null,null,null,null,null,null,null,null,null,null,null,null,null,null,"2013-05-22T08:51:16",70.77,{"$f":"VLOOKUP(O1882,[1]Raw!$D:$K,8)","v":11.088800429999999},7.9475246276064659]
[null,null,null,null,null,null,null,null,null,null,null,null,null,null,"2013-05-22T09:01:16",71.12,{"$f":"VLOOKUP(O1883,[1]Raw!$D:$K,8)","v":11.121500015000001},7.9533952921364923]
[null,null,null,null,null,null,null,null,null,null,null,null,null,null,"2013-05-22T09:11:16",71.709999999999994,{"$f":"VLOOKUP(O1884,[1]Raw!$D:$K,8)","v":11.140399932999999},7.9636609837128844]
[null,null,null,null,null,null,null,null,null,null,null,null,null,null,"2013-05-22T09:21:16",71.930000000000007,{"$f":"VLOOKUP(O1885,[1]Raw!$D:$K,8)","v":11.132499695},7.9676424562210642]
[null,null,null,null,null,null,null,null,null,null,null,null,null,null,"2013-05-22T09:31:16",71.78,{"$f":"VLOOKUP(O1886,[1]Raw!$D:$K,8)","v":11.127300262},7.965036716837596]
[null,null,null,null,null,null,null,null,null,null,null,null,null,null,"2013-05-22T09:41:16",71.66,{"$f":"VLOOKUP(O1887,[1]Raw!$D:$K,8)","v":11.131500244},7.9628661001163321]
[null,null,null,null,null,null,null,null,null,null,null,null,null,null,"2013-05-22T09:51:16",71.14,{"$f":"VLOOKUP(O1888,[1]Raw!$D:$K,8)","v":11.075300217000001},7.9542235173341762]
[null,null,null,null,null,null,null,null,null,null,null,null,null,null,"2013-05-22T10:01:16",70.5,{"$f":"VLOOKUP(O1889,[1]Raw!$D:$K,8)","v":11.020200729000001},7.943438029700415]
[null,null,null,null,null,null,null,null,null,null,null,null,null,null,"2013-05-22T10:11:16",70.98,{"$f":"VLOOKUP(O1890,[1]Raw!$D:$K,8)","v":11.080499649},7.9513331624597887]
[null,null,null,null,null,null,null,null,null,null,null,null,null,null,"2013-05-22T10:21:16",70.349999999999994,{"$f":"VLOOKUP(O1891,[1]Raw!$D:$K,8)","v":10.993000030999999},7.9410554424064248]
[null,null,null,null,null,null,null,null,null,null,null,null,null,null,"2013-05-22T10:31:17",70.05,{"$f":"VLOOKUP(O1892,[1]Raw!$D:$K,8)","v":10.893199921000001},7.9367518399462851]
[null,null,null,null,null,null,null,null,null,null,null,null,null,null,"2013-05-22T10:41:17",70.7,{"$f":"VLOOKUP(O1893,[1]Raw!$D:$K,8)","v":10.966500282},7.9475345605642573]
[null,null,null,null,null,null,null,null,null,null,null,null,null,null,"2013-05-22T10:51:17",70.8,{"$f":"VLOOKUP(O1894,[1]Raw!$D:$K,8)","v":10.963700294000001},7.9493370965817221]
[null,null,null,null,null,null,null,null,null,null,null,null,null,null,"2013-05-22T11:01:17",70.73,{"$f":"VLOOKUP(O1895,[1]Raw!$D:$K,8)","v":10.945599555999999},7.9482806759442557]
[null,null,null,null,null,null,null,null,null,null,null,null,null,null,"2013-05-22T11:11:17",70.39,{"$f":"VLOOKUP(O1896,[1]Raw!$D:$K,8)","v":10.954199791000001},7.9421612389824343]
[null,null,null,null,null,null,null,null,null,null,null,null,null,null,"2013-05-22T11:21:17",69.459999999999994,{"$f":"VLOOKUP(O1897,[1]Raw!$D:$K,8)","v":10.857000351},7.9266512561776619]
[null,null,null,null,null,null,null,null,null,null,null,null,null,null,"2013-05-22T11:31:16",68.989999999999995,{"$f":"VLOOKUP(O1898,[1]Raw!$D:$K,8)","v":10.81499958},7.9187366372781502]
[null,null,null,null,null,null,null,null,null,null,null,null,null,null,"2013-05-22T11:41:16",68.48,{"$f":"VLOOKUP(O1899,[1]Raw!$D:$K,8)","v":10.781200409},7.9100267377706519]
[null,null,null,null,null,null,null,null,null,null,null,null,null,null,"2013-05-22T11:51:16",66.459999999999994,{"$f":"VLOOKUP(O1900,[1]Raw!$D:$K,8)","v":10.713800429999999},7.8748443047576995]
[null,null,null,null,null,null,null,null,null,null,null,null,null,null,"2013-05-22T12:01:16",65.489999999999995,{"$f":"VLOOKUP(O1901,[1]Raw!$D:$K,8)","v":10.446900368},7.8602744073272861]
[null,null,null,null,null,null,null,null,null,null,null,null,null,null,"2013-05-22T12:11:16",64.709999999999994,{"$f":"VLOOKUP(O1902,[1]Raw!$D:$K,8)","v":10.324000358999999},7.8476297178776697]
[null,null,null,null,null,null,null,null,null,null,null,null,null,null,"2013-05-22T12:21:16",63.78,{"$f":"VLOOKUP(O1903,[1]Raw!$D:$K,8)","v":10.240699768000001},7.8319158740598231]
[null,null,null,null,null,null,null,null,null,null,null,null,null,null,"2013-05-22T12:31:16",64.11,{"$f":"VLOOKUP(O1904,[1]Raw!$D:$K,8)","v":10.274900435999999},7.8374469868641361]
[null,null,null,null,null,null,null,null,null,null,null,null,null,null,"2013-05-22T12:41:16",64.41,{"$f":"VLOOKUP(O1905,[1]Raw!$D:$K,8)","v":10.285499572999999},7.8426767436217668]
[null,null,null,null,null,null,null,null,null,null,null,null,null,null,"2013-05-22T12:51:16",64.790000000000006,{"$f":"VLOOKUP(O1906,[1]Raw!$D:$K,8)","v":10.30850029},7.8492056378573896]
[null,null,null,null,null,null,null,null,null,null,null,null,null,null,"2013-05-22T13:01:16",65.02,{"$f":"VLOOKUP(O1907,[1]Raw!$D:$K,8)","v":10.316900253},7.8532116216854231]
[null,null,null,null,null,null,null,null,null,null,null,null,null,null,"2013-05-22T13:11:16",65.58,{"$f":"VLOOKUP(O1908,[1]Raw!$D:$K,8)","v":10.369500159999999},7.8626442188088843]
[null,null,null,null,null,null,null,null,null,null,null,null,null,null,"2013-05-22T13:21:16",65.849999999999994,{"$f":"VLOOKUP(O1909,[1]Raw!$D:$K,8)","v":10.415200233},7.8669880288450535]
[null,null,null,null,null,null,null,null,null,null,null,null,null,null,"2013-05-22T13:31:16",66.010000000000005,{"$f":"VLOOKUP(O1910,[1]Raw!$D:$K,8)","v":10.431900024000001},7.8696650721087735]
[null,null,null,null,null,null,null,null,null,null,null,null,null,null,"2013-05-22T13:41:16",66.25,{"$f":"VLOOKUP(O1911,[1]Raw!$D:$K,8)","v":10.466199874999999},7.8735876198515751]
[null,null,null,null,null,null,null,null,null,null,null,null,null,null,"2013-05-22T13:51:16",66.459999999999994,{"$f":"VLOOKUP(O1912,[1]Raw!$D:$K,8)","v":10.494000435},7.8770411948096974]
[null,null,null,null,null,null,null,null,null,null,null,null,null,null,"2013-05-22T14:01:16",66.849999999999994,{"$f":"VLOOKUP(O1913,[1]Raw!$D:$K,8)","v":10.523599624999999},7.8836740196896695]
[null,null,null,null,null,null,null,null,null,null,null,null,null,null,"2013-05-22T14:11:16",66.92,{"$f":"VLOOKUP(O1914,[1]Raw!$D:$K,8)","v":10.528900146},7.8848645021000694]
[null,null,null,null,null,null,null,null,null,null,null,null,null,null,"2013-05-22T14:21:16",67.08,{"$f":"VLOOKUP(O1915,[1]Raw!$D:$K,8)","v":10.539400101},7.887601654732622]
[null,null,null,null,null,null,null,null,null,null,null,null,null,null,"2013-05-22T14:31:17",67.28,{"$f":"VLOOKUP(O1916,[1]Raw!$D:$K,8)","v":10.553199768000001},7.8910160297129019]
[null,null,null,null,null,null,null,null,null,null,null,null,null,null,"2013-05-22T14:41:17",67.55,{"$f":"VLOOKUP(O1917,[1]Raw!$D:$K,8)","v":10.562000275000001},7.8957238462722774]
[null,null,null,null,null,null,null,null,null,null,null,null,null,null,"2013-05-22T14:51:17",67.89,{"$f":"VLOOKUP(O1918,[1]Raw!$D:$K,8)","v":10.598699570000001},7.9013934242891777]
[null,null,null,null,null,null,null,null,null,null,null,null,null,null,"2013-05-22T15:01:17",68.2,{"$f":"VLOOKUP(O1919,[1]Raw!$D:$K,8)","v":10.619600296},7.906688356248047]
[null,null,null,null,null,null,null,null,null,null,null,null,null,null,"2013-05-22T15:11:17",68.44,{"$f":"VLOOKUP(O1920,[1]Raw!$D:$K,8)","v":10.648500443},7.9106584559516602]
[null,null,null,null,null,null,null,null,null,null,null,null,null,null,"2013-05-22T15:21:17",68.69,{"$f":"VLOOKUP(O1921,[1]Raw!$D:$K,8)","v":10.669500351},7.914885340113246]
[null,null,null,null,null,null,null,null,null,null,null,null,null,null,"2013-05-22T15:31:16",68.97,{"$f":"VLOOKUP(O1922,[1]Raw!$D:$K,8)","v":10.7166996},7.9193784846179236]
[null,null,null,null,null,null,null,null,null,null,null,null,null,null,"2013-05-22T15:41:16",68.900000000000006,{"$f":"VLOOKUP(O1923,[1]Raw!$D:$K,8)","v":10.697199821},7.9183334218856611]
[null,null,null,null,null,null,null,null,null,null,null,null,null,null,"2013-05-22T15:51:16",68.61,{"$f":"VLOOKUP(O1924,[1]Raw!$D:$K,8)","v":10.675200461999999},7.9134070533963836]
[null,null,null,null,null,null,null,null,null,null,null,null,null,null,"2013-05-22T16:01:16",68.84,{"$f":"VLOOKUP(O1925,[1]Raw!$D:$K,8)","v":10.689399719000001},7.9173471682987042]
[null,null,null,null,null,null,null,null,null,null,null,null,null,null,"2013-05-22T16:11:16",68.739999999999995,{"$f":"VLOOKUP(O1926,[1]Raw!$D:$K,8)","v":10.678299903999999},7.9156840366680497]
[null,null,null,null,null,null,null,null,null,null,null,null,null,null,"2013-05-22T16:21:16",68.66,{"$f":"VLOOKUP(O1927,[1]Raw!$D:$K,8)","v":10.678600311},7.9142604632474116]
[null,null,null,null,null,null,null,null,null,null,null,null,null,null,"2013-05-22T16:31:16",68.87,{"$f":"VLOOKUP(O1928,[1]Raw!$D:$K,8)","v":10.678999900999999},7.9179853014138946]
[null,null,null,null,null,null,null,null,null,null,null,null,null,null,"2013-05-22T16:41:16",68.94,{"$f":"VLOOKUP(O1929,[1]Raw!$D:$K,8)","v":10.718400001999999},7.9188286119433888]
[null,null,null,null,null,null,null,null,null,null,null,null,null,null,"2013-05-22T16:51:16",69.010000000000005,{"$f":"VLOOKUP(O1930,[1]Raw!$D:$K,8)","v":10.701499939},7.9202428856309037]
[null,null,null,null,null,null,null,null,null,null,null,null,null,null,"2013-05-22T17:01:16",68.97,{"$f":"VLOOKUP(O1931,[1]Raw!$D:$K,8)","v":10.701299667000001},7.9195347099105096]
[null,null,null,null,null,null,null,null,null,null,null,null,null,null,"2013-05-22T17:11:16",68.900000000000006,{"$f":"VLOOKUP(O1932,[1]Raw!$D:$K,8)","v":10.695099831},7.91835471805945]
[null,null,null,null,null,null,null,null,null,null,null,null,null,null,"2013-05-22T17:21:16",68.849999999999994,{"$f":"VLOOKUP(O1933,[1]Raw!$D:$K,8)","v":10.713199615000001},7.9172834542039148]
[null,null,null,null,null,null,null,null,null,null,null,null,null,null,"2013-05-22T17:31:16",68.98,{"$f":"VLOOKUP(O1934,[1]Raw!$D:$K,8)","v":10.713999748000001},7.919583416214925]
[null,null,null,null,null,null,null,null,null,null,null,null,null,null,"2013-05-22T17:41:16",69,{"$f":"VLOOKUP(O1935,[1]Raw!$D:$K,8)","v":10.712200165},7.919956763124306]
[null,null,null,null,null,null,null,null,null,null,null,null,null,null,"2013-05-22T17:51:16",68.78,{"$f":"VLOOKUP(O1936,[1]Raw!$D:$K,8)","v":10.713000298000001},7.916042661862444]
[null,null,null,null,null,null,null,null,null,null,null,null,null,null,"2013-05-22T18:01:16",68.91,{"$f":"VLOOKUP(O1937,[1]Raw!$D:$K,8)","v":10.731300354},7.9181651828698678]
[null,null,null,null,null,null,null,null,null,null,null,null,null,null,"2013-05-22T18:11:16",69.13,{"$f":"VLOOKUP(O1938,[1]Raw!$D:$K,8)","v":10.737600326999999},7.9220069521290686]
[null,null,null,null,null,null,null,null,null,null,null,null,null,null,"2013-05-22T18:21:16",69.22,{"$f":"VLOOKUP(O1939,[1]Raw!$D:$K,8)","v":10.743900299},7.9235407212571669]
[null,null,null,null,null,null,null,null,null,null,null,null,null,null,"2013-05-22T18:31:16",69.290000000000006,{"$f":"VLOOKUP(O1940,[1]Raw!$D:$K,8)","v":10.749899864},7.9247224321018095]
[null,null,null,null,null,null,null,null,null,null,null,null,null,null,"2013-05-22T18:41:16",69.260000000000005,{"$f":"VLOOKUP(O1941,[1]Raw!$D:$K,8)","v":10.752099991},7.924167514710323]
[null,null,null,null,null,null,null,null,null,null,null,null,null,null,"2013-05-22T18:51:16",69.3,{"$f":"VLOOKUP(O1942,[1]Raw!$D:$K,8)","v":10.750800133},7.9248908049719082]
[null,null,null,null,null,null,null,null,null,null,null,null,null,null,"2013-05-22T19:01:16",69.31,{"$f":"VLOOKUP(O1943,[1]Raw!$D:$K,8)","v":10.730400084999999},7.925275662857123]
[null,null,null,null,null,null,null,null,null,null,null,null,null,null,"2013-05-22T19:11:16",69.489999999999995,{"$f":"VLOOKUP(O1944,[1]Raw!$D:$K,8)","v":10.75150013},7.9282565829660641]
[null,null,null,null,null,null,null,null,null,null,null,null,null,null,"2013-05-22T19:21:16",69.510000000000005,{"$f":"VLOOKUP(O1945,[1]Raw!$D:$K,8)","v":10.776499748000001},7.9283572686544526]
[null,null,null,null,null,null,null,null,null,null,null,null,null,null,"2013-05-22T19:31:17",69.319999999999993,{"$f":"VLOOKUP(O1946,[1]Raw!$D:$K,8)","v":10.75909996},7.9251614947129863]
[null,null,null,null,null,null,null,null,null,null,null,null,null,null,"2013-05-22T19:41:17",69.400000000000006,{"$f":"VLOOKUP(O1947,[1]Raw!$D:$K,8)","v":10.756699562},7.9266060286232181]
[null,null,null,null,null,null,null,null,null,null,null,null,null,null,"2013-05-22T19:51:17",69.319999999999993,{"$f":"VLOOKUP(O1948,[1]Raw!$D:$K,8)","v":10.759400368},7.9251584417154985]
[null,null,null,null,null,null,null,null,null,null,null,null,null,null,"2013-05-22T20:01:17",69.27,{"$f":"VLOOKUP(O1949,[1]Raw!$D:$K,8)","v":10.762499808999999},7.9242393743470814]
[null,null,null,null,null,null,null,null,null,null,null,null,null,null,"2013-05-22T20:11:17",69.47,{"$f":"VLOOKUP(O1950,[1]Raw!$D:$K,8)","v":10.794199944000001},7.9274672316483201]
[null,null,null,null,null,null,null,null,null,null,null,null,null,null,"2013-05-22T20:21:17",69.37,{"$f":"VLOOKUP(O1951,[1]Raw!$D:$K,8)","v":10.771400452},7.9259240329114764]
[null,null,null,null,null,null,null,null,null,null,null,null,null,null,"2013-05-22T20:31:16",69.180000000000007,{"$f":"VLOOKUP(O1952,[1]Raw!$D:$K,8)","v":10.753299713000001},7.9227351702381119]
[null,null,null,null,null,null,null,null,null,null,null,null,null,null,"2013-05-22T20:41:16",68.819999999999993,{"$f":"VLOOKUP(O1953,[1]Raw!$D:$K,8)","v":10.715900421000001},7.9167234485003268]
[null,null,null,null,null,null,null,null,null,null,null,null,null,null,"2013-05-22T20:51:16",68.510000000000005,{"$f":"VLOOKUP(O1954,[1]Raw!$D:$K,8)","v":10.723799705999999},7.9111397183642094]
[null,null,null,null,null,null,null,null,null,null,null,null,null,null,"2013-05-22T21:01:16",68.31,{"$f":"VLOOKUP(O1955,[1]Raw!$D:$K,8)","v":10.71119976},7.9077162527649572]
[null,null,null,null,null,null,null,null,null,null,null,null,null,null,"2013-05-22T21:11:16",67.7,{"$f":"VLOOKUP(O1956,[1]Raw!$D:$K,8)","v":10.659099578999999},7.8974104406162313]
[null,null,null,null,null,null,null,null,null,null,null,null,null,null,"2013-05-22T21:21:16",67.510000000000005,{"$f":"VLOOKUP(O1957,[1]Raw!$D:$K,8)","v":10.644000052999999},7.894188311395637]
[null,null,null,null,null,null,null,null,null,null,null,null,null,null,"2013-05-22T21:31:16",67.39,{"$f":"VLOOKUP(O1958,[1]Raw!$D:$K,8)","v":10.652700424000001},7.8919698183787528]
[null,null,null,null,null,null,null,null,null,null,null,null,null,null,"2013-05-22T21:41:16",67.08,{"$f":"VLOOKUP(O1959,[1]Raw!$D:$K,8)","v":10.621600151000001},7.8867767433211755]
[null,null,null,null,null,null,null,null,null,null,null,null,null,null,"2013-05-22T21:51:16",66.709999999999994,{"$f":"VLOOKUP(O1960,[1]Raw!$D:$K,8)","v":10.575099945},7.8806709873182479]
[null,null,null,null,null,null,null,null,null,null,null,null,null,null,"2013-05-22T22:01:16",66.62,{"$f":"VLOOKUP(O1961,[1]Raw!$D:$K,8)","v":10.546199799},7.8793615416372838]
[null,null,null,null,null,null,null,null,null,null,null,null,null,null,"2013-05-22T22:11:16",66.430000000000007,{"$f":"VLOOKUP(O1962,[1]Raw!$D:$K,8)","v":10.528100014},7.8761671668876501]
[null,null,null,null,null,null,null,null,null,null,null,null,null,null,"2013-05-22T22:21:16",66.44,{"$f":"VLOOKUP(O1963,[1]Raw!$D:$K,8)","v":10.535599709},7.8762698395350386]
[null,null,null,null,null,null,null,null,null,null,null,null,null,null,"2013-05-22T22:31:17",66.349999999999994,{"$f":"VLOOKUP(O1964,[1]Raw!$D:$K,8)","v":10.549699782999999},7.8745300449151241]
[null,null,null,null,null,null,null,null,null,null,null,null,null,null,"2013-05-22T22:41:17",66.099999999999994,{"$f":"VLOOKUP(O1965,[1]Raw!$D:$K,8)","v":10.508299828},7.8705019485578154]
[null,null,null,null,null,null,null,null,null,null,null,null,null,null,"2013-05-22T22:51:17",65.88,{"$f":"VLOOKUP(O1966,[1]Raw!$D:$K,8)","v":10.483099937},7.8668442950961888]
[null,null,null,null,null,null,null,null,null,null,null,null,null,null,"2013-05-22T23:01:17",65.81,{"$f":"VLOOKUP(O1967,[1]Raw!$D:$K,8)","v":10.451399802999999},7.8659163305734658]
[null,null,null,null,null,null,null,null,null,null,null,null,null,null,"2013-05-22T23:11:17",65.77,{"$f":"VLOOKUP(O1968,[1]Raw!$D:$K,8)","v":10.450300217000001},7.8652164513932235]
[null,null,null,null,null,null,null,null,null,null,null,null,null,null,"2013-05-22T23:21:17",65.7,{"$f":"VLOOKUP(O1969,[1]Raw!$D:$K,8)","v":10.447199821},7.8640033619669101]
[null,null,null,null,null,null,null,null,null,null,null,null,null,null,"2013-05-22T23:31:16",65.62,{"$f":"VLOOKUP(O1970,[1]Raw!$D:$K,8)","v":10.45320034},7.8625219492303087]
[null,null,null,null,null,null,null,null,null,null,null,null,null,null,"2013-05-22T23:41:16",65.58,{"$f":"VLOOKUP(O1971,[1]Raw!$D:$K,8)","v":10.428199768000001},7.8620599083725997]
[null,null,null,null,null,null,null,null,null,null,null,null,null,null,"2013-05-22T23:51:16",65.37,{"$f":"VLOOKUP(O1972,[1]Raw!$D:$K,8)","v":10.404700279},7.8585613069539679]
[null,null,null,null,null,null,null,null,null,null,null,null,null,null,"2013-05-23T00:01:16",65.400000000000006,{"$f":"VLOOKUP(O1973,[1]Raw!$D:$K,8)","v":10.442799568},7.8587157667630692]
[null,null,null,null,null,null,null,null,null,null,null,null,null,null,"2013-05-23T00:11:16",65.459999999999994,{"$f":"VLOOKUP(O1974,[1]Raw!$D:$K,8)","v":10.418700218},7.8600217055030823]
[null,null,null,null,null,null,null,null,null,null,null,null,null,null,"2013-05-23T00:21:16",65.14,{"$f":"VLOOKUP(O1975,[1]Raw!$D:$K,8)","v":10.413599968},7.8543850015753947]
[null,null,null,null,null,null,null,null,null,null,null,null,null,null,"2013-05-23T00:31:16",65.06,{"$f":"VLOOKUP(O1976,[1]Raw!$D:$K,8)","v":10.386899948},7.8532280501248719]
[null,null,null,null,null,null,null,null,null,null,null,null,null,null,"2013-05-23T00:41:16",64.900000000000006,{"$f":"VLOOKUP(O1977,[1]Raw!$D:$K,8)","v":10.379899978999999},7.850453456685389]
[null,null,null,null,null,null,null,null,null,null,null,null,null,null,"2013-05-23T00:51:16",64.680000000000007,{"$f":"VLOOKUP(O1978,[1]Raw!$D:$K,8)","v":10.356900215},7.8467705815140842]
[null,null,null,null,null,null,null,null,null,null,null,null,null,null,"2013-05-23T01:01:16",64.430000000000007,{"$f":"VLOOKUP(O1979,[1]Raw!$D:$K,8)","v":10.346400260999999},7.8424301861263741]
[null,null,null,null,null,null,null,null,null,null,null,null,null,null,"2013-05-23T01:11:16",64.180000000000007,{"$f":"VLOOKUP(O1980,[1]Raw!$D:$K,8)","v":10.285300254999999},7.8385890249898074]
[null,null,null,null,null,null,null,null,null,null,null,null,null,null,"2013-05-23T01:21:16",63.79,{"$f":"VLOOKUP(O1981,[1]Raw!$D:$K,8)","v":10.288000107},7.8316277407429471]
[null,null,null,null,null,null,null,null,null,null,null,null,null,null,"2013-05-23T01:31:17",63.79,{"$f":"VLOOKUP(O1982,[1]Raw!$D:$K,8)","v":10.280900001999999},7.8316976766968311]
[null,null,null,null,null,null,null,null,null,null,null,null,null,null,"2013-05-23T01:41:17",63.64,{"$f":"VLOOKUP(O1983,[1]Raw!$D:$K,8)","v":10.261799812},7.8292184206788074]
[null,null,null,null,null,null,null,null,null,null,null,null,null,null,"2013-05-23T01:51:17",63.45,{"$f":"VLOOKUP(O1984,[1]Raw!$D:$K,8)","v":10.234100342},7.8261120200325571]
[null,null,null,null,null,null,null,null,null,null,null,null,null,null,"2013-05-23T02:01:17",63.53,{"$f":"VLOOKUP(O1985,[1]Raw!$D:$K,8)","v":10.218500136999999},7.8276882481400829]
[null,null,null,null,null,null,null,null,null,null,null,null,null,null,"2013-05-23T02:11:17",63.38,{"$f":"VLOOKUP(O1986,[1]Raw!$D:$K,8)","v":10.205300331},7.8251501753190551]
[null,null,null,null,null,null,null,null,null,null,null,null,null,null,"2013-05-23T02:21:17",63.36,{"$f":"VLOOKUP(O1987,[1]Raw!$D:$K,8)","v":10.200799942},7.8248386825085579]
[null,null,null,null,null,null,null,null,null,null,null,null,null,null,"2013-05-23T02:31:16",62.66,{"$f":"VLOOKUP(O1988,[1]Raw!$D:$K,8)","v":10.169400215},7.8126953654588061]
[null,null,null,null,null,null,null,null,null,null,null,null,null,null,"2013-05-23T02:41:16",63.2,{"$f":"VLOOKUP(O1989,[1]Raw!$D:$K,8)","v":10.169400215},7.8223011734382579]
[null,null,null,null,null,null,null,null,null,null,null,null,null,null,"2013-05-23T02:51:16",63.03,{"$f":"VLOOKUP(O1990,[1]Raw!$D:$K,8)","v":10.174099922},7.8192310181362021]
[null,null,null,null,null,null,null,null,null,null,null,null,null,null,"2013-05-23T03:01:16",63.02,{"$f":"VLOOKUP(O1991,[1]Raw!$D:$K,8)","v":10.175399779999999},7.819040385090342]
[null,null,null,null,null,null,null,null,null,null,null,null,null,null,"2013-05-23T03:11:16",63.56,{"$f":"VLOOKUP(O1992,[1]Raw!$D:$K,8)","v":10.218000412},7.8282267290428971]
[null,null,null,null,null,null,null,null,null,null,null,null,null,null,"2013-05-23T03:21:16",63.71,{"$f":"VLOOKUP(O1993,[1]Raw!$D:$K,8)","v":10.21969986},7.8308778126411234]
[null,null,null,null,null,null,null,null,null,null,null,null,null,null,"2013-05-23T03:31:16",63.72,{"$f":"VLOOKUP(O1994,[1]Raw!$D:$K,8)","v":10.240300179},7.8308527660047025]
[null,null,null,null,null,null,null,null,null,null,null,null,null,null,"2013-05-23T03:41:16",63.74,{"$f":"VLOOKUP(O1995,[1]Raw!$D:$K,8)","v":10.234199523999999},7.8312685399211794]
[null,null,null,null,null,null,null,null,null,null,null,null,null,null,"2013-05-23T03:51:16",63.55,{"$f":"VLOOKUP(O1996,[1]Raw!$D:$K,8)","v":10.214599609},7.8280823369758386]
[null,null,null,null,null,null,null,null,null,null,null,null,null,null,"2013-05-23T04:01:16",63.45,{"$f":"VLOOKUP(O1997,[1]Raw!$D:$K,8)","v":10.200599670000001},7.8264414426616087]
[null,null,null,null,null,null,null,null,null,null,null,null,null,null,"2013-05-23T04:11:16",63.2,{"$f":"VLOOKUP(O1998,[1]Raw!$D:$K,8)","v":10.183699608},7.8221607469562375]
[null,null,null,null,null,null,null,null,null,null,null,null,null,null,"2013-05-23T04:21:16",63.33,{"$f":"VLOOKUP(O1999,[1]Raw!$D:$K,8)","v":10.184100151000001},7.8244692029983938]
[null,null,null,null,null,null,null,null,null,null,null,null,null,null,"2013-05-23T04:31:16",63.23,{"$f":"VLOOKUP(O2000,[1]Raw!$D:$K,8)","v":10.193499565},7.8225981257581152]
[null,null,null,null,null,null,null,null,null,null,null,null,null,null,"2013-05-23T04:41:16",63.22,{"$f":"VLOOKUP(O2001,[1]Raw!$D:$K,8)","v":10.175200461999999},7.8225999740731913]
[null,null,null,null,null,null,null,null,null,null,null,null,null,null,"2013-05-23T04:51:16",62.97,{"$f":"VLOOKUP(O2002,[1]Raw!$D:$K,8)","v":10.139800072},7.818500115072279]
[null,null,null,null,null,null,null,null,null,null,null,null,null,null,"2013-05-23T05:01:16",62.75,{"$f":"VLOOKUP(O2003,[1]Raw!$D:$K,8)","v":10.119500159999999},7.8147850754273156]
[null,null,null,null,null,null,null,null,null,null,null,null,null,null,"2013-05-23T05:11:16",62.45,{"$f":"VLOOKUP(O2004,[1]Raw!$D:$K,8)","v":10.092599869000001},7.8097106125678781]
[null,null,null,null,null,null,null,null,null,null,null,null,null,null,"2013-05-23T05:21:16",62.19,{"$f":"VLOOKUP(O2005,[1]Raw!$D:$K,8)","v":10.068200110999999},7.8053225709259797]
[null,null,null,null,null,null,null,null,null,null,null,null,null,null,"2013-05-23T05:31:16",61.85,{"$f":"VLOOKUP(O2006,[1]Raw!$D:$K,8)","v":10.044400215},7.799504213788965]
[null,null,null,null,null,null,null,null,null,null,null,null,null,null,"2013-05-23T05:41:16",61.55,{"$f":"VLOOKUP(O2007,[1]Raw!$D:$K,8)","v":10.0291996},7.7943131463232582]
[null,null,null,null,null,null,null,null,null,null,null,null,null,null,"2013-05-23T05:51:16",61.34,{"$f":"VLOOKUP(O2008,[1]Raw!$D:$K,8)","v":9.9898004530000009},7.7909584725751193]
[null,null,null,null,null,null,null,null,null,null,null,null,null,null,"2013-05-23T06:01:16",60.99,{"$f":"VLOOKUP(O2009,[1]Raw!$D:$K,8)","v":9.9652996060000003},7.7849660801107676]
[null,null,null,null,null,null,null,null,null,null,null,null,null,null,"2013-05-23T06:11:16",60.7,{"$f":"VLOOKUP(O2010,[1]Raw!$D:$K,8)","v":9.9321002959999998},7.7801250244496334]
[null,null,null,null,null,null,null,null,null,null,null,null,null,null,"2013-05-23T06:21:16",60.47,{"$f":"VLOOKUP(O2011,[1]Raw!$D:$K,8)","v":9.8993997569999994},7.7763463430385444]
[null,null,null,null,null,null,null,null,null,null,null,null,null,null,"2013-05-23T06:31:16",60.29,{"$f":"VLOOKUP(O2012,[1]Raw!$D:$K,8)","v":9.8986997599999995},7.7731481123550896]
[null,null,null,null,null,null,null,null,null,null,null,null,null,null,"2013-05-23T06:41:16",60.25,{"$f":"VLOOKUP(O2013,[1]Raw!$D:$K,8)","v":9.8718004229999998},7.7726956058865548]
[null,null,null,null,null,null,null,null,null,null,null,null,null,null,"2013-05-23T06:51:16",60.01,{"$f":"VLOOKUP(O2014,[1]Raw!$D:$K,8)","v":9.8502998349999995},7.7686291695438392]
[null,null,null,null,null,null,null,null,null,null,null,null,null,null,"2013-05-23T07:01:16",59.99,{"$f":"VLOOKUP(O2015,[1]Raw!$D:$K,8)","v":9.842399597},7.7683491668974352]
[null,null,null,null,null,null,null,null,null,null,null,null,null,null,"2013-05-23T07:11:16",59.93,{"$f":"VLOOKUP(O2016,[1]Raw!$D:$K,8)","v":9.8301000599999995},7.7673991681042009]
[null,null,null,null,null,null,null,null,null,null,null,null,null,null,"2013-05-23T07:21:16",59.74,{"$f":"VLOOKUP(O2017,[1]Raw!$D:$K,8)","v":9.8056001659999996},7.7642511690674896]
[null,null,null,null,null,null,null,null,null,null,null,null,null,null,"2013-05-23T07:31:16",59.58,{"$f":"VLOOKUP(O2018,[1]Raw!$D:$K,8)","v":9.7996997829999994},7.761458097491408]
[null,null,null,null,null,null,null,null,null,null,null,null,null,null,"2013-05-23T07:41:16",59.68,{"$f":"VLOOKUP(O2019,[1]Raw!$D:$K,8)","v":9.7931995389999997},7.7633018416179906]
[null,null,null,null,null,null,null,null,null,null,null,null,null,null,"2013-05-23T07:51:16",59.4,{"$f":"VLOOKUP(O2020,[1]Raw!$D:$K,8)","v":9.7818002699999997},7.7584239568093656]
[null,null,null,null,null,null,null,null,null,null,null,null,null,null,"2013-05-23T08:01:16",59.09,{"$f":"VLOOKUP(O2021,[1]Raw!$D:$K,8)","v":9.7180995939999999},7.7535129276420864]
[null,null,null,null,null,null,null,null,null,null,null,null,null,null,"2013-05-23T08:11:16",59.3,{"$f":"VLOOKUP(O2022,[1]Raw!$D:$K,8)","v":9.7501001360000004},7.7569470959875408]
[null,null,null,null,null,null,null,null,null,null,null,null,null,null,"2013-05-23T08:21:16",59.26,{"$f":"VLOOKUP(O2023,[1]Raw!$D:$K,8)","v":9.7476997379999997},7.7562575487876204]
[null,null,null,null,null,null,null,null,null,null,null,null,null,null,"2013-05-23T08:31:16",59.04,{"$f":"VLOOKUP(O2024,[1]Raw!$D:$K,8)","v":9.7427997590000004},7.7523852210234869]
[null,null,null,null,null,null,null,null,null,null,null,null,null,null,"2013-05-23T08:41:16",59.04,{"$f":"VLOOKUP(O2025,[1]Raw!$D:$K,8)","v":9.7236003879999995},7.7525693287930615]
[null,null,null,null,null,null,null,null,null,null,null,null,null,null,"2013-05-23T08:51:16",59,{"$f":"VLOOKUP(O2026,[1]Raw!$D:$K,8)","v":9.7203998570000003},7.7518873511870288]
[null,null,null,null,null,null,null,null,null,null,null,null,null,null,"2013-05-23T09:01:16",58.93,{"$f":"VLOOKUP(O2027,[1]Raw!$D:$K,8)","v":9.7039003370000003},7.7507983047760307]
[null,null,null,null,null,null,null,null,null,null,null,null,null,null,"2013-05-23T09:11:16",58.78,{"$f":"VLOOKUP(O2028,[1]Raw!$D:$K,8)","v":9.6775999069999994},7.748377480115205]
[null,null,null,null,null,null,null,null,null,null,null,null,null,null,"2013-05-23T09:21:16",58.52,{"$f":"VLOOKUP(O2029,[1]Raw!$D:$K,8)","v":9.6478996279999993},7.7440283916207786]
[null,null,null,null,null,null,null,null,null,null,null,null,null,null,"2013-05-23T09:31:16",58.12,{"$f":"VLOOKUP(O2030,[1]Raw!$D:$K,8)","v":9.5952997209999999},7.7374015992467813]
[null,null,null,null,null,null,null,null,null,null,null,null,null,null,"2013-05-23T09:41:16",58.03,{"$f":"VLOOKUP(O2031,[1]Raw!$D:$K,8)","v":9.5377998349999995},7.7363457503142543]
[null,null,null,null,null,null,null,null,null,null,null,null,null,null,"2013-05-23T09:51:16",57.89,{"$f":"VLOOKUP(O2032,[1]Raw!$D:$K,8)","v":9.5122003559999992},7.7340937764345856]
[null,null,null,null,null,null,null,null,null,null,null,null,null,null,"2013-05-23T10:01:16",57.57,{"$f":"VLOOKUP(O2033,[1]Raw!$D:$K,8)","v":9.4933004380000003},7.7285679901717401]
[null,null,null,null,null,null,null,null,null,null,null,null,null,null,"2013-05-23T10:11:16",59.56,{"$f":"VLOOKUP(O2034,[1]Raw!$D:$K,8)","v":9.6492004389999995},7.7625500578655906]
[null,null,null,null,null,null,null,null,null,null,null,null,null,null,"2013-05-23T10:21:16",59.73,{"$f":"VLOOKUP(O2035,[1]Raw!$D:$K,8)","v":9.6751003269999991},7.765330059514409]
[null,null,null,null,null,null,null,null,null,null,null,null,null,null,"2013-05-23T10:31:16",61.39,{"$f":"VLOOKUP(O2036,[1]Raw!$D:$K,8)","v":9.8017997739999991},7.7936769730861188]
[null,null,null,null,null,null,null,null,null,null,null,null,null,null,"2013-05-23T10:41:16",62.02,{"$f":"VLOOKUP(O2037,[1]Raw!$D:$K,8)","v":9.8660001749999999},7.8042710716132131]
[null,null,null,null,null,null,null,null,null,null,null,null,null,null,"2013-05-23T10:51:16",62.25,{"$f":"VLOOKUP(O2038,[1]Raw!$D:$K,8)","v":9.8843002319999993},7.808187816349438]
[null,null,null,null,null,null,null,null,null,null,null,null,null,null,"2013-05-23T11:01:16",62.49,{"$f":"VLOOKUP(O2039,[1]Raw!$D:$K,8)","v":9.9086999890000005},7.8122223635399113]
[null,null,null,null,null,null,null,null,null,null,null,null,null,null,"2013-05-23T11:11:16",62.49,{"$f":"VLOOKUP(O2040,[1]Raw!$D:$K,8)","v":9.9072999950000007},7.8122360756874416]
[null,null,null,null,null,null,null,null,null,null,null,null,null,null,"2013-05-23T11:21:16",62.65,{"$f":"VLOOKUP(O2041,[1]Raw!$D:$K,8)","v":9.9075002669999996},7.8150829128801558]
[null,null,null,null,null,null,null,null,null,null,null,null,null,null,"2013-05-23T11:31:17",63.16,{"$f":"VLOOKUP(O2042,[1]Raw!$D:$K,8)","v":9.9435997010000001},7.8238084080475652]
[null,null,null,null,null,null,null,null,null,null,null,null,null,null,"2013-05-23T11:41:17",64.11,{"$f":"VLOOKUP(O2043,[1]Raw!$D:$K,8)","v":10.027199745000001},7.8398941119525318]
[null,null,null,null,null,null,null,null,null,null,null,null,null,null,"2013-05-23T11:51:17",64.16,{"$f":"VLOOKUP(O2044,[1]Raw!$D:$K,8)","v":10.038399696000001},7.8406732092683891]
[null,null,null,null,null,null,null,null,null,null,null,null,null,null,"2013-05-23T12:01:17",64.33,{"$f":"VLOOKUP(O2045,[1]Raw!$D:$K,8)","v":10.049099922},7.8435927193749331]
[null,null,null,null,null,null,null,null,null,null,null,null,null,null,"2013-05-23T12:11:17",64.3,{"$f":"VLOOKUP(O2046,[1]Raw!$D:$K,8)","v":10.048299789},7.8430667567550287]
[null,null,null,null,null,null,null,null,null,null,null,null,null,null,"2013-05-23T12:21:17",64.25,{"$f":"VLOOKUP(O2047,[1]Raw!$D:$K,8)","v":10.046199799},7.8421977300024084]
[null,null,null,null,null,null,null,null,null,null,null,null,null,null,"2013-05-23T12:31:17",64.5,{"$f":"VLOOKUP(O2048,[1]Raw!$D:$K,8)","v":10.051099776999999},7.8465982342342029]
[null,null,null,null,null,null,null,null,null,null,null,null,null,null,"2013-05-23T12:41:17",65.05,{"$f":"VLOOKUP(O2049,[1]Raw!$D:$K,8)","v":10.096300125000001},7.8559365504510197]
[null,null,null,null,null,null,null,null,null,null,null,null,null,null,"2013-05-23T12:51:17",65.23,{"$f":"VLOOKUP(O2050,[1]Raw!$D:$K,8)","v":10.107500076000001},7.8590278380717731]
[null,null,null,null,null,null,null,null,null,null,null,null,null,null,"2013-05-23T13:01:17",65.739999999999995,{"$f":"VLOOKUP(O2051,[1]Raw!$D:$K,8)","v":10.122200012},7.8679552044941952]
[null,null,null,null,null,null,null,null,null,null,null,null,null,null,"2013-05-23T13:11:17",66.11,{"$f":"VLOOKUP(O2052,[1]Raw!$D:$K,8)","v":10.136699676999999},7.8743929679527414]
[null,null,null,null,null,null,null,null,null,null,null,null,null,null,"2013-05-23T13:21:17",66.069999999999993,{"$f":"VLOOKUP(O2053,[1]Raw!$D:$K,8)","v":10.118800163},7.8738604127204317]
[null,null,null,null,null,null,null,null,null,null,null,null,null,null,"2013-05-23T13:31:16",65.849999999999994,{"$f":"VLOOKUP(O2054,[1]Raw!$D:$K,8)","v":10.071900368},7.8704148849889979]
[null,null,null,null,null,null,null,null,null,null,null,null,null,null,"2013-05-23T13:41:16",65.599999999999994,{"$f":"VLOOKUP(O2055,[1]Raw!$D:$K,8)","v":10.049200058},7.8661927539207515]
[null,null,null,null,null,null,null,null,null,null,null,null,null,null,"2013-05-23T13:51:16",65.36,{"$f":"VLOOKUP(O2056,[1]Raw!$D:$K,8)","v":10.027500153},7.8621379504171678]
[null,null,null,null,null,null,null,null,null,null,null,null,null,null,"2013-05-23T14:01:16",65.010000000000005,{"$f":"VLOOKUP(O2057,[1]Raw!$D:$K,8)","v":9.9804000849999994},7.8563773107345156]
[null,null,null,null,null,null,null,null,null,null,null,null,null,null,"2013-05-23T14:11:16",64.92,{"$f":"VLOOKUP(O2058,[1]Raw!$D:$K,8)","v":9.9886999129999996},7.8546927579118622]
[null,null,null,null,null,null,null,null,null,null,null,null,null,null,"2013-05-23T14:21:16",65.22,{"$f":"VLOOKUP(O2059,[1]Raw!$D:$K,8)","v":10.020299911},7.8597180078273938]
[null,null,null,null,null,null,null,null,null,null,null,null,null,null,"2013-05-23T14:31:16",65.58,{"$f":"VLOOKUP(O2060,[1]Raw!$D:$K,8)","v":10.057999611},7.8657490256264735]
[null,null,null,null,null,null,null,null,null,null,null,null,null,null,"2013-05-23T14:41:16",66.459999999999994,{"$f":"VLOOKUP(O2061,[1]Raw!$D:$K,8)","v":10.140600204},7.8805805595615075]
[null,null,null,null,null,null,null,null,null,null,null,null,null,null,"2013-05-23T14:51:16",67.010000000000005,{"$f":"VLOOKUP(O2062,[1]Raw!$D:$K,8)","v":10.201499939},7.8897525934713286]
[null,null,null,null,null,null,null,null,null,null,null,null,null,null,"2013-05-23T15:01:16",67.25,{"$f":"VLOOKUP(O2063,[1]Raw!$D:$K,8)","v":10.198800087},7.8940485535431764]
[null,null,null,null,null,null,null,null,null,null,null,null,null,null,"2013-05-23T15:11:16",67.599999999999994,{"$f":"VLOOKUP(O2064,[1]Raw!$D:$K,8)","v":10.222700119000001},7.9000326410937864]
[null,null,null,null,null,null,null,null,null,null,null,null,null,null,"2013-05-23T15:21:16",67.87,{"$f":"VLOOKUP(O2065,[1]Raw!$D:$K,8)","v":10.238499641000001},7.9046749118591721]

{"sheet":"pCO2","index":4,"n_rows":321,"n_cols":31,"rows_kept":321,"cut":false,"hidden":false,"merged":[]}
["latitude","longitude","Da e. ime","Day","Distance","pCO2-Water","pCO2-Air","pH","Oxygen-%Sat",null,null,"EquilPumpOn pco2","EquilPumpOn Temp","EquilPumpOn Pressure","EquilPumpOff pco2","EquilPumpOff Temp","EquilPumpOff Pressure","EquilPumpOff Humidity","ZeroPumpOn pco2","ZeroPumpOn Temp","ZeroPumpOn Pressure","ZeroPumpOff pco2","ZeroPumpOff Temp","ZeroPumpOff Pressure","AirPumpOn pco2","AirPumpOn Temp","AirPumpOn Pressure","AirPumpOff pco2","AirPumpOff Temp","AirPumpOff Pressure","AirPumpOff Humidity"]
[36.802661667000002,-121.78807999999999,"2013-05-09T03:31:27",{"$f":"C2-41274","v":129.14684027777548},{"$f":"ABS(Rhumb(36.806,A2,-121.791,B2))","v":0.45311377855687079},{"$f":"0.9908*(O2-V2)","v":533.5810724800001},{"$f":"0.9908*(AB2-V2)","v":401.80467248000002},null,null,null,null,542.55999999999995,19.835999999999999,86.635999999999996,536.97,19.901,103.05,2.0630999999999999,-2.2418,20.074000000000002,93.694000000000003,-1.5656000000000001,20.106999999999999,101.95,408.8,20.27,86.460999999999999,403.97,20.335000000000001,102.03,2.0135999999999998]
[36.802893333,-121.787773333,"2013-05-09T04:31:27",{"$f":"C3-41274","v":129.188506944447},{"$f":"ABS(Rhumb(36.806,A3,-121.791,B3))","v":0.44919647089051329},{"$f":"0.9908*(O3-V3)","v":532.89236740000001},{"$f":"0.9908*(AB3-V3)","v":403.07775140000007},{"$f":"VLOOKUP(C3,pH_Proc!O:R,4)","v":7.9689164626975657},{"$f":"VLOOKUP(C3,[1]Proc_CTD!$A:$H,8)","v":94.199172809243521},null,null,542.04999999999995,19.792999999999999,86.811000000000007,536.19000000000005,19.869,103.11,2.056,-2.1918000000000002,20.053000000000001,93.99,-1.6505000000000001,20.074000000000002,102.31,410.6,20.248000000000001,86.542000000000002,405.17,20.303000000000001,102.07,2.0110999999999999]
[36.802593332999997,-121.78800833299999,"2013-05-09T05:31:29",129.23019675925752,0.46299673448499701,533.04138372,405.46597571999996,{"$f":"VLOOKUP(C4,pH_Proc!O:R,4)","v":7.9729939045085745},{"$f":"VLOOKUP(C4,[1]Proc_CTD!$A:$H,8)","v":94.074043290758155},null,null,542.89,19.771999999999998,86.891999999999996,536.34,19.835999999999999,103.12,2.0478999999999998,-2.2978999999999998,20.009,94.125,-1.6509,20.042000000000002,102.33,412.77,20.216000000000001,86.569000000000003,407.58,20.27,102.1,2.0049000000000001]
[36.802799999999998,-121.78792333299999,"2013-05-09T06:31:27",129.27184027777548,0.44896360361240195,533.73306120000007,405.91986119999996,{"$f":"VLOOKUP(C5,pH_Proc!O:R,4)","v":7.9735682910516754},{"$f":"VLOOKUP(C5,[1]Proc_CTD!$A:$H,8)","v":94.580051731494606},null,null,543.26,19.75,86.864999999999995,537.21,19.815000000000001,103.12,2.0476999999999999,-2.2273999999999998,19.988,93.99,-1.4790000000000001,20.02,102.5,413.05,20.183,86.581999999999994,408.21,20.259,102.08,2.0061]
[36.802513333,-121.787956667,"2013-05-09T07:31:29",129.31353009259328,0.47292035704624757,534.72029431999999,403.02315831999999,{"$f":"VLOOKUP(C6,pH_Proc!O:R,4)","v":7.9741364386803504},{"$f":"VLOOKUP(C6,[1]Proc_CTD!$A:$H,8)","v":93.924223250783101},null,null,544.08000000000004,19.728000000000002,86.864999999999995,538.13,19.792999999999999,103.12,2.0384000000000002,-2.0992000000000002,19.966000000000001,94.555999999999997,-1.5553999999999999,19.998999999999999,102.8,410.37,20.161000000000001,86.677000000000007,405.21,20.225999999999999,102.1,1.9992000000000001]
[36.799941666999999,-121.78729166700001,"2013-05-09T08:31:27",129.35517361111124,0.75014197095633384,534.61249527999996,403.49002327999995,{"$f":"VLOOKUP(C7,pH_Proc!O:R,4)","v":7.9733738213999734},{"$f":"VLOOKUP(C7,[1]Proc_CTD!$A:$H,8)","v":91.574529624671854},null,null,544.48,19.707000000000001,86.784999999999997,537.87,19.782,103.09,2.0402,-2.1187,19.954999999999998,94.125,-1.7065999999999999,19.977,102.58,410.56,20.14,86.555999999999997,405.53,20.216000000000001,102.06,1.9990000000000001]
[36.802886667000003,-121.78838,"2013-05-09T09:31:27",129.39684027777548,0.41737590224758692,535.52294140000004,410.19664940000001,{"$f":"VLOOKUP(C8,pH_Proc!O:R,4)","v":7.9746074560976625},{"$f":"VLOOKUP(C8,[1]Proc_CTD!$A:$H,8)","v":89.212516834810856},null,null,544.91,19.707000000000001,86.918999999999997,539.04,19.771000000000001,103.07,2.0388999999999999,-1.9811000000000001,19.943999999999999,94.097999999999999,-1.4555,19.977,102.33,417.6,20.149999999999999,86.716999999999999,412.55,20.216000000000001,102.04,1.9954000000000001]
[36.802881667000001,-121.788015,"2013-05-09T10:31:27",129.438506944447,0.43679306958695646,536.19698263999999,409.45384663999999,{"$f":"VLOOKUP(C9,pH_Proc!O:R,4)","v":7.9745411894827498},{"$f":"VLOOKUP(C9,[1]Proc_CTD!$A:$H,8)","v":92.771733798245634},null,null,545.88,19.728000000000002,86.744,539.55999999999995,19.803999999999998,103.07,2.0468999999999999,-2.0985,19.988,93.99,-1.6157999999999999,20.009,102.31,416.78,20.183,86.488,411.64,20.236999999999998,102.03,2.0047000000000001]
[36.802424999999999,-121.78783666699999,"2013-05-09T11:31:27",129.48017361111124,0.48709776643391706,536.32608387999994,407.62116388000004,{"$f":"VLOOKUP(C10,pH_Proc!O:R,4)","v":7.9751908918824617},{"$f":"VLOOKUP(C10,[1]Proc_CTD!$A:$H,8)","v":94.568489768963218},null,null,546.27,19.75,86.65,539.80999999999995,19.803999999999998,103.05,2.0440999999999998,-2.0308999999999999,19.988,94.152000000000001,-1.4961,20.02,102.68,415.36,20.183,86.501999999999995,409.91,20.248000000000001,102.02,2.0028000000000001]
[36.802908332999998,-121.78831,"2013-05-09T12:31:29",129.52186342592904,0.41890784265462888,537.02548960000001,408.41964960000001,{"$f":"VLOOKUP(C11,pH_Proc!O:R,4)","v":7.9757067391720584},{"$f":"VLOOKUP(C11,[1]Proc_CTD!$A:$H,8)","v":95.218330054521616},null,null,547.20000000000005,19.75,86.811000000000007,540.47,19.815000000000001,103.04,2.0428999999999999,-2.0383,19.988,94.286000000000001,-1.542,20.02,102.56,415.79,20.193999999999999,86.474999999999994,410.67,20.259,102.02,2.0051000000000001]
[36.801776666999999,-121.788891667,"2013-05-09T13:31:29",129.56353009259328,0.5057040102131144,537.93028816000003,410.87009616,{"$f":"VLOOKUP(C12,pH_Proc!O:R,4)","v":7.9660171416527925},{"$f":"VLOOKUP(C12,[1]Proc_CTD!$A:$H,8)","v":94.179809754250883},null,null,547.45000000000005,19.815000000000001,86.798000000000002,541.16,19.89,103.08,2.0516000000000001,-2.2084000000000001,20.074000000000002,94.433999999999997,-1.7652000000000001,20.096,102.95,417.88,20.27,86.528999999999996,412.92,20.335000000000001,102.04,2.0131999999999999]
[36.802871666999998,-121.791746667,"2013-05-09T14:31:27",129.60517361111124,0.35414384602122667,537.84042260000001,413.03925459999994,{"$f":"VLOOKUP(C13,pH_Proc!O:R,4)","v":7.9654299466099356},{"$f":"VLOOKUP(C13,[1]Proc_CTD!$A:$H,8)","v":94.407202594915702},null,null,547.78,19.901,86.986999999999995,541.24,19.966000000000001,103.13,2.0554000000000001,-2.2852000000000001,20.161000000000001,94.460999999999999,-1.5945,20.183,102.69,420.59,20.356999999999999,86.677000000000007,415.28,20.411999999999999,102.11,2.0186999999999999]
[36.802590000000002,-121.78796333299999,"2013-05-09T15:31:29",129.64686342592904,0.46561255515631228,537.09207135999998,430.17484336000001,{"$f":"VLOOKUP(C14,pH_Proc!O:R,4)","v":7.9649578459292885},{"$f":"VLOOKUP(C14,[1]Proc_CTD!$A:$H,8)","v":94.865585505147564},null,null,545.91,19.988,86.96,540.28,20.053000000000001,103.19,2.0648,-2.2353999999999998,20.225999999999999,94.231999999999999,-1.7991999999999999,20.259,102.64,437.54,20.422999999999998,86.677000000000007,432.37,20.488,102.15,2.0224000000000002]
[36.802706667000002,-121.788033333,"2013-05-09T16:31:29",129.68853009259328,0.45143948603523626,538.59947448000003,436.44799448000003,{"$f":"VLOOKUP(C15,pH_Proc!O:R,4)","v":7.9659931264755182},{"$f":"VLOOKUP(C15,[1]Proc_CTD!$A:$H,8)","v":94.06318860313597},null,null,547.99,19.988,86.891999999999996,541.91999999999996,20.062999999999999,103.2,2.0651999999999999,-2.2761,20.248000000000001,94.447999999999993,-1.6806000000000001,20.27,102.74,444.53,20.443999999999999,86.748999999999995,438.82,20.498999999999999,102.2,2.0188000000000001]
[36.803201667000003,-121.787576667,"2013-05-09T17:31:27",129.73017361111124,0.43545553494457856,538.27112335999993,445.58178336000003,{"$f":"VLOOKUP(C16,pH_Proc!O:R,4)","v":7.9672558679370162},{"$f":"VLOOKUP(C16,[1]Proc_CTD!$A:$H,8)","v":94.503579752404889},null,null,548.29,19.966000000000001,86.972999999999999,541.55999999999995,20.042000000000002,103.23,2.0644999999999998,-2.4064999999999999,20.225999999999999,94.111000000000004,-1.7092000000000001,20.248000000000001,102.58,452.53,20.422999999999998,86.703999999999994,448.01,20.477,102.2,2.0209000000000001]
[36.797089999999997,-121.801818333,"2013-05-09T18:31:27",129.77184027777548,1.3814582395488579,540.15354428000001,431.41324427999996,{"$f":"VLOOKUP(C17,pH_Proc!O:R,4)","v":7.9652032641826649},{"$f":"VLOOKUP(C17,[1]Proc_CTD!$A:$H,8)","v":94.503579752404889},null,null,549.67999999999995,19.943999999999999,86.837999999999994,543.53,20.02,103.18,2.0638000000000001,-2.2925,20.204999999999998,94.3,-1.6391,20.225999999999999,102.68,439.22,20.401,86.623000000000005,433.78,20.454999999999998,102.15,2.0194000000000001]
[36.802973332999997,-121.788133333,"2013-05-09T19:31:27",129.813506944447,0.42230340359211566,538.46403211999996,426.82068812,{"$f":"VLOOKUP(C18,pH_Proc!O:R,4)","v":7.9679524174149856},{"$f":"VLOOKUP(C18,[1]Proc_CTD!$A:$H,8)","v":94.503579752404889},null,null,549.14,19.922999999999998,86.879000000000005,541.79,19.998000000000001,103.18,2.0569000000000002,-2.3109999999999999,20.183,94.555999999999997,-1.6738999999999999,20.204999999999998,102.8,433.74,20.379000000000001,86.635999999999996,429.11,20.433,102.14,2.0144000000000002]
[36.802886667000003,-121.787816667,"2013-05-09T20:31:29",129.85519675925752,0.44731481821751407,538.08039436000001,405.10512635999999,{"$f":"VLOOKUP(C19,pH_Proc!O:R,4)","v":7.9657444345639314},{"$f":"VLOOKUP(C19,[1]Proc_CTD!$A:$H,8)","v":94.503579752404889},null,null,547.82000000000005,19.901,86.798000000000002,541.4,19.966000000000001,103.16,2.0550999999999999,-2.2572000000000001,20.138999999999999,94.177999999999997,-1.6767000000000001,20.172000000000001,102.61,412.1,20.346,86.596000000000004,407.19,20.401,102.16,2.0116000000000001]
[36.817534999999999,-121.84939,"2013-05-09T21:31:27",129.89684027777548,5.3514444382807671,537.78216356000007,404.69790755999998,{"$f":"VLOOKUP(C20,pH_Proc!O:R,4)","v":7.9662495867172938},{"$f":"VLOOKUP(C20,[1]Proc_CTD!$A:$H,8)","v":94.503579752404889},null,null,547.6,19.966000000000001,86.864999999999995,540.94000000000005,20.030999999999999,103.15,2.0432999999999999,-2.1968999999999999,20.204999999999998,94.555999999999997,-1.8357000000000001,20.236999999999998,102.97,411.69,20.401,86.581999999999994,406.62,20.454999999999998,102.12,2.0045000000000002]
[36.802163333000003,-121.787816667,"2013-05-09T22:31:27",129.938506944447,0.5121024307223313,537.06967928000006,406.70021528000001,{"$f":"VLOOKUP(C21,pH_Proc!O:R,4)","v":7.9675464261997337},{"$f":"VLOOKUP(C21,[1]Proc_CTD!$A:$H,8)","v":94.516948186819818},null,null,547.26,19.901,86.725999999999999,540.45000000000005,19.977,103.12,2.0495000000000001,-2.1389999999999998,20.161000000000001,94.03,-1.6066,20.183,102.46,413.71,20.356999999999999,86.447999999999993,408.87,20.411999999999999,102.07,2.0081000000000002]
[36.802716666999999,-121.787995,"2013-05-09T23:31:27",129.98017361111124,0.45254516890726754,537.58925480000005,404.60407879999997,{"$f":"VLOOKUP(C22,pH_Proc!O:R,4)","v":7.9672507086386277},{"$f":"VLOOKUP(C22,[1]Proc_CTD!$A:$H,8)","v":94.516948186819818},null,null,547.09,19.901,86.716999999999999,541.04,19.977,103.05,2.0493000000000001,-2.1901999999999999,20.161000000000001,93.99,-1.5409999999999999,20.183,102.81,411.56,20.356999999999999,86.569000000000003,406.82,20.411999999999999,102.04,2.0059]
[36.802846666999997,-121.788088333,"2013-05-10T00:31:28",130.02185185185226,0.43597944910256192,538.79367128000001,407.30460327999998,{"$f":"VLOOKUP(C23,pH_Proc!O:R,4)","v":7.9696020896971866},{"$f":"VLOOKUP(C23,[1]Proc_CTD!$A:$H,8)","v":94.516948186819818},null,null,548.47,19.954999999999998,86.677000000000007,542.04,20.02,103.03,2.0608,-2.1945000000000001,20.204999999999998,94.03,-1.7565999999999999,20.225999999999999,102.66,414.32,20.401,86.677000000000007,409.33,20.454999999999998,101.99,2.0078999999999998]
[36.801454999999997,-121.791611667,"2013-05-10T01:31:27",130.063506944447,0.50830400881249815,538.32016796000005,404.73060396,{"$f":"VLOOKUP(C24,pH_Proc!O:R,4)","v":7.9681236858201547},{"$f":"VLOOKUP(C24,[1]Proc_CTD!$A:$H,8)","v":94.516948186819818},null,null,547.51,20.009,86.891999999999996,541.47,20.085000000000001,103.04,2.0579000000000001,-2.3906999999999998,20.27,94.070999999999998,-1.8487,20.292000000000002,102.33,411.35,20.466000000000001,86.623000000000005,406.64,20.521000000000001,101.99,2.0087999999999999]
[36.800530000000002,-121.78757166699999,"2013-05-10T02:31:27",130.10517361111124,0.68046082199786695,538.20582964000005,402.20862163999999,{"$f":"VLOOKUP(C25,pH_Proc!O:R,4)","v":7.9694066197159428},{"$f":"VLOOKUP(C25,[1]Proc_CTD!$A:$H,8)","v":94.577369653599476},null,null,547.66999999999996,20.009,86.757999999999996,541.4,20.074000000000002,103.05,2.0577000000000001,-2.3643000000000001,20.259,93.558999999999997,-1.8032999999999999,20.292000000000002,101.72,409.07,20.454999999999998,86.608999999999995,404.14,20.51,102.02,2.0118999999999998]
[36.802750000000003,-121.788346667,"2013-05-10T03:31:27",130.14684027777548,0.43167973535830895,538.92188080000005,403.8560248,{"$f":"VLOOKUP(C26,pH_Proc!O:R,4)","v":7.97053922589516},{"$f":"VLOOKUP(C26,[1]Proc_CTD!$A:$H,8)","v":94.935341395545052},null,null,548.52,19.966000000000001,86.945999999999998,542.1,20.042000000000002,103.08,2.0566,-2.3769,20.225999999999999,93.438000000000002,-1.8260000000000001,20.248000000000001,101.33,410.8,20.422999999999998,86.703999999999994,405.78,20.477,102.08,2.0099999999999998]
[36.801519999999996,-121.787908333,"2013-05-10T04:31:27",130.188506944447,0.56907692963966983,538.91821483999991,405.93303884000005,{"$f":"VLOOKUP(C27,pH_Proc!O:R,4)","v":7.9730900376120353},{"$f":"VLOOKUP(C27,[1]Proc_CTD!$A:$H,8)","v":95.345238544474682},null,null,548.59,19.943999999999999,87.188999999999993,542.14,20.009,103.15,2.0451000000000001,-2.3462999999999998,20.183,93.599000000000004,-1.7823,20.216000000000001,101.76,412.79,20.379000000000001,86.744,407.92,20.443999999999999,102.14,2.0091000000000001]
[36.818449999999999,-121.792828333,"2013-05-10T05:31:27",130.23017361111124,1.3939035243198008,538.65525651999997,407.05720052000004,{"$f":"VLOOKUP(C28,pH_Proc!O:R,4)","v":7.9725196853893552},{"$f":"VLOOKUP(C28,[1]Proc_CTD!$A:$H,8)","v":94.705064077053066},null,null,548.36,19.879000000000001,87.081000000000003,541.91999999999996,19.954999999999998,103.16,2.0442,-2.2139000000000002,20.138999999999999,93.356999999999999,-1.7369000000000001,20.149999999999999,101.8,413.74,20.324000000000002,86.784999999999997,409.1,20.39,102.15,2.0011999999999999]
[36.812556667000003,-121.783318333,"2013-05-10T06:31:27",130.27184027777548,0.99937431739243643,538.46056432,408.34870832000001,{"$f":"VLOOKUP(C29,pH_Proc!O:R,4)","v":7.9724926119482165},{"$f":"VLOOKUP(C29,[1]Proc_CTD!$A:$H,8)","v":93.852387514648967},null,null,548.19000000000005,19.835999999999999,87.093999999999994,541.84,19.901,103.23,2.0432999999999999,-1.9862,20.074000000000002,93.438000000000002,-1.6204000000000001,20.106999999999999,101.38,415.53,20.280999999999999,86.757999999999996,410.52,20.346,102.19,1.9987999999999999]
[36.755911666999999,-121.771018333,"2013-05-10T07:31:28",130.3135185185165,5.8466871867982668,538.58510788000001,416.32038788,{"$f":"VLOOKUP(C30,pH_Proc!O:R,4)","v":7.9710764037978734},{"$f":"VLOOKUP(C30,[1]Proc_CTD!$A:$H,8)","v":94.678359520284857},null,null,548.47,19.815000000000001,87.296000000000006,541.91,19.879000000000001,103.24,2.0388999999999999,-2.1160000000000001,20.053000000000001,93.450999999999993,-1.6760999999999999,20.085000000000001,101.96,422.47,20.259,86.744,418.51,20.324000000000002,102.21,2.0015999999999998]
[36.755911666999999,-121.771018333,"2013-05-10T08:31:28",130.35518518518802,5.8466871867982668,539.22526375999996,414.45381976000004,{"$f":"VLOOKUP(C31,pH_Proc!O:R,4)","v":7.9702264973885901},{"$f":"VLOOKUP(C31,[1]Proc_CTD!$A:$H,8)","v":94.917284732434481},null,null,549.16,19.792999999999999,87.108000000000004,542.65,19.869,103.22,2.0375000000000001,-2.2932000000000001,20.053000000000001,93.68,-1.5822000000000001,20.064,101.94,422.01,20.248000000000001,86.798000000000002,416.72,20.303000000000001,102.19,1.9970000000000001]
[36.802623333,-121.787718333,"2013-05-10T09:31:27",130.39684027777548,0.47566384684567498,539.30958084000008,414.93445684,{"$f":"VLOOKUP(C32,pH_Proc!O:R,4)","v":7.9694658103410791},{"$f":"VLOOKUP(C32,[1]Proc_CTD!$A:$H,8)","v":94.882649080286612},null,null,549.35,19.792999999999999,87.04,542.70000000000005,19.847000000000001,103.16,2.0348999999999999,-2.1574,20.030999999999999,93.384,-1.6173,20.064,101.63,422.61,20.225999999999999,86.69,417.17,20.280999999999999,102.15,1.9968999999999999]
[36.802754999999998,-121.788051667,"2013-05-10T10:31:27",130.438506944447,0.44612943673984579,539.41153415999997,412.55941016000003,{"$f":"VLOOKUP(C33,pH_Proc!O:R,4)","v":7.9702836194392663},{"$f":"VLOOKUP(C33,[1]Proc_CTD!$A:$H,8)","v":95.01648719409161},null,null,549.23,19.760999999999999,86.986999999999995,542.64,19.824999999999999,103.18,2.0348999999999999,-2.1495000000000002,20.009,93.572000000000003,-1.7802,20.042000000000002,101.55,419.36,20.204999999999998,86.694999999999993,414.61,20.259,102.14,1.9970000000000001]
[36.802691666999998,-121.788018333,"2013-05-10T11:31:28",130.48018518518802,0.45357309116486494,540.24162639999997,409.75326639999997,{"$f":"VLOOKUP(C34,pH_Proc!O:R,4)","v":7.9705942895146782},{"$f":"VLOOKUP(C34,[1]Proc_CTD!$A:$H,8)","v":94.657251061816368},null,null,550.17999999999995,19.75,86.837999999999994,543.65,19.824999999999999,103.11,2.0363000000000002,-2.3412999999999999,20.009,93.29,-1.6080000000000001,20.030999999999999,101.65,417.18,20.204999999999998,86.608999999999995,411.95,20.259,102.06,1.9966999999999999]
[36.802991667000001,-121.788465,"2013-05-10T12:31:27",130.52184027777548,0.40346662215272644,540.68352319999997,411.21568720000005,{"$f":"VLOOKUP(C35,pH_Proc!O:R,4)","v":7.9713148984140902},{"$f":"VLOOKUP(C35,[1]Proc_CTD!$A:$H,8)","v":94.836268875859489},null,null,550.34,19.771999999999998,86.918999999999997,544.14,19.824999999999999,103.08,2.0430999999999999,-2.2551000000000001,20.009,93.343000000000004,-1.5640000000000001,20.042000000000002,101.49,418.42,20.204999999999998,86.569000000000003,413.47,20.27,102.06,2.0038]
[36.795838332999999,-121.84594333299999,"2013-05-10T17:31:33",130.73024305555737,5.0183346969274094,414.15449907999999,413.44112308000001,{"$f":"VLOOKUP(C36,pH_Proc!O:R,4)","v":7.7938265292787579},{"$f":"VLOOKUP(C36,[1]Proc_CTD!$A:$H,8)","v":97.244281115239005},null,null,421.91,19.652999999999999,85.882000000000005,416.2,19.739000000000001,102.27,2.0002,-2.2867000000000002,19.943999999999999,92.926000000000002,-1.8001,19.977,100.8,420.79,20.183,86.852000000000004,415.48,20.259,102.28,1.9401999999999999]
[36.797525,-121.85374166699999,"2013-05-10T18:31:16",130.77171296296001,5.6623647563805637,267.836816086,407.38108808600003,{"$f":"VLOOKUP(C37,pH_Proc!O:R,4)","v":8.2374418367292321},{"$f":"VLOOKUP(C37,[1]Proc_CTD!$A:$H,8)","v":123.23914542186347},null,null,276.41000000000003,16.690000000000001,86.658000000000001,270.38,16.742000000000001,103.03,1.9834000000000001,-7.2758000000000003E-2,16.855,92.495000000000005,5.6204999999999998E-2,16.876000000000001,100.61,417.61,16.978999999999999,86.603999999999999,411.22,17.010000000000002,102.31,1.9741]
[36.795565000000003,-121.865353333,"2013-05-10T19:31:16",130.81337962963153,6.7177706037849765,224.87540607599999,399.09767807600002,{"$f":"VLOOKUP(C38,pH_Proc!O:R,4)","v":8.294242893133756},{"$f":"VLOOKUP(C38,[1]Proc_CTD!$A:$H,8)","v":130.18392856846523},null,null,231.81,14.714,86.537000000000006,227.62,14.773999999999999,102.65,1.9529000000000001,0.42419000000000001,14.944000000000001,92.165000000000006,0.65652999999999995,14.974,100.57,409.85,15.125,86.497,403.46,15.176,102.28,1.9439]
[36.794224999999997,-121.87464166700001,"2013-05-10T20:31:16",130.85504629629577,7.5577300719085203,244.23772866399997,399.27811266400005,{"$f":"VLOOKUP(C39,pH_Proc!O:R,4)","v":8.2569475745691818},{"$f":"VLOOKUP(C39,[1]Proc_CTD!$A:$H,8)","v":126.11296458982108},null,null,252.28,14.164999999999999,85.891000000000005,247.39,14.224,102.43,1.9404999999999999,0.60455999999999999,14.404,92.34,0.88441999999999998,14.433999999999999,100.93,409.59,14.593999999999999,86.361999999999995,403.87,14.644,102.25,1.9287000000000001]
[36.792998333,-121.882078333,"2013-05-10T21:31:17",130.89672453703679,8.2332454459491835,273.81769606799998,398.84674806800001,{"$f":"VLOOKUP(C40,pH_Proc!O:R,4)","v":8.2110589108352698},{"$f":"VLOOKUP(C40,[1]Proc_CTD!$A:$H,8)","v":116.7661975092777},null,null,281.95,13.788,86.497,277.26,13.847,102.37,1.929,0.69742000000000004,14.026,92.716999999999999,0.89978999999999998,14.055,101.11,409.39,14.215,86.846999999999994,403.45,14.273999999999999,102.24,1.9177]
[36.792478332999998,-121.884751667,"2013-05-10T22:31:16",130.93837962963153,8.4776511315267786,300.51290964000003,398.86962564000004,{"$f":"VLOOKUP(C41,pH_Proc!O:R,4)","v":8.1587966365245936},{"$f":"VLOOKUP(C41,[1]Proc_CTD!$A:$H,8)","v":107.03369902415778},null,null,310.64,13.55,85.984999999999999,304.47000000000003,13.609,102.26,1.9268000000000001,1.0059,13.788,92.744,1.1667000000000001,13.817,101.21,409.64,13.986000000000001,86.578000000000003,403.74,14.045999999999999,102.2,1.9258999999999999]
[36.790838333000004,-121.88705166699999,"2013-05-10T23:31:16",130.98004629629577,8.7126988641689209,351.70724840000003,399.0674884,{"$f":"VLOOKUP(C42,pH_Proc!O:R,4)","v":8.1053331559469122},{"$f":"VLOOKUP(C42,[1]Proc_CTD!$A:$H,8)","v":98.911168598706084},null,null,361.29,13.353,85.930999999999997,355.98,13.422000000000001,102.33,1.9216,0.89932000000000001,13.609,92.233000000000004,1.0069999999999999,13.638999999999999,100.82,409.47,13.798,86.429000000000002,403.78,13.856999999999999,102.13,1.9244000000000001]
[36.789969999999997,-121.89178833299999,"2013-05-11T00:31:16",131.02171296296001,9.1450099051657361,404.37441135999995,398.54850735999997,{"$f":"VLOOKUP(C43,pH_Proc!O:R,4)","v":8.0441174932416555},{"$f":"VLOOKUP(C43,[1]Proc_CTD!$A:$H,8)","v":92.492098306368462},null,null,416.14,13.175000000000001,85.864000000000004,409.27,13.234,102.25,1.925,1.0356000000000001,13.412000000000001,92.3,1.1408,13.441000000000001,101.16,409.6,13.609,86.322000000000003,403.39,13.669,102.08,1.9200999999999999]
[36.788503333000001,-121.90079666699999,"2013-05-11T01:31:18",131.06340277777781,9.9632070498835485,410.55175212,398.04785612000001,{"$f":"VLOOKUP(C44,pH_Proc!O:R,4)","v":8.0394935354598562},{"$f":"VLOOKUP(C44,[1]Proc_CTD!$A:$H,8)","v":90.965330689861432},null,null,422.83,12.988,85.701999999999998,415.63,13.057,102.25,1.9158999999999999,1.1568000000000001,13.234,92.016999999999996,1.2661,13.263999999999999,100.35,409.72,13.432,86.51,403.01,13.491,102.09,1.9164000000000001]
[36.786524999999997,-121.914253333,"2013-05-11T02:31:16",131.10504629629577,11.18084445523394,368.26312008000002,397.63043208000005,{"$f":"VLOOKUP(C45,pH_Proc!O:R,4)","v":8.0388956018428281},{"$f":"VLOOKUP(C45,[1]Proc_CTD!$A:$H,8)","v":90.103472621476755},null,null,379.96,12.88,85.864000000000004,373.11,12.949,102.32,1.9175,1.1896,13.125999999999999,92.326999999999998,1.4274,13.146000000000001,100.78,408.93,13.323,86.725999999999999,402.75,13.391999999999999,102.13,1.9142999999999999]
[36.783256667000003,-121.934836667,"2013-05-11T03:31:17",131.14672453703679,13.048660607549564,407.26853816000005,397.88566215999998,{"$f":"VLOOKUP(C46,pH_Proc!O:R,4)","v":8.0425761692317046},{"$f":"VLOOKUP(C46,[1]Proc_CTD!$A:$H,8)","v":89.28801095361429},null,null,418.01,12.92,85.998999999999995,412.22,12.997999999999999,102.29,1.9119999999999999,1.0351999999999999,13.175000000000001,92.447999999999993,1.1698,13.205,101.03,408.75,13.372,86.739000000000004,402.75,13.432,102.17,1.9103000000000001]
[36.780254999999997,-121.95313166699999,"2013-05-11T04:31:16",131.18837962963153,14.710985731156606,403.31554340000002,398.18319939999998,{"$f":"VLOOKUP(C47,pH_Proc!O:R,4)","v":8.0530249208576681},{"$f":"VLOOKUP(C47,[1]Proc_CTD!$A:$H,8)","v":89.391608114308241},null,null,414.65,12.811999999999999,85.77,408.45,12.88,102.01,1.9129,1.0820000000000001,13.057,92.34,1.3895,13.087,100.65,409.05,13.254,86.739000000000004,403.27,13.313000000000001,102.18,1.9112]
[36.777756666999998,-121.969351667,"2013-05-11T05:31:17",131.23005787037255,16.181288766220035,399.01963275999998,400.22840876000004,{"$f":"VLOOKUP(C48,pH_Proc!O:R,4)","v":8.0548337256040465},{"$f":"VLOOKUP(C48,[1]Proc_CTD!$A:$H,8)","v":88.648630164958448},null,null,411.28,12.763,86.12,404.08,12.831,102.21,1.9100999999999999,1.1760999999999999,13.018000000000001,92.474999999999994,1.3552999999999999,13.047000000000001,100.53,411.22,13.215,86.712000000000003,405.3,13.273999999999999,102.2,1.9088000000000001]
[36.775323333000003,-121.985195,"2013-05-11T06:31:16",131.27171296296001,17.61734490740665,408.02828360000001,399.89381560000004,{"$f":"VLOOKUP(C49,pH_Proc!O:R,4)","v":8.0450184729608818},{"$f":"VLOOKUP(C49,[1]Proc_CTD!$A:$H,8)","v":86.226049959065676},null,null,420.38,12.811999999999999,86.147000000000006,413.37,12.88,102.39,1.9117999999999999,1.3581000000000001,13.057,92.313999999999993,1.5529999999999999,13.087,101.01,411.26,13.263999999999999,86.603999999999999,405.16,13.323,102.2,1.9134]
[36.772666667000003,-122.002585,"2013-05-11T07:31:17",131.31339120370103,19.193339852883334,392.90312712000002,399.68019912,{"$f":"VLOOKUP(C50,pH_Proc!O:R,4)","v":8.0615867551188156},{"$f":"VLOOKUP(C50,[1]Proc_CTD!$A:$H,8)","v":88.459119809090069},null,null,405.01,12.851000000000001,85.77,397.91,12.92,102.33,1.9229000000000001,1.1352,13.097,92.421000000000006,1.3586,13.125999999999999,100.96,410.65,13.303000000000001,86.402000000000001,404.75,13.363,102.22,1.9172]
[36.801253332999998,-122.003711667,"2013-05-11T08:31:17",131.35505787037255,18.936155102808712,384.64996127999996,402.87077327999998,{"$f":"VLOOKUP(C51,pH_Proc!O:R,4)","v":8.071367274838666},{"$f":"VLOOKUP(C51,[1]Proc_CTD!$A:$H,8)","v":90.082153805094009},null,null,395.97,12.9,85.805000000000007,389.45,12.978999999999999,102.45,1.9202999999999999,1.2157,13.156000000000001,92.501999999999995,1.2283999999999999,13.185,101.23,414.18,13.363,86.415999999999997,407.84,13.412000000000001,102.2,1.9153]
[36.769931667000002,-122.019775,"2013-05-11T09:31:16",131.39671296296001,20.753616119797435,391.81671492000004,401.86342691999999,{"$f":"VLOOKUP(C52,pH_Proc!O:R,4)","v":8.0661942491711347},{"$f":"VLOOKUP(C52,[1]Proc_CTD!$A:$H,8)","v":89.841236196523781},null,null,403.88,12.93,86.039000000000001,396.62,12.997999999999999,102.25,1.9141999999999999,1.2655000000000001,13.175000000000001,92.515000000000001,1.1651,13.205,100.72,412.85,13.382,86.563999999999993,406.76,13.442,102.16,1.9129]
[36.767335000000003,-122.035761667,"2013-05-11T10:31:16",131.43837962963153,22.20586872590231,390.35072723999997,402.33940723999996,{"$f":"VLOOKUP(C53,pH_Proc!O:R,4)","v":8.0706055595473778},{"$f":"VLOOKUP(C53,[1]Proc_CTD!$A:$H,8)","v":89.841236196523781},null,null,402.87,12.92,85.298000000000002,395.28,12.988,101.78,1.9247000000000001,1.1045,13.175000000000001,92.070999999999998,1.3047,13.205,100.76,413.73,13.382,86.12,407.38,13.432,102.09,1.9156]
[36.765403333000002,-122.04849666699999,"2013-05-11T11:31:17",131.48005787037255,23.359805581578524,391.78332496000002,405.03032095999998,{"$f":"VLOOKUP(C54,pH_Proc!O:R,4)","v":8.0643501518073997},{"$f":"VLOOKUP(C54,[1]Proc_CTD!$A:$H,8)","v":89.841236196523781},null,null,403.85,12.92,85.594999999999999,396.76,12.978999999999999,102.29,1.9287000000000001,1.2452000000000001,13.156000000000001,92.031000000000006,1.3388,13.185,100.76,416.02,13.363,86.12,410.13,13.432,102.06,1.9208000000000001]
[36.763635000000001,-122.058595,"2013-05-11T12:31:16",131.52171296296001,24.279979022768565,399.04440276000003,404.46407876000006,{"$f":"VLOOKUP(C55,pH_Proc!O:R,4)","v":8.0581842035379836},{"$f":"VLOOKUP(C55,[1]Proc_CTD!$A:$H,8)","v":89.841236196523781},null,null,410.9,12.91,85.701999999999998,404,12.978999999999999,102.21,1.9220999999999999,1.1273,13.156000000000001,92.152000000000001,1.2503,13.185,100.73,415.96,13.363,86.268000000000001,409.47,13.422000000000001,102.02,1.9149]
[36.762418332999999,-122.06702333299999,"2013-05-11T13:31:16",131.56337962963153,25.042371450670199,401.27578344,405.34797144000004,{"$f":"VLOOKUP(C56,pH_Proc!O:R,4)","v":8.0572283581170883},{"$f":"VLOOKUP(C56,[1]Proc_CTD!$A:$H,8)","v":88.294730101718187},null,null,413.05,12.9,85.433000000000007,406.3,12.959,102.16,1.9285000000000001,1.2938000000000001,13.146000000000001,91.814999999999998,1.2982,13.166,100.28,416.51,13.343,86.093000000000004,410.41,13.412000000000001,102.06,1.9207000000000001]
[36.760914999999997,-122.076923333,"2013-05-11T14:31:17",131.60505787037255,25.939513589748621,400.75581159999996,406.89877159999998,{"$f":"VLOOKUP(C57,pH_Proc!O:R,4)","v":8.0586221236963471},{"$f":"VLOOKUP(C57,[1]Proc_CTD!$A:$H,8)","v":88.294730101718187},null,null,412.06,12.88,85.756,405.83,12.949,102.32,1.9206000000000001,1.1937,13.125999999999999,92.043999999999997,1.353,13.146000000000001,100.66,418.24,13.323,86.241,412.03,13.382,102.04,1.9152]
[36.759123332999998,-122.088216667,"2013-05-11T15:31:16",131.64671296296001,26.964604318018754,406.32529656000003,405.92897656000002,{"$f":"VLOOKUP(C58,pH_Proc!O:R,4)","v":8.0530629668368316},{"$f":"VLOOKUP(C58,[1]Proc_CTD!$A:$H,8)","v":88.294730101718187},null,null,417.69,12.851000000000001,85.540999999999997,411.44,12.92,102.29,1.9273,1.2103999999999999,13.097,92.138000000000005,1.3418000000000001,13.125999999999999,100.84,417.3,13.294,86.12,411.04,13.353,102.08,1.9178999999999999]
[36.757966666999998,-122.096133333,"2013-05-11T16:31:17",131.68839120370103,27.681060367315261,404.40790039999996,401.29678839999997,{"$f":"VLOOKUP(C59,pH_Proc!O:R,4)","v":8.0558608236531484},{"$f":"VLOOKUP(C59,[1]Proc_CTD!$A:$H,8)","v":87.847932895185522},null,null,416.82,12.92,85.567999999999998,409.52,12.988,102.2,1.9206000000000001,1.3369,13.156000000000001,92.084999999999994,1.357,13.185,100.72,412.1,13.363,86.12,406.38,13.422000000000001,102.06,1.9201999999999999]
[36.756696667,-122.10336,"2013-05-11T17:31:16",131.73004629629577,28.339718724179889,404.48181408000005,399.68634208000003,{"$f":"VLOOKUP(C60,pH_Proc!O:R,4)","v":8.0572419746174049},{"$f":"VLOOKUP(C60,[1]Proc_CTD!$A:$H,8)","v":87.973038445794259},null,null,417.11,12.871,86.322000000000003,409.73,12.939,102.3,1.9098999999999999,1.2081,13.116,92.462000000000003,1.4923999999999999,13.146000000000001,100.96,410.96,13.313000000000001,86.537000000000006,404.89,13.372,102.08,1.9131]
[36.756419999999999,-122.105858333,"2013-05-11T18:31:16",131.77171296296001,28.56390812981828,404.51252887999999,399.54862087999999,{"$f":"VLOOKUP(C61,pH_Proc!O:R,4)","v":8.0574989743099792},{"$f":"VLOOKUP(C61,[1]Proc_CTD!$A:$H,8)","v":88.237792144552756},null,null,416.07,12.840999999999999,86.147000000000006,409.58,12.91,102.33,1.9114,1.2173,13.097,92.447999999999993,1.3113999999999999,13.125999999999999,100.7,410.43,13.284000000000001,86.497,404.57,13.353,102.09,1.9129]
[36.755813332999999,-122.109363333,"2013-05-11T19:31:16",131.81337962963153,28.883166768177613,413.74113732000001,399.26554931999999,{"$f":"VLOOKUP(C62,pH_Proc!O:R,4)","v":8.0489370768498443},{"$f":"VLOOKUP(C62,[1]Proc_CTD!$A:$H,8)","v":87.474742828953993},null,null,424.98,12.821999999999999,86.132999999999996,418.86,12.89,102.3,1.9094,1.1709000000000001,13.077,92.462000000000003,1.2770999999999999,13.106,100.78,410.43,13.273999999999999,86.617999999999995,404.25,13.333,102.09,1.9129]
[36.754644999999996,-122.116458333,"2013-05-11T20:31:16",131.85504629629577,29.528141593023612,409.71224728000004,399.35838728000004,{"$f":"VLOOKUP(C63,pH_Proc!O:R,4)","v":8.0524413301098789},{"$f":"VLOOKUP(C63,[1]Proc_CTD!$A:$H,8)","v":89.780439790994095},null,null,421.82,12.821999999999999,85.728999999999999,414.86,12.89,102.33,1.927,1.1173999999999999,13.077,92.447999999999993,1.3433999999999999,13.106,101.19,410.6,13.273999999999999,86.147000000000006,404.41,13.333,102.09,1.9275]
[36.753418332999999,-122.12482166700001,"2013-05-11T21:31:16",131.89671296296001,30.285163976112646,426.84298111999999,398.70426112000001,{"$f":"VLOOKUP(C64,pH_Proc!O:R,4)","v":8.0396648277299381},{"$f":"VLOOKUP(C64,[1]Proc_CTD!$A:$H,8)","v":88.35778826774137},null,null,439.74,12.763,85.320999999999998,432.2,12.831,101.74,1.9291,1.2316,13.018000000000001,92.016999999999996,1.3935999999999999,13.047000000000001,100.82,410.72,13.205,86.105999999999995,403.8,13.273999999999999,102.08,1.93]
[36.752113332999997,-122.133018333,"2013-05-11T22:31:17",131.93839120370103,31.029339493388719,431.99890615999999,399.16379415999995,{"$f":"VLOOKUP(C65,pH_Proc!O:R,4)","v":8.0342576320950272},{"$f":"VLOOKUP(C65,[1]Proc_CTD!$A:$H,8)","v":87.450791769135066},null,null,445.16,12.673999999999999,85.406000000000006,437.54,12.743,102.1,1.9363999999999999,1.2517,12.92,91.936999999999998,1.5298,12.949,100.76,410.3,13.125999999999999,85.984999999999999,404.4,13.175000000000001,102.04,1.9326000000000001]
[36.751064999999997,-122.14021,"2013-05-11T23:31:16",131.98004629629577,31.680187805879967,444.16484028000002,399.31132428000006,{"$f":"VLOOKUP(C66,pH_Proc!O:R,4)","v":8.0167988141861137},{"$f":"VLOOKUP(C66,[1]Proc_CTD!$A:$H,8)","v":85.371802422177069},null,null,457.66,12.616,85.513999999999996,449.76,12.675000000000001,101.74,1.9231,1.3072999999999999,12.861000000000001,91.923000000000002,1.4709000000000001,12.89,100.65,410.82,13.057,86.078999999999994,404.49,13.116,102.02,1.9266000000000001]
[36.749569999999999,-122.14915000000001,"2013-05-12T00:31:16",{"$f":"C67-41274","v":132.02171296296001},{"$f":"ABS(Rhumb(36.806,A67,-121.791,B67))","v":32.493427527767331},{"$f":"0.9908*(O67-V67)","v":435.05215543999998},{"$f":"0.9908*(AB67-V67)","v":399.54188343999999},{"$f":"VLOOKUP(C67,pH_Proc!O:R,4)","v":8.0323303402323898},{"$f":"VLOOKUP(C67,[1]Proc_CTD!$A:$H,8)","v":88.544960097201141},null,null,447.79,12.577,85.783000000000001,440.69,12.645,102.37,1.9287000000000001,1.4503999999999999,12.821999999999999,92.61,1.5982000000000001,12.851000000000001,101.24,410.99,13.028,86.078999999999994,404.85,13.087,102.01,1.9268000000000001]
[36.747321667000001,-122.163573333,"2013-05-12T01:31:16",132.06337962963153,33.801952675060456,439.69880928000003,399.41288128000002,{"$f":"VLOOKUP(C68,pH_Proc!O:R,4)","v":8.0240718125847881},{"$f":"VLOOKUP(C68,[1]Proc_CTD!$A:$H,8)","v":88.413498284789767},null,null,452.19,12.537000000000001,85.203999999999994,445.25,12.606,101.86,1.9268000000000001,1.4437,12.782,91.841999999999999,1.4683999999999999,12.811999999999999,100.35,411.14,12.989000000000001,86.052000000000007,404.59,13.047000000000001,101.97,1.9249000000000001]
[36.744484999999997,-122.181145,"2013-05-12T02:31:18",132.10506944444205,35.39827010491134,438.11897868000005,399.59667468000004,{"$f":"VLOOKUP(C69,pH_Proc!O:R,4)","v":8.0295010619297162},{"$f":"VLOOKUP(C69,[1]Proc_CTD!$A:$H,8)","v":88.053017303175849},null,null,450.14,12.489000000000001,85.186000000000007,443.79,12.557,101.89,1.9280999999999999,1.2574000000000001,12.733000000000001,91.962999999999994,1.6029,12.773,100.63,410.78,12.93,85.984999999999999,404.91,12.997999999999999,102.01,1.9251]
[36.741873333000001,-122.198285,"2013-05-12T03:31:16",132.14671296296001,36.952055807967263,454.73419927999998,399.51691527999998,{"$f":"VLOOKUP(C70,pH_Proc!O:R,4)","v":8.0136167734588231},{"$f":"VLOOKUP(C70,[1]Proc_CTD!$A:$H,8)","v":87.27455346631038},null,null,467.7,12.459,85.783000000000001,460.63,12.528,102.41,1.9239999999999999,1.3953,12.704000000000001,92.462000000000003,1.6734,12.733000000000001,101.16,410.77,12.9,86.132999999999996,404.9,12.968999999999999,102.02,1.9208000000000001]
[36.738644999999998,-122.218783333,"2013-05-12T04:31:16",132.18837962963153,38.812629050844464,448.29954776,399.81970375999998,{"$f":"VLOOKUP(C71,pH_Proc!O:R,4)","v":8.0229534627690757},{"$f":"VLOOKUP(C71,[1]Proc_CTD!$A:$H,8)","v":85.869388768319112},null,null,461.77,12.41,85.352000000000004,454.01,12.478999999999999,101.71,1.9220999999999999,1.3211999999999999,12.664999999999999,92.058000000000007,1.5478000000000001,12.694000000000001,100.89,411.34,12.861000000000001,86.105999999999995,405.08,12.92,102.12,1.9213]
[36.735438332999998,-122.23961166700001,"2013-05-12T05:31:16",132.23004629629577,40.701634585265786,442.88591563999995,399.81583964000004,{"$f":"VLOOKUP(C72,pH_Proc!O:R,4)","v":8.0248147473794624},{"$f":"VLOOKUP(C72,[1]Proc_CTD!$A:$H,8)","v":87.034075487599608},null,null,456.24,12.43,85.203999999999994,448.52,12.497999999999999,100.92,1.9267000000000001,1.3310999999999999,12.683999999999999,91.397999999999996,1.5217000000000001,12.704000000000001,100.15,410.8,12.881,86.105999999999995,405.05,12.939,102.14,1.9221999999999999]
[36.731659999999998,-122.26356,"2013-05-12T06:31:16",132.27171296296001,42.875682268586637,446.15595195999998,400.87639196000003,{"$f":"VLOOKUP(C73,pH_Proc!O:R,4)","v":8.0193559802766696},{"$f":"VLOOKUP(C73,[1]Proc_CTD!$A:$H,8)","v":86.066867328488684},null,null,459.55,12.459,85.540999999999997,451.88,12.528,102.2,1.9259999999999999,1.4386000000000001,12.714,91.585999999999999,1.5812999999999999,12.743,100.54,412.17,12.91,86.078999999999994,406.18,12.978999999999999,102.14,1.9229000000000001]
[36.727958332999997,-122.28707,"2013-05-12T07:31:16",132.31337962963153,45.009874784931064,443.52498164000002,401.25745363999999,{"$f":"VLOOKUP(C74,pH_Proc!O:R,4)","v":8.0232984386220032},{"$f":"VLOOKUP(C74,[1]Proc_CTD!$A:$H,8)","v":86.894081856528913},null,null,457.22,12.489000000000001,85.662000000000006,449.22,12.557,102.08,1.9221999999999999,1.2806999999999999,12.733000000000001,92.004000000000005,1.5767,12.773,100.93,412.91,12.93,86.105999999999995,406.56,12.997999999999999,102.14,1.923]
[36.724685000000001,-122.30755499999999,"2013-05-12T08:31:17",132.35505787037255,46.870586809576537,445.23886747999995,401.03927948,{"$f":"VLOOKUP(C75,pH_Proc!O:R,4)","v":8.0192400842147169},{"$f":"VLOOKUP(C75,[1]Proc_CTD!$A:$H,8)","v":85.831175466430508},null,null,457.66,12.41,85.671000000000006,450.9,12.489000000000001,102.26,1.9231,1.2569999999999999,12.664999999999999,91.99,1.5268999999999999,12.694000000000001,100.9,412.84,12.861000000000001,86.012,406.29,12.92,102.1,1.9260999999999999]
[36.721703333000001,-122.326543333,"2013-05-12T09:31:17",132.39672453703679,48.594278221323421,444.56859128000002,400.69596727999999,{"$f":"VLOOKUP(C76,pH_Proc!O:R,4)","v":8.0189925313954813},{"$f":"VLOOKUP(C76,[1]Proc_CTD!$A:$H,8)","v":85.067503854702764},null,null,457.44,12.313000000000001,85.998999999999995,450.11,12.381,102.17,1.9092,1.2670999999999999,12.567,92.272999999999996,1.4134,12.596,101.13,412.14,12.763,86.429000000000002,405.83,12.821999999999999,102.08,1.9159999999999999]
[36.718451666999997,-122.347321667,"2013-05-12T10:31:17",132.43839120370103,50.4802921094862,434.00557339999995,401.16055339999997,{"$f":"VLOOKUP(C77,pH_Proc!O:R,4)","v":8.0339168062476674},{"$f":"VLOOKUP(C77,[1]Proc_CTD!$A:$H,8)","v":85.269172057598254},null,null,447.27,12.313000000000001,86.066000000000003,439.4,12.381,102.68,1.9224000000000001,1.4298,12.567,92.326999999999998,1.3645,12.596,101.08,412.61,12.773,86.12,406.25,12.821999999999999,102.09,1.9216]
[36.711931667000002,-122.360791667,"2013-05-12T11:31:16",132.48004629629577,51.801243509375887,448.56587480000007,400.83903880000003,{"$f":"VLOOKUP(C78,pH_Proc!O:R,4)","v":8.0230751763687671},{"$f":"VLOOKUP(C78,[1]Proc_CTD!$A:$H,8)","v":83.308466621666071},null,null,461.32,12.332000000000001,86.12,454.22,12.401,102.01,1.9081999999999999,1.4946999999999999,12.586,92.596000000000004,1.4890000000000001,12.616,100.81,412.09,12.782,86.483000000000004,406.05,12.840999999999999,102.08,1.9118999999999999]
[36.703891667000001,-122.37002333300001,"2013-05-12T12:31:16",132.52171296296001,52.794226076901538,434.90383267999999,400.40417667999998,{"$f":"VLOOKUP(C79,pH_Proc!O:R,4)","v":8.0311908578178954},{"$f":"VLOOKUP(C79,[1]Proc_CTD!$A:$H,8)","v":85.47402063247101},null,null,447.53,12.371,86.066000000000003,440.57,12.44,102.56,1.9182999999999999,1.2954000000000001,12.625999999999999,92.866,1.6278999999999999,12.654999999999999,101.46,411.92,12.821999999999999,86.47,405.75,12.881,102.09,1.9151]
[36.698968333000003,-122.375675,"2013-05-12T13:31:17",132.56339120370103,53.40676490130523,432.65709459999999,400.59480660000003,{"$f":"VLOOKUP(C80,pH_Proc!O:R,4)","v":8.0339752053932116},{"$f":"VLOOKUP(C80,[1]Proc_CTD!$A:$H,8)","v":85.326594250888604},null,null,445.77,12.459,86.200999999999993,438.15,12.528,102.17,1.9119999999999999,1.3769,12.724,92.555999999999997,1.4755,12.733000000000001,101.21,411.69,12.91,86.563999999999993,405.79,12.978999999999999,102.13,1.9121999999999999]
[36.698761666999999,-122.37815000000001,"2013-05-12T14:31:16",132.60504629629577,53.626811563788507,427.67247887999997,400.08860687999999,{"$f":"VLOOKUP(C81,pH_Proc!O:R,4)","v":8.0399289080230592},{"$f":"VLOOKUP(C81,[1]Proc_CTD!$A:$H,8)","v":87.146100241619962},null,null,439.66,12.518000000000001,86.213999999999999,433.17,12.586,102.87,1.9238,1.3037000000000001,12.773,92.489000000000004,1.5264,12.792,101.24,411.95,12.968999999999999,86.132999999999996,405.33,13.038,102.17,1.9263999999999999]
[36.714236667000002,-122.358413333,"2013-05-12T15:31:16",132.64671296296001,51.541762153762129,415.89315492000003,400.60511092000002,{"$f":"VLOOKUP(C82,pH_Proc!O:R,4)","v":8.0534147410785799},{"$f":"VLOOKUP(C82,[1]Proc_CTD!$A:$H,8)","v":88.84347861090923},null,null,428.96,12.723000000000001,85.876999999999995,421.23,12.792,102.51,1.9285000000000001,1.1585000000000001,12.978999999999999,92.313999999999993,1.4751000000000001,13.007999999999999,101.09,412.79,13.175000000000001,86.105999999999995,405.8,13.234,102.17,1.9320999999999999]
[36.721218333000003,-122.330415,"2013-05-12T16:31:16",132.68837962963153,48.943068877020011,427.24821831999998,401.31898231999998,{"$f":"VLOOKUP(C83,pH_Proc!O:R,4)","v":8.0402676608968111},{"$f":"VLOOKUP(C83,[1]Proc_CTD!$A:$H,8)","v":87.37053402181796},null,null,439.71,12.704000000000001,85.81,432.67,12.763,102.25,1.9308000000000001,1.1901999999999999,12.939,92.097999999999999,1.4545999999999999,12.978999999999999,100.9,412.65,13.146000000000001,86.12,406.5,13.205,102.2,1.9348000000000001]
[36.726016667000003,-122.29897833299999,"2013-05-12T17:31:16",132.73004629629577,46.092377680242485,422.87254827999999,401.20375228,{"$f":"VLOOKUP(C84,pH_Proc!O:R,4)","v":8.0445232642190447},{"$f":"VLOOKUP(C84,[1]Proc_CTD!$A:$H,8)","v":87.751975682858998},null,null,435,12.664999999999999,85.218000000000004,428.11,12.733000000000001,101.12,1.9248000000000001,1.2897000000000001,12.92,91.91,1.3109,12.949,100.77,412.88,13.116,86.12,406.24,13.175000000000001,102.2,1.9359999999999999]
[36.730351667000001,-122.272058333,"2013-05-12T18:31:17",132.77172453703679,43.646487641540219,422.59304359999999,400.88461560000002,{"$f":"VLOOKUP(C85,pH_Proc!O:R,4)","v":8.0465790276629665},{"$f":"VLOOKUP(C85,[1]Proc_CTD!$A:$H,8)","v":89.325683864601658},null,null,434.84,12.664999999999999,85.218000000000004,427.9,12.733000000000001,101.2,1.9224000000000001,1.1744000000000001,12.92,92.058000000000007,1.383,12.939,100.62,412.67,13.106999999999999,86.16,405.99,13.175000000000001,102.17,1.9351]
[36.733508333000003,-122.25201333299999,"2013-05-12T19:31:16",132.81337962963153,41.826876915309519,420.31677968000002,401.04571968000005,{"$f":"VLOOKUP(C86,pH_Proc!O:R,4)","v":8.045915191288957},{"$f":"VLOOKUP(C86,[1]Proc_CTD!$A:$H,8)","v":90.250278752227203},null,null,432.85,12.616,85.742999999999995,425.69,12.683999999999999,101.85,1.9146000000000001,1.3214999999999999,12.871,92.542000000000002,1.4703999999999999,12.89,101.39,412.08,13.067,86.497,406.24,13.125999999999999,102.13,1.9260999999999999]
[36.736486667000001,-122.23285666699999,"2013-05-12T20:31:17",132.85505787037255,40.088806684780913,429.11865056000005,400.49443856000005,{"$f":"VLOOKUP(C87,pH_Proc!O:R,4)","v":8.0429087556544854},{"$f":"VLOOKUP(C87,[1]Proc_CTD!$A:$H,8)","v":91.692105176018842},null,null,440.69,12.596,85.325000000000003,434.51,12.664999999999999,101.56,1.9255,1.1989000000000001,12.840999999999999,92.070999999999998,1.4068000000000001,12.871,100.82,412.23,13.038,86.147000000000006,405.62,13.097,102.1,1.9329000000000001]
[36.738900000000001,-122.21665166699999,"2013-05-12T21:31:16",132.89671296296001,38.620893103945043,455.67971972000004,400.44261972000004,{"$f":"VLOOKUP(C88,pH_Proc!O:R,4)","v":8.0140449167279257},{"$f":"VLOOKUP(C88,[1]Proc_CTD!$A:$H,8)","v":88.921004672763303},null,null,466.32,12.547000000000001,85.069000000000003,461.43,12.625999999999999,101.59,1.9246000000000001,1.2811999999999999,12.802,91.667000000000002,1.5190999999999999,12.831,100.63,411.94,12.997999999999999,85.998999999999995,405.68,13.057,102.05,1.9365000000000001]
[36.741034999999997,-122.20295,"2013-05-12T22:31:16",132.93837962963153,37.37772710690497,448.17222996000004,400.53456596000001,{"$f":"VLOOKUP(C89,pH_Proc!O:R,4)","v":8.0227102049882468},{"$f":"VLOOKUP(C89,[1]Proc_CTD!$A:$H,8)","v":90.596327300714336},null,null,462.3,12.577,85.352000000000004,453.73,12.645,100.93,1.9196,1.1436999999999999,12.821999999999999,91.546000000000006,1.3963000000000001,12.851000000000001,100.22,412.01,13.028,86.308000000000007,405.65,13.087,101.95,1.9257]
[36.743045000000002,-122.19153666699999,"2013-05-12T23:31:16",132.98004629629577,36.337187386839418,447.17191828,400.50523827999996,{"$f":"VLOOKUP(C90,pH_Proc!O:R,4)","v":8.0260134537363914},{"$f":"VLOOKUP(C90,[1]Proc_CTD!$A:$H,8)","v":90.932990660978732},null,null,461.95,12.616,84.76,452.88,12.683999999999999,101.05,1.9258999999999999,1.3782000000000001,12.861000000000001,91.585999999999999,1.5559000000000001,12.89,100.63,412.17,13.067,85.876999999999995,405.78,13.116,101.91,1.9362999999999999]
[36.744996667000002,-122.178748333,"2013-05-13T00:31:16",133.02171296296001,35.177833536624327,456.8791822,400.88907419999998,{"$f":"VLOOKUP(C91,pH_Proc!O:R,4)","v":8.0162552372434366},{"$f":"VLOOKUP(C91,[1]Proc_CTD!$A:$H,8)","v":89.405386722704861},null,null,473.08,12.596,84.745999999999995,462.63,12.664999999999999,100.8,1.9215,1.2361,12.840999999999999,91.707999999999998,1.5085,12.871,100.51,412.13,13.038,85.864000000000004,406.12,13.097,101.86,1.9329000000000001]
[36.747304999999997,-122.163916667,"2013-05-13T01:31:16",133.06337962963153,33.832302775353966,466.42157700000007,400.71172100000001,{"$f":"VLOOKUP(C92,pH_Proc!O:R,4)","v":8.0082609916101717},{"$f":"VLOOKUP(C92,[1]Proc_CTD!$A:$H,8)","v":87.788773744387015},null,null,478.71,12.497999999999999,84.718999999999994,472.22,12.567,101.09,1.9219999999999999,1.1601999999999999,12.743,91.760999999999996,1.4675,12.773,100.31,411.81,12.939,85.876999999999995,405.9,12.997999999999999,101.78,1.9307000000000001]
[36.749711667,-122.14815666699999,"2013-05-13T02:31:16",133.10504629629577,32.403596574161178,469.91345344000007,400.91414143999998,{"$f":"VLOOKUP(C93,pH_Proc!O:R,4)","v":8.0021844715159105},{"$f":"VLOOKUP(C93,[1]Proc_CTD!$A:$H,8)","v":86.119162895378054},null,null,483.48,12.371,84.772999999999996,475.66,12.449,100.45,1.9047000000000001,1.3843000000000001,12.625999999999999,91.91,1.3832,12.654999999999999,100.18,412.21,12.821999999999999,86.295000000000002,406.02,12.881,101.77,1.9197]
[36.752473332999998,-122.13090333300001,"2013-05-13T03:31:17",133.14672453703679,30.836813416512022,481.44042064000001,400.75957664000003,{"$f":"VLOOKUP(C94,pH_Proc!O:R,4)","v":7.9966587753499638},{"$f":"VLOOKUP(C94,[1]Proc_CTD!$A:$H,8)","v":86.442062084531472},null,null,494.94,12.273999999999999,84.76,487.53,12.352,100.49,1.9077,1.4394,12.528,91.533000000000001,1.6192,12.557,100.02,411.93,12.724,86.281000000000006,406.1,12.782,101.85,1.9175]
[36.755310000000001,-122.112851667,"2013-05-13T04:31:17",133.18839120370103,29.198734347675586,486.13909147999999,401.14826748000002,{"$f":"VLOOKUP(C95,pH_Proc!O:R,4)","v":7.9918759378371531},{"$f":"VLOOKUP(C95,[1]Proc_CTD!$A:$H,8)","v":85.278809935223137},null,null,500.47,12.157,84.262,492.19,12.234999999999999,100.42,1.9120999999999999,1.4319999999999999,12.41,91.95,1.5368999999999999,12.44,100.47,412.45,12.616,86.388999999999996,406.41,12.664999999999999,101.87,1.9131]
[36.758033333,-122.094903333,"2013-05-13T05:31:16",133.23004629629577,27.572193156903154,421.98370160000007,400.74094960000008,{"$f":"VLOOKUP(C96,pH_Proc!O:R,4)","v":8.0349312360371492},{"$f":"VLOOKUP(C96,[1]Proc_CTD!$A:$H,8)","v":91.663105886633858},null,null,435.82,12.157,84.808999999999997,427.48,12.225,100.53,1.9029,1.3039000000000001,12.41,91.465000000000003,1.5780000000000001,12.44,99.935000000000002,411.76,12.616,86.308000000000007,406.04,12.664999999999999,101.9,1.9169]
[36.760635000000001,-122.078268333,"2013-05-13T06:31:16",133.27171296296001,26.063040999372113,389.22874531999997,400.85082932,{"$f":"VLOOKUP(C97,pH_Proc!O:R,4)","v":8.0832215505485259},{"$f":"VLOOKUP(C97,[1]Proc_CTD!$A:$H,8)","v":97.216253800542788},null,null,402.32,12.352,84.921000000000006,394.27,12.42,100.82,1.9131,1.3334999999999999,12.606,91.748000000000005,1.4271,12.635,100.46,412.17,12.811999999999999,86.281000000000006,406,12.881,101.89,1.9189000000000001]
[36.763084999999997,-122.063186667,"2013-05-13T07:31:18",133.31340277777781,24.692875068311753,358.27298275999999,400.82784275999995,{"$f":"VLOOKUP(C98,pH_Proc!O:R,4)","v":8.1039679312798221},{"$f":"VLOOKUP(C98,[1]Proc_CTD!$A:$H,8)","v":99.186928333470945},null,null,368.2,12.478999999999999,85.082999999999998,363.05,12.547000000000001,100.73,1.9103000000000001,1.3663000000000001,12.733000000000001,91.787999999999997,1.4502999999999999,12.753,100.34,412.92,12.93,86.295000000000002,406,12.997999999999999,101.89,1.9201999999999999]
[36.765823333,-122.04568500000001,"2013-05-13T08:31:16",133.35504629629577,23.105173882461091,319.73621308000003,400.49632108000003,{"$f":"VLOOKUP(C99,pH_Proc!O:R,4)","v":8.1603116102247011},{"$f":"VLOOKUP(C99,[1]Proc_CTD!$A:$H,8)","v":104.08972941355243},null,null,328.91,12.733000000000001,85.016000000000005,324.11,12.811999999999999,101.19,1.9204000000000001,1.1666000000000001,12.997999999999999,91.841999999999999,1.4049,13.028,100.19,411.69,13.205,86.213999999999999,405.62,13.263999999999999,101.86,1.9241999999999999]
[36.769058332999997,-122.02468,"2013-05-13T09:31:16",133.39671296296001,21.200847752541243,342.35211480000004,400.93811879999998,{"$f":"VLOOKUP(C100,pH_Proc!O:R,4)","v":8.1434635438402587},{"$f":"VLOOKUP(C100,[1]Proc_CTD!$A:$H,8)","v":100.57932304937901},null,null,351.92,13.028,84.234999999999999,346.83,13.097,99.988,1.9267000000000001,0.88915,13.273999999999999,91.370999999999995,1.2989999999999999,13.303000000000001,100.2,411.71,13.481,86.186999999999998,405.96,13.55,101.85,1.9275]
[36.772723333000002,-122.001691667,"2013-05-13T10:31:16",133.43837962963153,19.11410432867461,420.25257583999996,400.89234384000002,{"$f":"VLOOKUP(C101,pH_Proc!O:R,4)","v":8.0506393410756747},{"$f":"VLOOKUP(C101,[1]Proc_CTD!$A:$H,8)","v":91.241922698048384},null,null,432.3,13.087,84.718999999999994,425.45,13.156000000000001,100.65,1.9326000000000001,1.0581,13.333,91.358000000000004,1.2951999999999999,13.363,100.34,411.75,13.53,86.147000000000006,405.91,13.59,101.83,1.9306000000000001]
[36.776646667000001,-121.976651667,"2013-05-13T11:31:16",133.48004629629577,16.842720129813799,420.31400544000002,401.58788543999998,{"$f":"VLOOKUP(C102,pH_Proc!O:R,4)","v":8.0426071066308946},{"$f":"VLOOKUP(C102,[1]Proc_CTD!$A:$H,8)","v":88.736630387651175},null,null,434.44,12.988,84.257000000000005,425.48,13.057,100.27,1.9347000000000001,1.1416999999999999,13.234,90.858999999999995,1.2632000000000001,13.263999999999999,100.02,412.67,13.442,86.186999999999998,406.58,13.500999999999999,101.82,1.9308000000000001]
[36.779969999999999,-121.95495333300001,"2013-05-13T12:31:16",133.52171296296001,14.876208615014136,427.61818304000002,409.53608303999999,{"$f":"VLOOKUP(C103,pH_Proc!O:R,4)","v":8.0509321292589089},{"$f":"VLOOKUP(C103,[1]Proc_CTD!$A:$H,8)","v":90.444249306071882},null,null,440.03,12.997999999999999,84.275000000000006,432.86,13.067,100.19,1.9249000000000001,1.1428,13.244,90.953999999999994,1.2712000000000001,13.263999999999999,99.894000000000005,420.94,13.442,86.186999999999998,414.61,13.510999999999999,101.85,1.9252]
[36.783041666999999,-121.93532500000001,"2013-05-13T13:31:16",133.56337962963153,13.095957142718284,426.50343396,406.54872196000002,{"$f":"VLOOKUP(C104,pH_Proc!O:R,4)","v":8.0432172265445612},{"$f":"VLOOKUP(C104,[1]Proc_CTD!$A:$H,8)","v":89.18326726301845},null,null,438.87,12.89,84.813999999999993,431.68,12.959,100.7,1.9220999999999999,1.1101000000000001,13.135999999999999,91.438000000000002,1.2162999999999999,13.166,100.24,417.91,13.343,86.281000000000006,411.54,13.391999999999999,101.94,1.9269000000000001]
[36.785798333000002,-121.917938333,"2013-05-13T14:31:17",133.60505787037255,11.51830013785194,396.98304336000007,408.73393135999999,{"$f":"VLOOKUP(C105,pH_Proc!O:R,4)","v":8.0801127232333219},{"$f":"VLOOKUP(C105,[1]Proc_CTD!$A:$H,8)","v":92.889623350273638},null,null,408.95,13.007999999999999,84.221000000000004,401.79,13.077,100.1,1.92,1.1222000000000001,13.254,91.075000000000003,1.1208,13.284000000000001,99.8,420.2,13.461,86.174000000000007,413.65,13.521000000000001,101.97,1.9289000000000001]
[36.788408333,-121.90076000000001,"2013-05-13T15:31:16",133.64671296296001,9.9620814495035042,384.72754091999997,404.77142492000002,{"$f":"VLOOKUP(C106,pH_Proc!O:R,4)","v":8.0815859197408333},{"$f":"VLOOKUP(C106,[1]Proc_CTD!$A:$H,8)","v":93.445328184012354},null,null,395.76,13.116,84.867999999999995,389.43,13.185,101,1.9311,1.1009,13.372,91.734999999999999,1.1301000000000001,13.401999999999999,100.51,416.14,13.58,86.254000000000005,409.66,13.638999999999999,102.04,1.9334]
[36.790961666999998,-121.88484,"2013-05-13T16:31:16",133.68837962963153,8.516968802088936,356.53850809599999,409.10044809599998,{"$f":"VLOOKUP(C107,pH_Proc!O:R,4)","v":8.1069813158321651},{"$f":"VLOOKUP(C107,[1]Proc_CTD!$A:$H,8)","v":96.827779442474693},null,null,367.52,13.263999999999999,85.218000000000004,360.83,13.333,101.98,1.9404999999999999,0.85958000000000001,13.53,92.043999999999997,0.98087999999999997,13.54,100.85,420.56,13.728,86.227000000000004,413.88,13.788,102.06,1.9419999999999999]
[36.789373333,-121.87479500000001,"2013-05-13T17:31:16",133.73004629629577,7.6830904140382428,318.701163952,410.53841595199998,{"$f":"VLOOKUP(C108,pH_Proc!O:R,4)","v":8.1386964978134344},{"$f":"VLOOKUP(C108,[1]Proc_CTD!$A:$H,8)","v":99.640258045710169},null,null,328.84,13.57,85.245000000000005,322.5,13.638999999999999,102.45,1.9574,0.80884999999999996,13.827,92.542000000000002,0.83955999999999997,13.856999999999999,101.64,421.8,14.036,86.174000000000007,415.19,14.095000000000001,102.06,1.9512]
[36.792985000000002,-121.861598333,"2013-05-13T18:31:16",133.77171296296001,6.4472718001136213,280.12024422399998,401.09692422400002,{"$f":"VLOOKUP(C109,pH_Proc!O:R,4)","v":8.1976373477475839},{"$f":"VLOOKUP(C109,[1]Proc_CTD!$A:$H,8)","v":110.20036854978277},null,null,288.12,13.768000000000001,85.311999999999998,283.56,13.847,102.4,1.9574,0.61492999999999998,14.026,92.730999999999995,0.83872000000000002,14.055,101.81,411.77,14.225,86.295000000000002,405.66,14.294,102.04,1.9528000000000001]
[36.796858333000003,-121.847276667,"2013-05-13T19:31:17",133.81339120370103,5.1102155324878815,232.66133045199999,401.37475445200005,{"$f":"VLOOKUP(C110,pH_Proc!O:R,4)","v":8.2794106616266117},{"$f":"VLOOKUP(C110,[1]Proc_CTD!$A:$H,8)","v":121.91054747722303},null,null,239.8,14.016,85.15,235.41,14.085000000000001,102.14,1.9643999999999999,0.63185999999999998,14.263999999999999,92.408000000000001,0.58831,14.304,100.98,411.47,14.484,86.147000000000006,405.69,14.534000000000001,101.97,1.9591000000000001]
[36.797386666999998,-121.854966667,"2013-05-13T20:31:16",133.85504629629577,5.7724232620081377,208.17899932400002,401.206655324,{"$f":"VLOOKUP(C111,pH_Proc!O:R,4)","v":8.3111757736795884},{"$f":"VLOOKUP(C111,[1]Proc_CTD!$A:$H,8)","v":132.51991106396403},null,null,215.36,14.164999999999999,85.164000000000001,210.69,14.224,102.29,1.9706999999999999,0.58642000000000005,14.423999999999999,92.542000000000002,0.57796999999999998,14.444000000000001,101.63,411.73,14.624000000000001,86.174000000000007,405.51,14.683999999999999,101.9,1.9614]
[36.794714999999997,-121.871146667,"2013-05-13T21:31:16",133.89671296296001,7.241943849420398,286.55039751200002,400.680649512,{"$f":"VLOOKUP(C112,pH_Proc!O:R,4)","v":8.2057756824583628},{"$f":"VLOOKUP(C112,[1]Proc_CTD!$A:$H,8)","v":112.68710656823416},null,null,294.68,14.215,84.341999999999999,290.17,14.284000000000001,101.27,1.9702999999999999,0.59094999999999998,14.444000000000001,91.680999999999997,0.95886000000000005,14.474,100.55,411.42,14.644,86.066000000000003,405.36,14.704000000000001,101.82,1.9578]
[36.792005000000003,-121.887985,"2013-05-13T22:31:17",133.93839120370103,8.7701948762010247,294.56124339600001,400.62638339599999,{"$f":"VLOOKUP(C113,pH_Proc!O:R,4)","v":8.1458946228783553},{"$f":"VLOOKUP(C113,[1]Proc_CTD!$A:$H,8)","v":105.4072766536252},null,null,302.62,13.807,84.153999999999996,297.97000000000003,13.867000000000001,101.16,1.9619,0.57721999999999996,14.045,91.451999999999998,0.67362999999999995,14.074999999999999,100.55,411.91,14.244,85.864000000000004,405.02,14.304,101.74,1.9592000000000001]
[36.789619999999999,-121.903013333,"2013-05-13T23:31:16",133.98004629629577,10.133632440037545,364.34093919999998,400.87173519999999,{"$f":"VLOOKUP(C114,pH_Proc!O:R,4)","v":8.125138266087637},{"$f":"VLOOKUP(C114,[1]Proc_CTD!$A:$H,8)","v":102.32096242874154},null,null,376.02,13.698,83.870999999999995,368.84,13.768000000000001,100.49,1.9515,0.67393000000000003,13.946,91.558999999999997,1.1160000000000001,13.976000000000001,100.12,412.02,14.135,85.944999999999993,405.71,14.195,101.66,1.9524999999999999]
[36.787738333,-121.914743333,"2013-05-14T00:31:17",134.02172453703679,11.198295736735261,379.38772340000003,401.47265540000001,{"$f":"VLOOKUP(C115,pH_Proc!O:R,4)","v":8.0889109013352485},{"$f":"VLOOKUP(C115,[1]Proc_CTD!$A:$H,8)","v":96.131245414813478},null,null,389.32,13.451000000000001,84.355999999999995,383.99,13.52,101.08,1.9437,0.97216000000000002,13.708,91.707999999999998,1.0794999999999999,13.728,100.63,412.2,13.897,85.85,406.28,13.956,101.59,1.9462999999999999]
[36.785910000000001,-121.926211667,"2013-05-14T01:31:16",134.06337962963153,12.239025643234221,376.24619383999999,401.41251383999997,{"$f":"VLOOKUP(C116,pH_Proc!O:R,4)","v":8.0913207385198422},{"$f":"VLOOKUP(C116,[1]Proc_CTD!$A:$H,8)","v":96.465002175097268},null,null,387.78,13.343,83.965000000000003,380.75,13.412000000000001,100.69,1.9497,0.89559999999999995,13.59,91.438000000000002,1.0102,13.619,100.58,413.08,13.788,85.647999999999996,406.15,13.847,101.58,1.9483999999999999]
[36.783443333000001,-121.94136,"2013-05-14T02:31:16",134.10504629629577,13.614829294144547,372.36433852000005,401.74155852000001,{"$f":"VLOOKUP(C117,pH_Proc!O:R,4)","v":8.0933289880117396},{"$f":"VLOOKUP(C117,[1]Proc_CTD!$A:$H,8)","v":95.519893171946975},null,null,383.31,13.273999999999999,84.207999999999998,376.86,13.333,100.66,1.9433,1.0275000000000001,13.510999999999999,91.129000000000005,1.0381,13.54,99.718999999999994,412.54,13.718,85.930999999999997,406.51,13.778,101.62,1.9388000000000001]
[36.780458332999999,-121.9605,"2013-05-14T03:31:18",134.14673611111357,15.35054421130774,363.8950792,402.70471519999995,{"$f":"VLOOKUP(C118,pH_Proc!O:R,4)","v":8.1003834359084284},{"$f":"VLOOKUP(C118,[1]Proc_CTD!$A:$H,8)","v":96.539420481026696},null,null,375.23,13.175000000000001,83.912000000000006,368.48,13.234,100.35,1.9398,0.97224999999999995,13.412000000000001,90.953999999999994,1.206,13.441000000000001,99.733000000000004,413.86,13.619,85.796999999999997,407.65,13.679,101.66,1.9402999999999999]
[36.776931666999999,-121.982528333,"2013-05-14T04:31:16",134.18837962963153,17.350175167728768,363.90984212000001,401.72867811999998,{"$f":"VLOOKUP(C119,pH_Proc!O:R,4)","v":8.0980842262044757},{"$f":"VLOOKUP(C119,[1]Proc_CTD!$A:$H,8)","v":95.746927402053785},null,null,373.96,13.077,83.992000000000004,368.48,13.146000000000001,101.29,1.9489000000000001,1.1069,13.333,91.384,1.1911,13.353,100.46,412.86,13.521000000000001,85.837000000000003,406.65,13.58,101.71,1.9403999999999999]
[36.773580000000003,-122.00366333300001,"2013-05-14T05:31:16",134.23004629629577,19.268149252475904,332.94090191999999,401.78168592000003,{"$f":"VLOOKUP(C120,pH_Proc!O:R,4)","v":8.145378304414832},{"$f":"VLOOKUP(C120,[1]Proc_CTD!$A:$H,8)","v":99.044769638296955},null,null,343.59,13.047000000000001,84.194000000000003,337.13,13.116,101.32,1.9509000000000001,0.99177000000000004,13.294,91.613,1.0975999999999999,13.323,100.18,413.42,13.491,85.957999999999998,406.61,13.55,101.71,1.9356]
[36.769753332999997,-122.026478333,"2013-05-14T06:31:17",134.27172453703679,21.343079089939238,343.40246187999998,402.73156588000001,{"$f":"VLOOKUP(C121,pH_Proc!O:R,4)","v":8.130710628381502},{"$f":"VLOOKUP(C121,[1]Proc_CTD!$A:$H,8)","v":98.749806545833422},null,null,354.27,12.93,85.230999999999995,347.8,12.997999999999999,102.22,1.9352,1.0858000000000001,13.175000000000001,92.043999999999997,1.2089000000000001,13.205,101.05,414.23,13.382,85.944999999999993,407.68,13.442,101.7,1.9339]
[36.765933333,-122.05099666700001,"2013-05-14T07:31:16",134.31337962963153,23.566881972457676,389.02364972000004,402.25082972000001,{"$f":"VLOOKUP(C122,pH_Proc!O:R,4)","v":8.089695725377636},{"$f":"VLOOKUP(C122,[1]Proc_CTD!$A:$H,8)","v":95.05718896397336},null,null,401.56,12.782,84.822999999999993,393.97,12.861000000000001,101.73,1.9208000000000001,1.0896999999999999,13.038,92.206000000000003,1.3341000000000001,13.057,101.17,413.89,13.225,85.971999999999994,407.32,13.284000000000001,101.71,1.9283999999999999]
[36.762456667000002,-122.072165,"2013-05-14T08:31:16",134.35504629629577,25.490721074035189,392.05480416,402.39875616,{"$f":"VLOOKUP(C123,pH_Proc!O:R,4)","v":8.0685464140668497},{"$f":"VLOOKUP(C123,[1]Proc_CTD!$A:$H,8)","v":91.884187313819638},null,null,404.7,12.497999999999999,85.082999999999998,396.99,12.557,102.04,1.9260999999999999,1.3375999999999999,12.743,92.367000000000004,1.2948,12.773,100.93,413.87,12.939,86.012,407.43,12.997999999999999,101.7,1.9242999999999999]
[36.759684999999998,-122.089845,"2013-05-14T09:31:16",134.39671296296001,27.09479105831624,387.17560956000005,402.17632156000002,{"$f":"VLOOKUP(C124,pH_Proc!O:R,4)","v":8.084481590528986},{"$f":"VLOOKUP(C124,[1]Proc_CTD!$A:$H,8)","v":94.453752875941319},null,null,399.59,12.391,84.516999999999996,392.22,12.449,101.44,1.9146000000000001,1.0570999999999999,12.645,92.058000000000007,1.4493,12.664999999999999,101.27,413.53,12.840999999999999,85.957999999999998,407.36,12.9,101.67,1.9178999999999999]
[36.756999999999998,-122.106771667,"2013-05-14T10:31:16",134.43837962963153,28.631235963619385,414.30093932,401.83667532000004,{"$f":"VLOOKUP(C125,pH_Proc!O:R,4)","v":8.0561767726414928},{"$f":"VLOOKUP(C125,[1]Proc_CTD!$A:$H,8)","v":92.606504702358478},null,null,428.83,12.391,84.570999999999998,419.58,12.459,101.44,1.9152,1.2295,12.645,91.707999999999998,1.4320999999999999,12.675000000000001,100.94,413.6,12.831,85.876999999999995,407,12.9,101.67,1.9239999999999999]
[36.754429999999999,-122.122866667,"2013-05-14T11:31:16",134.48004629629577,30.09260093866709,483.69637316000001,402.07426916000003,{"$f":"VLOOKUP(C126,pH_Proc!O:R,4)","v":7.9896756963953015},{"$f":"VLOOKUP(C126,[1]Proc_CTD!$A:$H,8)","v":85.876809351560254},null,null,497.44,12.254,84.808999999999997,489.83,12.321999999999999,101.7,1.9267000000000001,1.5416000000000001,12.507999999999999,91.95,1.6423000000000001,12.538,101.05,413.86,12.694000000000001,85.796999999999997,407.45,12.753,101.71,1.9273]
[36.752618333000001,-122.134388333,"2013-05-14T12:31:16",134.52171296296001,31.138153819096129,483.18442679999998,401.90910280000003,{"$f":"VLOOKUP(C127,pH_Proc!O:R,4)","v":7.9885183575751597},{"$f":"VLOOKUP(C127,[1]Proc_CTD!$A:$H,8)","v":82.493413349612567},null,null,498.34,12.03,83.436000000000007,489.21,12.098000000000001,101.67,1.9180999999999999,1.4096,12.282999999999999,91.977000000000004,1.5389999999999999,12.303000000000001,100.94,414.14,12.478999999999999,85.688999999999993,407.18,12.538,101.68,1.9180999999999999]
[36.750868333,-122.144533333,"2013-05-14T13:31:17",134.56339120370103,32.062116547033071,478.58622308000002,402.21535908000004,{"$f":"VLOOKUP(C128,pH_Proc!O:R,4)","v":7.998374682399481},{"$f":"VLOOKUP(C128,[1]Proc_CTD!$A:$H,8)","v":83.304190873211041},null,null,491.9,12.079000000000001,83.668999999999997,484.77,12.147,100.55,1.9016,1.5728,12.323,91.222999999999999,1.7399,12.362,100.15,414.27,12.518000000000001,85.944999999999993,407.69,12.587,101.74,1.9127000000000001]
[36.749645000000001,-122.152503333,"2013-05-14T14:31:18",134.60506944444205,32.784756312376963,477.39399343999997,401.64733344000001,{"$f":"VLOOKUP(C129,pH_Proc!O:R,4)","v":7.9985324161678184},{"$f":"VLOOKUP(C129,[1]Proc_CTD!$A:$H,8)","v":83.304190873211041},null,null,492.29,12.03,83.938000000000002,483.51,12.098000000000001,101.51,1.9178999999999999,1.2586999999999999,12.282999999999999,91.613,1.6832,12.303000000000001,100.34,413.76,12.478999999999999,85.728999999999999,407.06,12.547000000000001,101.7,1.9185000000000001]
[36.748631666999998,-122.158235,"2013-05-14T15:31:16",134.64671296296001,33.307322635419098,472.01563380000005,402.04533780000003,{"$f":"VLOOKUP(C130,pH_Proc!O:R,4)","v":7.9996364932507005},{"$f":"VLOOKUP(C130,[1]Proc_CTD!$A:$H,8)","v":83.645305350078118},null,null,486.02,12.02,83.816999999999993,478.07,12.087999999999999,101.55,1.9173,1.4956,12.263999999999999,91.492000000000004,1.6715,12.292999999999999,100.68,413.47,12.468999999999999,85.77,407.45,12.528,101.75,1.9227000000000001]
[36.747973332999997,-122.16316500000001,"2013-05-14T16:31:16",{"$f":"C131-41274","v":134.68837962963153},{"$f":"ABS(Rhumb(36.806,A131,-121.791,B131))","v":33.752222194028803},{"$f":"0.9908*(O131-V131)","v":471.91427496},{"$f":"0.9908*(AB131-V131)","v":401.99351896000002},{"$f":"VLOOKUP(C131,pH_Proc!O:R,4)","v":8.003785814730275},{"$f":"VLOOKUP(C131,[1]Proc_CTD!$A:$H,8)","v":83.93643298952928},null,null,485.83,12.02,84.45,477.93,12.087999999999999,102.05,1.91,1.6173999999999999,12.273999999999999,92.326999999999998,1.6337999999999999,12.303000000000001,101.23,413.9,12.478999999999999,85.891000000000005,407.36,12.538,101.79,1.92]
[36.746826667000001,-122.16936833299999,"2013-05-14T17:31:16",134.73004629629577,34.318879637199728,477.91525332000003,402.18840932000001,{"$f":"VLOOKUP(C132,pH_Proc!O:R,4)","v":7.998825267662844},{"$f":"VLOOKUP(C132,[1]Proc_CTD!$A:$H,8)","v":84.265477799926117},null,null,492,12.058999999999999,84.311000000000007,483.79,12.118,101.91,1.9154,1.3796999999999999,12.313000000000001,92.165000000000006,1.4371,12.342000000000001,100.85,413.36,12.518000000000001,86.066000000000003,407.36,12.567,101.83,1.9177999999999999]
[36.745815,-122.17642499999999,"2013-05-14T18:31:18",134.77173611111357,34.9571992846708,485.68936735999995,401.73888335999999,{"$f":"VLOOKUP(C133,pH_Proc!O:R,4)","v":7.9911243808368493},{"$f":"VLOOKUP(C133,[1]Proc_CTD!$A:$H,8)","v":83.201741401198532},null,null,499.23,12.118,83.852999999999994,491.7,12.186,101.47,1.9188000000000001,1.5551999999999999,12.371,91.707999999999998,1.5007999999999999,12.401,101.03,413.28,12.577,86.105999999999995,406.97,12.645,101.87,1.9207000000000001]
[36.744648333000001,-122.18352166699999,"2013-05-14T19:31:16",134.81337962963153,35.602358221109007,480.90112819999996,401.49841620000001,{"$f":"VLOOKUP(C134,pH_Proc!O:R,4)","v":7.9941266101573705},{"$f":"VLOOKUP(C134,[1]Proc_CTD!$A:$H,8)","v":83.758022450664342},null,null,496.71,12.196,84.033000000000001,487.13,12.273999999999999,101.16,1.9177999999999999,1.5232000000000001,12.449,91.855999999999995,1.7635000000000001,12.478999999999999,100.76,413.75,12.654999999999999,85.85,406.99,12.714,101.85,1.9267000000000001]
[36.743888333000001,-122.18837499999999,"2013-05-14T20:31:16",134.85504629629577,36.042765695392319,481.52711563999998,401.38130364,{"$f":"VLOOKUP(C135,pH_Proc!O:R,4)","v":7.9939909076492883},{"$f":"VLOOKUP(C135,[1]Proc_CTD!$A:$H,8)","v":83.811804785216324},null,null,496.11,12.254,84.069000000000003,487.52,12.321999999999999,101.32,1.9147000000000001,1.2976000000000001,12.507999999999999,91.855999999999995,1.5217000000000001,12.538,100.84,413.26,12.714,85.957999999999998,406.63,12.773,101.83,1.9248000000000001]
[36.743093332999997,-122.193145,"2013-05-14T21:31:16",134.89671296296001,36.476650545429123,477.53795667999998,401.74175667999998,{"$f":"VLOOKUP(C136,pH_Proc!O:R,4)","v":7.995728550297188},{"$f":"VLOOKUP(C136,[1]Proc_CTD!$A:$H,8)","v":84.825130513184149},null,null,492.47,12.332000000000001,84.06,483.52,12.401,101.31,1.9161999999999999,1.2878000000000001,12.586,91.814999999999998,1.5479000000000001,12.616,100.63,413.32,12.782,86.052000000000007,407.02,12.840999999999999,101.79,1.9235]
[36.741823332999999,-122.200435,"2013-05-14T22:31:16",134.93837962963153,37.140954788562695,459.02347156000002,401.68587556,{"$f":"VLOOKUP(C137,pH_Proc!O:R,4)","v":8.0207680106833283},{"$f":"VLOOKUP(C137,[1]Proc_CTD!$A:$H,8)","v":89.275931300982847},null,null,470.95,12.391,83.587999999999994,464.62,12.449,101.03,1.9161999999999999,1.2545999999999999,12.645,90.980999999999995,1.3343,12.675000000000001,99.881,413.42,12.840999999999999,85.77,406.75,12.9,101.73,1.9245000000000001]
[36.741379999999999,-122.205188333,"2013-05-14T23:31:16",134.98004629629577,37.565815239841257,449.09922244000001,401.69935043999999,{"$f":"VLOOKUP(C138,pH_Proc!O:R,4)","v":8.0222260245685959},{"$f":"VLOOKUP(C138,[1]Proc_CTD!$A:$H,8)","v":87.987494037522396},null,null,463.92,12.42,84.45,454.82,12.489000000000001,101.83,1.9242999999999999,1.3928,12.664999999999999,92.138000000000005,1.5507,12.694000000000001,100.8,413.43,12.871,85.957999999999998,406.98,12.93,101.77,1.9258999999999999]
[36.739401667000003,-122.216403333,"2013-05-15T00:31:16",135.02171296296001,38.588336579432031,443.52072120000003,402.15482120000001,{"$f":"VLOOKUP(C139,pH_Proc!O:R,4)","v":8.026418057858967},{"$f":"VLOOKUP(C139,[1]Proc_CTD!$A:$H,8)","v":89.224245762631739},null,null,459.32,12.567,83.804000000000002,449.08,12.635,100.72,1.9293,1.1212,12.821999999999999,91.195999999999998,1.4410000000000001,12.851000000000001,100.04,413.61,13.018000000000001,85.918000000000006,407.33,13.087,101.78,1.9319]
[36.737301666999997,-122.229495,"2013-05-15T01:31:16",135.06337962963153,39.777483145666075,442.25408247999997,402.44373848000004,{"$f":"VLOOKUP(C140,pH_Proc!O:R,4)","v":8.030398162035663},{"$f":"VLOOKUP(C140,[1]Proc_CTD!$A:$H,8)","v":88.910498392662532},null,null,454.92,12.616,83.602000000000004,447.78,12.683999999999999,100.8,1.9242999999999999,1.1427,12.861000000000001,91.519000000000005,1.4194,12.89,100.06,413.87,13.067,85.930999999999997,407.6,13.125999999999999,101.79,1.9326000000000001]
[36.734931666999998,-122.244075,"2013-05-15T02:31:17",135.10505787037255,41.102532323222576,447.14259060000001,402.73493459999997,{"$f":"VLOOKUP(C141,pH_Proc!O:R,4)","v":8.0175195646910407},{"$f":"VLOOKUP(C141,[1]Proc_CTD!$A:$H,8)","v":87.917588513427432},null,null,458.96,12.606,84.248000000000005,452.45,12.664999999999999,102.18,1.9326000000000001,1.1902999999999999,12.840999999999999,92.058000000000007,1.1555,12.871,100.82,413.73,13.047000000000001,85.957999999999998,407.63,13.106999999999999,101.85,1.9311]
[36.732476667,-122.260105,"2013-05-15T03:31:16",135.14671296296001,42.556144381113064,421.98974548000001,402.86730547999997,{"$f":"VLOOKUP(C142,pH_Proc!O:R,4)","v":8.0444884431228072},{"$f":"VLOOKUP(C142,[1]Proc_CTD!$A:$H,8)","v":90.557308416227897},null,null,432.86,12.625999999999999,83.75,427.2,12.694000000000001,101.5,1.9311,1.1211,12.88,92.165000000000006,1.2919,12.91,100.89,414.28,13.077,86.066000000000003,407.9,13.135999999999999,101.89,1.9298999999999999]
[36.729970000000002,-122.276221667,"2013-05-15T04:31:16",135.18837962963153,44.018491931269409,421.31401988000005,402.69688788000002,{"$f":"VLOOKUP(C143,pH_Proc!O:R,4)","v":8.0450195376559677},{"$f":"VLOOKUP(C143,[1]Proc_CTD!$A:$H,8)","v":90.498414764223526},null,null,432.41,12.654999999999999,84.248000000000005,426.61,12.723000000000001,101.7,1.9256,1.3145,12.9,92.058000000000007,1.3838999999999999,12.93,100.81,413.98,13.106999999999999,86.147000000000006,407.82,13.166,101.91,1.9298999999999999]
[36.726965,-122.293785,"2013-05-15T05:31:16",135.23004629629577,45.618079004494128,407.40041363999995,402.44641364,{"$f":"VLOOKUP(C144,pH_Proc!O:R,4)","v":8.0536420724851538},{"$f":"VLOOKUP(C144,[1]Proc_CTD!$A:$H,8)","v":92.212046542738918},null,null,420.68,12.821999999999999,84.328999999999994,412.59,12.89,101.4,1.9254,1.0454000000000001,13.077,91.841999999999999,1.4067000000000001,13.106,100.57,414.03,13.284000000000001,86.16,407.59,13.343,101.97,1.9278999999999999]
[36.724098333000001,-122.311763333,"2013-05-15T06:31:16",135.27171296296001,47.250986472115024,410.01345047999996,402.84996647999998,{"$f":"VLOOKUP(C145,pH_Proc!O:R,4)","v":8.0560730965432832},{"$f":"VLOOKUP(C145,[1]Proc_CTD!$A:$H,8)","v":91.312734417026377},null,null,422.24,12.92,84.1,415.09,12.997999999999999,100.9,1.9124000000000001,1.0609999999999999,13.175000000000001,91.694000000000003,1.2694000000000001,13.205,100.53,413.83,13.382,86.174000000000007,407.86,13.432,101.97,1.9269000000000001]
[36.72166,-122.327031667,"2013-05-15T07:31:16",135.31337962963153,48.637882940031091,412.76252416,403.18148815999996,{"$f":"VLOOKUP(C146,pH_Proc!O:R,4)","v":8.0565995130465318},{"$f":"VLOOKUP(C146,[1]Proc_CTD!$A:$H,8)","v":92.364513546367405},null,null,424.14,12.949,83.858000000000004,417.88,13.018000000000001,100.76,1.9188000000000001,1.0667,13.195,91.424999999999997,1.2847999999999999,13.225,100.27,414.29,13.401999999999999,86.174000000000007,408.21,13.461,101.95,1.9240999999999999]
[36.719670000000001,-122.339891667,"2013-05-15T08:31:16",135.35504629629577,49.804665738916079,413.77016776000005,403.21814776000002,{"$f":"VLOOKUP(C147,pH_Proc!O:R,4)","v":8.0512042719648953},{"$f":"VLOOKUP(C147,[1]Proc_CTD!$A:$H,8)","v":91.241585487069486},null,null,425.8,12.939,83.992000000000004,418.92,12.997999999999999,100.8,1.9153,1.0309999999999999,13.175000000000001,91.397999999999996,1.3078000000000001,13.205,100.45,413.94,13.382,86.200999999999993,408.27,13.442,101.94,1.9238]
[36.718065000000003,-122.3498,"2013-05-15T09:31:16",135.39671296296001,50.705225729285445,419.96038892000001,403.23568491999998,{"$f":"VLOOKUP(C148,pH_Proc!O:R,4)","v":8.0484493805031843},{"$f":"VLOOKUP(C148,[1]Proc_CTD!$A:$H,8)","v":91.315632783376728},null,null,431.47,12.9,83.683000000000007,425.12,12.968999999999999,100.84,1.913,0.96899999999999997,13.146000000000001,91.451999999999998,1.2601,13.166,100.23,414.25,13.343,86.213999999999999,408.24,13.401999999999999,101.9,1.921]
[36.711671666999997,-122.360963333,"2013-05-15T10:31:17",135.43839120370103,51.82214185743819,425.35608755999999,402.87483556000001,{"$f":"VLOOKUP(C149,pH_Proc!O:R,4)","v":8.0416579337787741},{"$f":"VLOOKUP(C149,[1]Proc_CTD!$A:$H,8)","v":91.30129146975375},null,null,438.4,12.840999999999999,83.494,430.71,12.92,100.57,1.9148000000000001,1.2766,13.097,91.707999999999998,1.4043000000000001,13.125999999999999,100.62,414.52,13.294,86.186999999999998,408.02,13.353,101.91,1.9173]
[36.701883332999998,-122.37234833300001,"2013-05-15T11:31:17",135.48005787037255,53.045381584787627,428.54507644,402.66538043999998,{"$f":"VLOOKUP(C150,pH_Proc!O:R,4)","v":8.0371983818931838},{"$f":"VLOOKUP(C150,[1]Proc_CTD!$A:$H,8)","v":91.416222242850353},null,null,442.07,12.840999999999999,84.221000000000004,433.81,12.91,101.71,1.9060999999999999,1.0720000000000001,13.087,92.031000000000006,1.2857000000000001,13.125999999999999,101.08,414.07,13.294,86.200999999999993,407.69,13.353,101.89,1.9146000000000001]
[36.702398332999998,-122.373601667,"2013-05-15T12:31:16",135.52171296296001,53.14168758836967,428.74501987999997,402.41946387999997,{"$f":"VLOOKUP(C151,pH_Proc!O:R,4)","v":8.036924629112157},{"$f":"VLOOKUP(C151,[1]Proc_CTD!$A:$H,8)","v":91.319449265276702},null,null,442.4,12.88,84.262,433.9,12.949,101.46,1.9021999999999999,1.1352,13.125999999999999,91.64,1.1738999999999999,13.146000000000001,100.57,413.81,13.323,86.295000000000002,407.33,13.372,101.91,1.9092]
[36.713503332999998,-122.359558333,"2013-05-15T13:31:16",135.56337962963153,51.658108043894188,427.90462332000004,402.79775131999997,{"$f":"VLOOKUP(C152,pH_Proc!O:R,4)","v":8.0406994668674034},{"$f":"VLOOKUP(C152,[1]Proc_CTD!$A:$H,8)","v":91.847047381852008},null,null,441.03,12.802,84.046000000000006,433.3,12.871,101.03,1.9074,1.2502,13.047000000000001,91.411000000000001,1.4220999999999999,13.067,100.39,414.33,13.244,86.200999999999993,407.96,13.313000000000001,101.98,1.9148000000000001]
[36.719551666999998,-122.341401667,"2013-05-15T14:31:16",135.60504629629577,49.93916320237058,429.68172219999997,402.61306619999999,{"$f":"VLOOKUP(C153,pH_Proc!O:R,4)","v":8.0398152168724994},{"$f":"VLOOKUP(C153,[1]Proc_CTD!$A:$H,8)","v":90.886543083018211},null,null,442.21,12.792,85.311999999999998,435.02,12.861000000000001,100.85,1.9000999999999999,1.1529,13.038,92.435000000000002,1.3485,13.067,100.72,413.44,13.244,87.224000000000004,407.7,13.313000000000001,101.99,1.9004000000000001]
[36.722766667000002,-122.31998666699999,"2013-05-15T15:31:17",135.64672453703679,47.998346521625884,436.12598448000006,402.56758848000004,{"$f":"VLOOKUP(C154,pH_Proc!O:R,4)","v":8.0328617720805386},{"$f":"VLOOKUP(C154,[1]Proc_CTD!$A:$H,8)","v":90.006309578083787},null,null,449.61,12.811999999999999,84.513000000000005,441.41,12.88,100.68,1.9089,1.1943999999999999,13.067,92.070999999999998,1.2343999999999999,13.087,100.11,413.8,13.263999999999999,87.317999999999998,407.54,13.323,102.04,1.9028]
[36.726260000000003,-122.297296667,"2013-05-15T16:31:16",135.68837962963153,45.940178732262652,429.77307396000003,402.61524595999998,{"$f":"VLOOKUP(C155,pH_Proc!O:R,4)","v":8.0415305571303559},{"$f":"VLOOKUP(C155,[1]Proc_CTD!$A:$H,8)","v":90.369929071058635},null,null,441.83,12.88,83.44,434.92,12.949,100.35,1.9313,1.0971,13.135999999999999,91.168999999999997,1.1563000000000001,13.156000000000001,100.19,413.43,13.333,85.957999999999998,407.51,13.391999999999999,102.06,1.9404999999999999]
[36.729928332999997,-122.27455999999999,"2013-05-15T17:31:16",135.73004629629577,43.874222432968274,413.46401056000002,402.11935056000004,{"$f":"VLOOKUP(C156,pH_Proc!O:R,4)","v":8.0546842198947939},{"$f":"VLOOKUP(C156,[1]Proc_CTD!$A:$H,8)","v":90.901633448292856},null,null,427.05,12.93,83.584000000000003,418.61,12.997999999999999,100.69,1.9295,1.278,13.175000000000001,91.384,1.3068,13.205,100.57,413.75,13.382,86.039000000000001,407.16,13.442,102.08,1.9389000000000001]
[36.733206666999997,-122.253326667,"2013-05-15T18:31:16",135.77171296296001,41.948152951893697,410.95936724000001,402.66637123999999,{"$f":"VLOOKUP(C157,pH_Proc!O:R,4)","v":8.0556604030747874},{"$f":"VLOOKUP(C157,[1]Proc_CTD!$A:$H,8)","v":92.887180366644998},null,null,423.38,13.028,83.736000000000004,415.93,13.097,101,1.9426000000000001,0.93145,13.273999999999999,91.29,1.1547000000000001,13.303000000000001,100.34,414.05,13.481,86.132999999999996,407.56,13.54,102.1,1.9393]
[36.736255,-122.234433333,"2013-05-15T19:31:16",135.81337962963153,40.231562005645017,416.48556414799998,402.743168148,{"$f":"VLOOKUP(C158,pH_Proc!O:R,4)","v":8.0506795898556778},{"$f":"VLOOKUP(C158,[1]Proc_CTD!$A:$H,8)","v":92.430617560905972},null,null,427.7,13.077,83.722999999999999,421.32,13.146000000000001,100.96,1.9378,1.0517000000000001,13.323,91.896000000000001,0.96718999999999999,13.353,100.88,413.94,13.521000000000001,86.12,407.45,13.59,102.08,1.9429000000000001]
[36.738579999999999,-122.219261667,"2013-05-15T20:31:16",135.85504629629577,38.855822677508272,423.47297308000003,402.74543708000004,{"$f":"VLOOKUP(C159,pH_Proc!O:R,4)","v":8.0426342806670856},{"$f":"VLOOKUP(C159,[1]Proc_CTD!$A:$H,8)","v":89.518159725890996},null,null,435.39,13.057,84.019000000000005,428.65,13.125999999999999,101,1.9423999999999999,1.0871999999999999,13.313000000000001,91.626999999999995,1.2448999999999999,13.333,101,414,13.510999999999999,86.093000000000004,407.73,13.57,102.06,1.9435]
[36.74033,-122.208373333,"2013-05-15T21:31:16",135.89671296296001,37.866747779579022,420.23999268000006,401.88046868000004,{"$f":"VLOOKUP(C160,pH_Proc!O:R,4)","v":8.0460900984448873},{"$f":"VLOOKUP(C160,[1]Proc_CTD!$A:$H,8)","v":92.458944781486053},null,null,432.4,12.997999999999999,83.978999999999999,425.25,13.077,101.29,1.9372,0.82960999999999996,13.254,91.694000000000003,1.1079000000000001,13.284000000000001,100.8,413.18,13.451000000000001,86.980999999999995,406.72,13.510999999999999,102.06,1.9258999999999999]
[36.741661667000002,-122.19996,"2013-05-15T22:31:16",135.93837962963153,37.102957448852834,419.92660264,401.60671064000002,{"$f":"VLOOKUP(C161,pH_Proc!O:R,4)","v":8.0474426608101126},{"$f":"VLOOKUP(C161,[1]Proc_CTD!$A:$H,8)","v":91.962896069382126},null,null,434.27,12.959,84.14,425.16,13.028,101.31,1.9337,0.94266000000000005,13.215,91.977000000000004,1.3342000000000001,13.244,101.07,413.05,13.412000000000001,86.147000000000006,406.67,13.471,102.02,1.9374]
[36.743061666999999,-122.190753333,"2013-05-15T23:31:18",135.98006944444205,36.268400831788171,419.44755084000002,401.74195484000001,{"$f":"VLOOKUP(C162,pH_Proc!O:R,4)","v":8.0471503610020605},{"$f":"VLOOKUP(C162,[1]Proc_CTD!$A:$H,8)","v":92.916410994322462},null,null,433.27,12.959,83.843999999999994,424.49,13.018000000000001,101.66,1.9433,1.0497000000000001,13.215,91.694000000000003,1.1476999999999999,13.244,100.72,412.7,13.412000000000001,86.281000000000006,406.62,13.471,101.99,1.9403999999999999]
[36.744813333000003,-122.179736667,"2013-05-16T00:31:16",136.02171296296001,35.268136216646056,422.103093,401.88086500000003,{"$f":"VLOOKUP(C163,pH_Proc!O:R,4)","v":8.043856972340393},{"$f":"VLOOKUP(C163,[1]Proc_CTD!$A:$H,8)","v":93.135424246772573},null,null,433.91,12.959,83.978999999999999,427.14,13.018000000000001,101.89,1.9415,0.99343000000000004,13.205,92.218999999999994,1.1174999999999999,13.244,101.44,412.96,13.401999999999999,86.025000000000006,406.73,13.471,101.97,1.9412]
[36.747064999999999,-122.165586667,"2013-05-16T01:31:17",136.06339120370103,33.983372179174353,422.13638388000004,401.67636388,{"$f":"VLOOKUP(C164,pH_Proc!O:R,4)","v":8.042192846091023},{"$f":"VLOOKUP(C164,[1]Proc_CTD!$A:$H,8)","v":91.642786597140741},null,null,435.3,12.92,83.722999999999999,427.3,12.988,101.29,1.9379,1.1402000000000001,13.175000000000001,91.546000000000006,1.2439,13.205,100.73,412.86,13.372,85.81,406.65,13.432,101.93,1.9461999999999999]
[36.749361667000002,-122.15083166700001,"2013-05-16T02:31:16",136.10504629629577,32.644825312590001,427.28012207999996,401.62831008000001,{"$f":"VLOOKUP(C165,pH_Proc!O:R,4)","v":8.0395702222487486},{"$f":"VLOOKUP(C165,[1]Proc_CTD!$A:$H,8)","v":93.149653279523307},null,null,439.55,12.851000000000001,83.561000000000007,432.44,12.92,101.09,1.9372,1.0268999999999999,13.097,91.397999999999996,1.1923999999999999,13.125999999999999,100.39,412.54,13.294,85.891000000000005,406.55,13.353,101.91,1.9430000000000001]
[36.751730000000002,-122.13533333300001,"2013-05-16T03:31:16",136.14671296296001,31.239840495077484,436.06257328000004,401.78089328000004,{"$f":"VLOOKUP(C166,pH_Proc!O:R,4)","v":8.0310569139957177},{"$f":"VLOOKUP(C166,[1]Proc_CTD!$A:$H,8)","v":92.153425932326982},null,null,448.54,12.733000000000001,83.650999999999996,441.32,12.802,101.38,1.9341999999999999,1.3179000000000001,12.978999999999999,91.613,1.2083999999999999,13.007999999999999,101.11,412.96,13.175000000000001,86.132999999999996,406.72,13.234,101.93,1.9381999999999999]
[36.754384999999999,-122.118433333,"2013-05-16T04:31:17",136.18839120370103,29.70626767675909,450.32513927999997,401.81557128000003,{"$f":"VLOOKUP(C167,pH_Proc!O:R,4)","v":8.020934014216774},{"$f":"VLOOKUP(C167,[1]Proc_CTD!$A:$H,8)","v":91.560775449269968},null,null,461.55,12.616,83.453999999999994,455.82,12.683999999999999,100.81,1.9285000000000001,1.2302,12.861000000000001,91.572999999999993,1.3133999999999999,12.89,101.04,413.21,13.067,86.213999999999999,406.86,13.116,101.95,1.9332]
[36.756920000000001,-122.10225333299999,"2013-05-16T05:31:17",136.23005787037255,28.238227631486666,432.91618879999999,401.75552879999998,{"$f":"VLOOKUP(C168,pH_Proc!O:R,4)","v":8.0250066068029859},{"$f":"VLOOKUP(C168,[1]Proc_CTD!$A:$H,8)","v":91.042367128131616},null,null,445.55,12.489000000000001,83.494,438.38,12.557,100.98,1.9279999999999999,1.2748999999999999,12.743,91.384,1.444,12.773,100.66,413.23,12.939,85.864000000000004,406.93,12.997999999999999,101.95,1.9375]
[36.759521667000001,-122.08599833300001,"2013-05-16T06:31:16",136.27171296296001,26.762240719146291,426.6008296,401.92990959999997,{"$f":"VLOOKUP(C169,pH_Proc!O:R,4)","v":8.0426377727657758},{"$f":"VLOOKUP(C169,[1]Proc_CTD!$A:$H,8)","v":93.436855211732066},null,null,439.16,12.41,83.412999999999997,432.1,12.489000000000001,100.72,1.9251,1.2587999999999999,12.664999999999999,91.087999999999994,1.538,12.694000000000001,100.39,413.57,12.871,85.837000000000003,407.2,12.92,101.93,1.9363999999999999]
[36.762421666999998,-122.06769166700001,"2013-05-16T07:31:16",136.31337962963153,25.100666318790932,416.65299943999997,402.56382344000002,{"$f":"VLOOKUP(C170,pH_Proc!O:R,4)","v":8.052241188488269},{"$f":"VLOOKUP(C170,[1]Proc_CTD!$A:$H,8)","v":90.638606756770187},null,null,428.75,12.391,83.385999999999996,422.02,12.459,100.76,1.9247000000000001,1.2646999999999999,12.645,91.277000000000001,1.4982,12.675000000000001,100.33,414.44,12.851000000000001,85.783000000000001,407.8,12.91,101.9,1.9379]
[36.765251667000001,-122.049036667,"2013-05-16T08:31:17",136.35505787037255,23.410246771526236,451.78310148000003,403.02583348000002,{"$f":"VLOOKUP(C171,pH_Proc!O:R,4)","v":8.0248913833632134},{"$f":"VLOOKUP(C171,[1]Proc_CTD!$A:$H,8)","v":89.309556406017492},null,null,465.48,12.478999999999999,83.516999999999996,457.35,12.547000000000001,100.55,1.9278,1.2201,12.733000000000001,90.94,1.3718999999999999,12.753,100.06,414.09,12.93,85.756,408.14,12.989000000000001,101.87,1.9380999999999999]
[36.768265,-122.029921667,"2013-05-16T09:31:16",136.39671296296001,21.675750854412069,434.22444111999999,402.98451712000002,{"$f":"VLOOKUP(C172,pH_Proc!O:R,4)","v":8.0387983864144754},{"$f":"VLOOKUP(C172,[1]Proc_CTD!$A:$H,8)","v":88.329984222394813},null,null,446.96,12.44,83.534999999999997,439.51,12.507999999999999,101.17,1.9303999999999999,1.2283999999999999,12.683999999999999,91.277000000000001,1.2536,12.714,100.51,414.81,12.89,85.742999999999995,407.98,12.939,101.83,1.9383999999999999]
[36.771093333000003,-122.01163,"2013-05-16T10:31:16",136.43837962963153,20.017222036687439,400.21810443999999,402.99234444000001,{"$f":"VLOOKUP(C173,pH_Proc!O:R,4)","v":8.0602902571673773},{"$f":"VLOOKUP(C173,[1]Proc_CTD!$A:$H,8)","v":89.863910656594328},null,null,412.12,12.449,83.292000000000002,405.49,12.518000000000001,100.55,1.9267000000000001,1.4583999999999999,12.704000000000001,90.953999999999994,1.5557000000000001,12.733000000000001,100.14,414.83,12.91,85.756,408.29,12.968999999999999,101.83,1.9382999999999999]
[36.774241666999998,-121.992196667,"2013-05-16T11:31:17",136.48005787037255,18.252134593055487,403.83046216000002,403.63230215999999,{"$f":"VLOOKUP(C174,pH_Proc!O:R,4)","v":8.0724174516885103},{"$f":"VLOOKUP(C174,[1]Proc_CTD!$A:$H,8)","v":92.123107933180336},null,null,417.58,12.683999999999999,83.369,409.08,12.743,100.46,1.9217,1.0286,12.93,90.994,1.4998,12.949,100.15,414.89,13.125999999999999,85.728999999999999,408.88,13.185,101.83,1.9359]
[36.777336667,-121.971996667,"2013-05-16T12:31:18",136.52173611111357,16.421329342937156,409.56055579999997,404.02198380000004,{"$f":"VLOOKUP(C175,pH_Proc!O:R,4)","v":8.0465317461881209},{"$f":"VLOOKUP(C175,[1]Proc_CTD!$A:$H,8)","v":87.607789470221647},null,null,421.66,12.528,83.453999999999994,414.76,12.596,100.47,1.9253,1.2658,12.773,90.912999999999997,1.3965000000000001,12.802,100.1,416.01,12.968999999999999,85.728999999999999,409.17,13.028,101.79,1.9349000000000001]
[36.780556666999999,-121.95170166699999,"2013-05-16T13:31:18",136.56340277777781,14.579595474664325,386.01161772000006,414.57638172000003,{"$f":"VLOOKUP(C176,pH_Proc!O:R,4)","v":8.0856885195756156},{"$f":"VLOOKUP(C176,[1]Proc_CTD!$A:$H,8)","v":89.18487863663519},null,null,398.33,12.507999999999999,83.602000000000004,391.06,12.577,100.55,1.9186000000000001,1.2179,12.763,91.236000000000004,1.4641,12.792,100.31,425.98,12.959,85.930999999999997,419.89,13.018000000000001,101.83,1.9278999999999999]
[36.783805000000001,-121.931161667,"2013-05-16T14:31:16",136.60504629629577,12.71593236472588,392.16151332000004,406.40921732000004,{"$f":"VLOOKUP(C177,pH_Proc!O:R,4)","v":8.0860646961555211},{"$f":"VLOOKUP(C177,[1]Proc_CTD!$A:$H,8)","v":89.593179127610014},null,null,404.51,12.528,83.978999999999999,397.12,12.596,101.6,1.9259999999999999,1.1263000000000001,12.773,91.6,1.3170999999999999,12.811999999999999,100.97,417.68,12.978999999999999,85.930999999999997,411.5,13.038,101.89,1.9336]
[36.786594999999998,-121.912965,"2013-05-16T15:31:16",136.64671296296001,11.06685545845153,424.15850760000001,408.7317516,{"$f":"VLOOKUP(C178,pH_Proc!O:R,4)","v":8.0463793979585141},{"$f":"VLOOKUP(C178,[1]Proc_CTD!$A:$H,8)","v":90.273074050960986},null,null,436.89,12.468999999999999,83.951999999999998,429.45,12.537000000000001,101.71,1.9280999999999999,1.1296999999999999,12.724,91.841999999999999,1.353,12.753,100.63,420.35,12.92,85.837000000000003,413.88,12.978999999999999,101.91,1.9355]
[36.789755,-121.892895,"2013-05-16T16:31:17",136.68839120370103,9.2462815859072567,473.19240695999997,406.88807095999999,{"$f":"VLOOKUP(C179,pH_Proc!O:R,4)","v":7.9964988025517778},{"$f":"VLOOKUP(C179,[1]Proc_CTD!$A:$H,8)","v":87.041053090279831},null,null,486.71,12.547000000000001,84.194000000000003,478.9,12.606,101.75,1.9263999999999999,1.1877,12.802,92.26,1.3138000000000001,12.831,101.25,418.71,12.997999999999999,85.891000000000005,411.98,13.057,101.94,1.9357]
[36.793044999999999,-121.871558333,"2013-05-16T17:31:16",136.73004629629577,7.3124087102176878,468.93077799999998,406.89679000000001,{"$f":"VLOOKUP(C180,pH_Proc!O:R,4)","v":7.9962278547184233},{"$f":"VLOOKUP(C180,[1]Proc_CTD!$A:$H,8)","v":88.459992407278989},null,null,483.09,12.821999999999999,84.463999999999999,474.52,12.9,102.29,1.9393,1.1228,13.097,92.353999999999999,1.2350000000000001,13.125999999999999,101.59,417.93,13.303000000000001,85.944999999999993,411.91,13.372,101.9,1.9420999999999999]
[36.796268333,-121.851431667,"2013-05-16T18:31:17",136.77172453703679,5.4856605186825487,348.65283988400006,407.11994788400006,{"$f":"VLOOKUP(C181,pH_Proc!O:R,4)","v":8.1168611307730547},{"$f":"VLOOKUP(C181,[1]Proc_CTD!$A:$H,8)","v":105.25036568819863},null,null,359.75,13.254,84.153999999999996,352.86,13.323,101.97,1.9542999999999999,0.74436000000000002,13.52,92.084999999999994,0.96977000000000002,13.55,101.28,418.28,13.738,85.85,411.87,13.807,101.9,1.9574]
[36.798423333000002,-121.847835,"2013-05-16T19:31:16",136.81337962963153,5.1274179188471223,319.18239551200003,403.37067151200006,{"$f":"VLOOKUP(C182,pH_Proc!O:R,4)","v":8.16827746630773},{"$f":"VLOOKUP(C182,[1]Proc_CTD!$A:$H,8)","v":113.01748569011346},null,null,329.12,13.768000000000001,84.423000000000002,323.01,13.827,102.29,1.9581,0.58511999999999997,14.026,92.3,0.86385999999999996,14.045,101.48,414.33,14.225,85.944999999999993,407.98,14.284000000000001,101.89,1.9602999999999999]
[36.797786666999997,-121.85196000000001,"2013-05-16T20:31:16",136.85504629629577,5.5011739696385513,395.08013269600002,403.24432469600004,{"$f":"VLOOKUP(C183,pH_Proc!O:R,4)","v":8.1104319974130767},{"$f":"VLOOKUP(C183,[1]Proc_CTD!$A:$H,8)","v":106.14818099465802},null,null,405.93,13.847,84.826999999999998,399.67,13.916,102.82,1.9618,0.63566999999999996,14.105,92.716999999999999,0.92137999999999998,14.135,101.62,414.26,14.304,85.984999999999999,407.91,14.364000000000001,101.85,1.9603999999999999]
[36.796538333000001,-121.85975999999999,"2013-05-16T21:31:16",136.89671296296001,6.2087955339806236,456.06504183999994,402.45285383999999,{"$f":"VLOOKUP(C184,pH_Proc!O:R,4)","v":8.0049351852368211},{"$f":"VLOOKUP(C184,[1]Proc_CTD!$A:$H,8)","v":88.19718577126028},null,null,469.76,13.57,84.652000000000001,461.34,13.629,102.92,1.9601999999999999,0.80530000000000002,13.807,92.582999999999998,1.0402,13.837,101.63,413.52,13.996,86.025000000000006,407.23,14.055999999999999,101.82,1.9551000000000001]
[36.794641667,-121.87162499999999,"2013-05-16T22:31:16",136.93837962963153,7.2852840298266255,472.50915127999997,402.14253528,{"$f":"VLOOKUP(C185,pH_Proc!O:R,4)","v":7.9945465508465325},{"$f":"VLOOKUP(C185,[1]Proc_CTD!$A:$H,8)","v":86.189661918148531},null,null,486,13.175000000000001,83.79,478.15,13.234,101.89,1.9437,1.0483,13.412000000000001,91.896000000000001,1.2534000000000001,13.441000000000001,101.33,413.49,13.609,85.715999999999994,407.13,13.669,101.77,1.9497]
[36.791788333,-121.89020499999999,"2013-05-16T23:31:16",136.98004629629577,8.9689196618450975,462.63067712000003,402.33058912000001,{"$f":"VLOOKUP(C186,pH_Proc!O:R,4)","v":8.0049660000269274},{"$f":"VLOOKUP(C186,[1]Proc_CTD!$A:$H,8)","v":87.958659134316676},null,null,476.68,12.89,83.759,468.26,12.949,101.52,1.9327000000000001,0.96199000000000001,13.135999999999999,91.855999999999995,1.3335999999999999,13.166,101.08,413.88,13.323,85.944999999999993,407.4,13.391999999999999,101.74,1.9387000000000001]
[36.788305000000001,-121.911066667,"2013-05-17T00:31:16",137.02171296296001,10.865047612989112,336.19577900000002,402.13351900000004,{"$f":"VLOOKUP(C187,pH_Proc!O:R,4)","v":8.104314273228109},{"$f":"VLOOKUP(C187,[1]Proc_CTD!$A:$H,8)","v":100.71077535214721},null,null,347.26,12.763,83.427000000000007,340.68,12.821999999999999,101.17,1.9320999999999999,1.0833999999999999,13.007999999999999,91.6,1.3625,13.028,100.63,413.79,13.205,85.756,407.23,13.273999999999999,101.73,1.9377]
[36.785243332999997,-121.93007,"2013-05-17T01:31:16",137.06337962963153,12.590224867338957,318.16648864000001,402.44393664000006,{"$f":"VLOOKUP(C188,pH_Proc!O:R,4)","v":8.1670390627609741},{"$f":"VLOOKUP(C188,[1]Proc_CTD!$A:$H,8)","v":104.0257476696616},null,null,327.58,12.821999999999999,83.516999999999996,322.24,12.88,101.03,1.9277,1.0501,13.057,91.424999999999997,1.1192,13.087,100.59,413.51,13.263999999999999,85.662000000000006,407.3,13.323,101.64,1.9382999999999999]
[36.782871667000002,-121.944656667,"2013-05-17T02:31:16",137.10504629629577,13.914968826045342,384.75984100000005,401.950221,{"$f":"VLOOKUP(C189,pH_Proc!O:R,4)","v":8.0936029503755567},{"$f":"VLOOKUP(C189,[1]Proc_CTD!$A:$H,8)","v":95.213966789407351},null,null,395.81,12.645,83.561000000000007,389.8,12.714,101.29,1.9319,1.0032000000000001,12.89,91.397999999999996,1.4675,12.91,100.5,413.17,13.087,85.715999999999994,407.15,13.146000000000001,101.68,1.9354]
[36.780459999999998,-121.95993166700001,"2013-05-17T03:31:16",137.14671296296001,15.300804066102383,408.5781776,401.91009359999998,{"$f":"VLOOKUP(C190,pH_Proc!O:R,4)","v":8.0530461742339075},{"$f":"VLOOKUP(C190,[1]Proc_CTD!$A:$H,8)","v":88.202549092427589},null,null,421.74,12.528,84.221000000000004,413.82,12.586,102.18,1.9278999999999999,1.1456,12.773,92.058000000000007,1.448,12.792,100.65,413.61,12.968999999999999,85.85,407.09,13.038,101.67,1.9279999999999999]
[36.778056667000001,-121.975316667,"2013-05-17T04:31:16",137.18837962963153,16.696135092720464,403.19317960000001,402.45007960000004,{"$f":"VLOOKUP(C191,pH_Proc!O:R,4)","v":8.0679694949304466},{"$f":"VLOOKUP(C191,[1]Proc_CTD!$A:$H,8)","v":90.772869856984258},null,null,415.29,12.507999999999999,83.777000000000001,408.11,12.577,101.51,1.9303999999999999,1.3736999999999999,12.753,91.572999999999993,1.173,12.782,100.47,413.7,12.959,85.837000000000003,407.36,13.018000000000001,101.77,1.9320999999999999]
[36.775776667000002,-121.98961666700001,"2013-05-17T05:31:17",137.23005787037255,17.994067011643189,415.01629692000006,402.29442491999998,{"$f":"VLOOKUP(C192,pH_Proc!O:R,4)","v":8.0502169316283236},{"$f":"VLOOKUP(C192,[1]Proc_CTD!$A:$H,8)","v":88.742199070809704},null,null,428.37,12.537000000000001,84.033000000000001,420.24,12.606,101.85,1.9302999999999999,1.2072000000000001,12.782,92.138000000000005,1.3701000000000001,12.811999999999999,101.38,413.65,12.989000000000001,85.903999999999996,407.4,13.047000000000001,101.78,1.9314]
[36.773811666999997,-122.001443333,"2013-05-17T06:31:16",137.27171296296001,19.069205279083413,415.38844139999998,402.34951339999998,{"$f":"VLOOKUP(C193,pH_Proc!O:R,4)","v":8.0509232556170591},{"$f":"VLOOKUP(C193,[1]Proc_CTD!$A:$H,8)","v":88.535275661984443},null,null,428.12,12.547000000000001,83.831000000000003,420.54,12.616,101.83,1.9323999999999999,1.2022999999999999,12.802,91.760999999999996,1.2945,12.831,100.46,413.58,12.997999999999999,85.81,407.38,13.057,101.79,1.9347000000000001]
[36.772136666999998,-122.011966667,"2013-05-17T07:31:16",137.31337962963153,20.024348721979194,446.81830176000005,402.96549376000002,{"$f":"VLOOKUP(C194,pH_Proc!O:R,4)","v":8.0194375067063515},{"$f":"VLOOKUP(C194,[1]Proc_CTD!$A:$H,8)","v":85.430102861621918},null,null,460.05,12.449,84.355999999999995,452.41,12.518000000000001,102.48,1.9294,1.3694999999999999,12.694000000000001,92.016999999999996,1.4428000000000001,12.724,101.05,414.45,12.89,85.728999999999999,408.15,12.949,101.78,1.9352]
[36.770141666999997,-122.02464500000001,"2013-05-17T08:31:16",{"$f":"C195-41274","v":137.35504629629577},{"$f":"ABS(Rhumb(36.806,A195,-121.791,B195))","v":21.174633888973343},{"$f":"0.9908*(O195-V195)","v":465.32337428},{"$f":"0.9908*(AB195-V195)","v":402.21932227999997},{"$f":"VLOOKUP(C195,pH_Proc!O:R,4)","v":8.0047419073804615},{"$f":"VLOOKUP(C195,[1]Proc_CTD!$A:$H,8)","v":85.359265500976093},null,null,478.83,12.371,84.679000000000002,471.06,12.44,102.59,1.9238999999999999,1.2374000000000001,12.616,92.555999999999997,1.4158999999999999,12.635,101.71,413.77,12.811999999999999,85.81,407.37,12.871,101.77,1.9321999999999999]
[36.767924999999998,-122.038005,"2013-05-17T09:31:16",137.39671296296001,22.38921643317089,469.90631968000002,403.46327168000005,{"$f":"VLOOKUP(C196,pH_Proc!O:R,4)","v":7.9925515263607299},{"$f":"VLOOKUP(C196,[1]Proc_CTD!$A:$H,8)","v":83.463156169334098},null,null,484.23,12.321999999999999,84.396000000000001,475.79,12.391,102.48,1.9237,1.1633,12.567,92.394000000000005,1.5204,12.596,101.54,414.92,12.773,85.662000000000006,408.73,12.821999999999999,101.74,1.9320999999999999]
[36.765773332999999,-122.05195500000001,"2013-05-17T10:31:16",137.43837962963153,23.654030912542378,460.60399572,403.59336372000001,{"$f":"VLOOKUP(C197,pH_Proc!O:R,4)","v":8.007447238578143},{"$f":"VLOOKUP(C197,[1]Proc_CTD!$A:$H,8)","v":87.04456417055593},null,null,474.96,12.313000000000001,84.302000000000007,466.33,12.381,102.51,1.9180999999999999,1.3878999999999999,12.557,92.084999999999994,1.4491000000000001,12.577,101.51,415.23,12.753,85.647999999999996,408.79,12.811999999999999,101.73,1.9279999999999999]
[36.763616667000001,-122.065708333,"2013-05-17T11:31:16",137.48004629629577,24.901796335309591,444.62179723999998,403.63240123999998,{"$f":"VLOOKUP(C198,pH_Proc!O:R,4)","v":8.021472278676308},{"$f":"VLOOKUP(C198,[1]Proc_CTD!$A:$H,8)","v":89.958163734878582},null,null,458.77,12.244,84.477000000000004,450.24,12.313000000000001,102.74,1.9189000000000001,1.3152999999999999,12.497999999999999,92.367000000000004,1.4897,12.518000000000001,101.46,415.02,12.694000000000001,85.635000000000005,408.87,12.763,101.75,1.9291]
[36.762076667000002,-122.07467,"2013-05-17T12:31:16",137.52171296296001,25.71772075537919,447.17013484,402.68321484000001,{"$f":"VLOOKUP(C199,pH_Proc!O:R,4)","v":8.0201186491061787},{"$f":"VLOOKUP(C199,[1]Proc_CTD!$A:$H,8)","v":89.658572801795145},null,null,461.02,12.292999999999999,84.45,452.78,12.352,102.56,1.9198999999999999,1.3808,12.538,92.26,1.4577,12.557,101.35,414.04,12.733000000000001,85.622,407.88,12.802,101.73,1.9303999999999999]
[36.760721666999999,-122.08336666700001,"2013-05-17T13:31:16",137.56337962963153,26.506570124173539,431.72078859999999,403.49289659999999,{"$f":"VLOOKUP(C200,pH_Proc!O:R,4)","v":8.0335077673678867},{"$f":"VLOOKUP(C200,[1]Proc_CTD!$A:$H,8)","v":90.50084964111781},null,null,444.27,12.381,84.504000000000005,437.26,12.449,102.64,1.9293,1.2022999999999999,12.635,92.272999999999996,1.5305,12.654999999999999,101.52,414.68,12.831,85.674999999999997,408.77,12.9,101.78,1.9350000000000001]
[36.759650000000001,-122.08974499999999,"2013-05-17T14:31:18",137.60506944444205,27.086798360681392,442.79466296000004,404.66867896000002,{"$f":"VLOOKUP(C201,pH_Proc!O:R,4)","v":8.0271174777313004},{"$f":"VLOOKUP(C201,[1]Proc_CTD!$A:$H,8)","v":89.382808407780303},null,null,456.58,12.518000000000001,84.41,448.41,12.586,102.51,1.9325000000000001,1.1312,12.773,92.394000000000005,1.5038,12.792,101.47,416.64,12.968999999999999,85.756,409.93,13.038,101.83,1.9378]
[36.759453333000003,-122.09231666700001,"2013-05-17T15:31:16",137.64671296296001,27.315729911584569,429.14936536000005,402.67518935999999,{"$f":"VLOOKUP(C202,pH_Proc!O:R,4)","v":8.0388311361480529},{"$f":"VLOOKUP(C202,[1]Proc_CTD!$A:$H,8)","v":93.279979696198893},null,null,442.09,12.683999999999999,84.813999999999993,434.17,12.753,102.91,1.9355,1.0530999999999999,12.939,92.703999999999994,1.0358000000000001,12.968999999999999,101.83,413.4,13.146000000000001,85.903999999999996,407.45,13.195,101.86,1.9354]
[36.757648332999999,-122.09102166700001,"2013-05-17T16:31:16",137.68837962963153,27.241764641764416,421.96180492000002,401.99718492,{"$f":"VLOOKUP(C203,pH_Proc!O:R,4)","v":8.0421633908591019},{"$f":"VLOOKUP(C203,[1]Proc_CTD!$A:$H,8)","v":91.201121352706664},null,null,434.65,12.821999999999999,84.584999999999994,427.24,12.89,102.75,1.9381999999999999,1.1494,13.077,92.394000000000005,1.3601000000000001,13.106,101.21,413.19,13.284000000000001,85.742999999999995,407.09,13.343,101.86,1.9422999999999999]
[36.753129999999999,-122.09453000000001,"2013-05-17T17:31:18",137.73006944444205,27.651203771678972,409.06099444,401.62999444000002,{"$f":"VLOOKUP(C204,pH_Proc!O:R,4)","v":8.0534007072079241},{"$f":"VLOOKUP(C204,[1]Proc_CTD!$A:$H,8)","v":91.96944623499175},null,null,420.78,12.978999999999999,84.531000000000006,414.06,13.047000000000001,102.72,1.9455,0.98353999999999997,13.234,92.489000000000004,1.2007000000000001,13.263999999999999,101.7,412.85,13.442,85.742999999999995,406.56,13.500999999999999,101.89,1.9477]
[36.755088333000003,-122.089125,"2013-05-17T18:31:16",137.77171296296001,27.134668716215181,409.64933148,401.23743947999998,{"$f":"VLOOKUP(C205,pH_Proc!O:R,4)","v":8.052912003744213},{"$f":"VLOOKUP(C205,[1]Proc_CTD!$A:$H,8)","v":92.95739794685305},null,null,422.94,13.116,84.167000000000002,414.75,13.195,102.3,1.9471000000000001,0.87995999999999996,13.372,92.206000000000003,1.2968999999999999,13.401999999999999,101.32,413.38,13.58,85.77,406.26,13.638999999999999,101.9,1.9507000000000001]
[36.75929,-122.07035,"2013-05-17T19:31:17",137.81339120370103,25.402281916630166,420.46004936000003,401.63484936000003,{"$f":"VLOOKUP(C206,pH_Proc!O:R,4)","v":8.0424816089885596},{"$f":"VLOOKUP(C206,[1]Proc_CTD!$A:$H,8)","v":90.763806796100681},null,null,433.44,13.175000000000001,83.965000000000003,425.55,13.234,101.71,1.9433,1.0263,13.412000000000001,91.977000000000004,1.1858,13.441000000000001,101.13,412.77,13.619,85.823999999999998,406.55,13.679,101.91,1.9507000000000001]
[36.763146667000001,-122.05294499999999,"2013-05-17T20:31:16",137.85504629629577,23.79771547501948,422.86858508000006,401.72491308000002,{"$f":"VLOOKUP(C207,pH_Proc!O:R,4)","v":8.0395513853204168},{"$f":"VLOOKUP(C207,[1]Proc_CTD!$A:$H,8)","v":89.588450119027712},null,null,435.59,13.067,83.843999999999994,427.97,13.135999999999999,101.75,1.9435,0.96214,13.313000000000001,91.694000000000003,1.1749000000000001,13.343,101.04,413.04,13.521000000000001,85.756,406.63,13.57,101.86,1.9519]
[36.767618333000001,-122.033426667,"2013-05-17T21:31:16",137.89671296296001,21.99583127727723,424.48893940000005,401.6212754,{"$f":"VLOOKUP(C208,pH_Proc!O:R,4)","v":8.0470928643578734},{"$f":"VLOOKUP(C208,[1]Proc_CTD!$A:$H,8)","v":93.937886660507075},null,null,436.33,13.028,83.453999999999994,429.72,13.097,100.9,1.9374,0.95737000000000005,13.273999999999999,91.572999999999993,1.2895000000000001,13.303000000000001,101.07,413.06,13.481,85.715999999999994,406.64,13.53,101.83,1.9503999999999999]
[36.771181667,-122.01804166700001,"2013-05-17T22:31:17",137.93839120370103,20.575500492327155,432.72506347999996,401.84182747999995,{"$f":"VLOOKUP(C209,pH_Proc!O:R,4)","v":8.033546265070747},{"$f":"VLOOKUP(C209,[1]Proc_CTD!$A:$H,8)","v":89.19801722363998},null,null,448.2,12.959,83.396000000000001,437.88,13.028,100.81,1.9427000000000001,1.036,13.205,91.102000000000004,1.1369,13.225,100.47,413.53,13.401999999999999,85.662000000000006,406.71,13.461,101.83,1.9514]
[36.773876667000003,-122.005541667,"2013-05-17T23:31:16",137.98004629629577,19.42627294890913,438.23450595999998,402.32791395999999,{"$f":"VLOOKUP(C210,pH_Proc!O:R,4)","v":8.0299195172854709},{"$f":"VLOOKUP(C210,[1]Proc_CTD!$A:$H,8)","v":88.937107171712455},null,null,452.25,12.840999999999999,83.346000000000004,443.57,12.9,100.68,1.9419999999999999,1.1758,13.087,91.021000000000001,1.2663,13.106,100.5,412.93,13.284000000000001,85.622,407.33,13.343,101.81,1.9495]
[36.775548333000003,-121.995588333,"2013-05-18T00:31:16",138.02171296296001,18.521128063668201,435.79872324000002,401.93317924000002,{"$f":"VLOOKUP(C211,pH_Proc!O:R,4)","v":8.0359500313611516},{"$f":"VLOOKUP(C211,[1]Proc_CTD!$A:$H,8)","v":91.489240384473462},null,null,448.1,12.673999999999999,83.063000000000002,441.27,12.743,100.81,1.9300999999999999,1.1898,12.92,91.263000000000005,1.4247000000000001,12.949,100.51,414,13.125999999999999,85.647999999999996,407.09,13.175000000000001,101.83,1.9441999999999999]
[36.776960000000003,-121.988355,"2013-05-18T01:31:16",138.06337962963153,17.859371006812374,429.61048368000002,401.81854368000006,{"$f":"VLOOKUP(C212,pH_Proc!O:R,4)","v":8.0378702430372115},{"$f":"VLOOKUP(C212,[1]Proc_CTD!$A:$H,8)","v":91.138059503403937},null,null,443.41,12.557,83.072999999999993,435.02,12.635,101.83,1.9340999999999999,1.2445999999999999,12.802,91.304000000000002,1.4204000000000001,12.831,100.66,413.78,13.007999999999999,85.688999999999993,406.97,13.067,101.85,1.9429000000000001]
[36.780128333,-121.977896667,"2013-05-18T02:31:17",138.10505787037255,16.88080068734639,453.51729871999999,401.98579071999995,{"$f":"VLOOKUP(C213,pH_Proc!O:R,4)","v":8.0188135518390951},{"$f":"VLOOKUP(C213,[1]Proc_CTD!$A:$H,8)","v":88.217683174764119},null,null,466.06,12.468999999999999,83.131,459.21,12.537000000000001,101.17,1.9288000000000001,1.3375999999999999,12.724,91.814999999999998,1.4816,12.753,101.09,412.9,12.91,85.742999999999995,407.2,12.978999999999999,101.86,1.9379]
[36.783895000000001,-121.961516667,"2013-05-18T03:31:18",138.14673611111357,15.373432958317988,453.41970492000002,402.13589691999999,{"$f":"VLOOKUP(C214,pH_Proc!O:R,4)","v":8.0105346124299555},{"$f":"VLOOKUP(C214,[1]Proc_CTD!$A:$H,8)","v":84.729253069563256},null,null,467.7,12.352,83.292000000000002,459.04,12.42,101.99,1.9272,1.1527000000000001,12.606,91.962999999999994,1.4100999999999999,12.625999999999999,101.07,413.88,12.792,85.85,407.28,12.861000000000001,101.91,1.9346000000000001]
[36.787268333,-121.947136667,"2013-05-18T04:31:16",138.18837962963153,14.050805054615692,420.26416820000003,402.69728420000001,{"$f":"VLOOKUP(C215,pH_Proc!O:R,4)","v":8.0426825750252835},{"$f":"VLOOKUP(C215,[1]Proc_CTD!$A:$H,8)","v":87.864988328841434},null,null,433.47,12.321999999999999,82.564999999999998,425.41,12.391,100.51,1.9194,1.4732000000000001,12.577,91.277000000000001,1.2435,12.596,100.49,413.88,12.773,85.918000000000006,407.68,12.840999999999999,101.98,1.9317]
[36.790095000000001,-121.934595,"2013-05-18T05:31:16",138.23004629629577,12.900968948532315,403.64756047999998,403.10262047999998,{"$f":"VLOOKUP(C216,pH_Proc!O:R,4)","v":8.0729388370972703},{"$f":"VLOOKUP(C216,[1]Proc_CTD!$A:$H,8)","v":90.466485425159249},null,null,415.59,12.43,83.036000000000001,408.83,12.497999999999999,100.85,1.9252,1.1274,12.683999999999999,91.236000000000004,1.4343999999999999,12.714,100.22,414.54,12.89,85.930999999999997,408.28,12.949,102.01,1.9352]
[36.792726666999997,-121.92264,"2013-05-18T06:31:16",138.27171296296001,11.807646851938701,378.08769472000006,403.02613071999997,{"$f":"VLOOKUP(C217,pH_Proc!O:R,4)","v":8.0814137434130249},{"$f":"VLOOKUP(C217,[1]Proc_CTD!$A:$H,8)","v":89.140743100844603},null,null,389.22,12.507999999999999,83.507999999999996,382.97,12.577,101.93,1.9242999999999999,1.2927,12.763,91.896000000000001,1.3715999999999999,12.792,101.24,415.48,12.968999999999999,85.918000000000006,408.14,13.018000000000001,102.04,1.9343999999999999]
[36.795696667000001,-121.90947,"2013-05-18T07:31:16",138.31337962963153,10.604864965290023,366.46590795999998,405.71149596000004,{"$f":"VLOOKUP(C218,pH_Proc!O:R,4)","v":8.1046901068534911},{"$f":"VLOOKUP(C218,[1]Proc_CTD!$A:$H,8)","v":92.612589818002519},null,null,377.76,12.586,83.507999999999996,371,12.654999999999999,101.95,1.9200999999999999,1.111,12.831,92.367000000000004,1.1313,12.851000000000001,101.89,416.7,13.028,85.957999999999998,410.61,13.097,102.05,1.9327000000000001]
[36.798828333000003,-121.89588500000001,"2013-05-18T08:31:18",138.35506944444205,9.3676647790379217,369.89556216,404.49429815999997,{"$f":"VLOOKUP(C219,pH_Proc!O:R,4)","v":8.099527514246617},{"$f":"VLOOKUP(C219,[1]Proc_CTD!$A:$H,8)","v":91.856155034293607},null,null,382.01,12.507999999999999,83.49,374.73,12.577,101.74,1.9166000000000001,1.4065000000000001,12.763,92.191999999999993,1.3997999999999999,12.792,101.35,415.79,12.949,85.998999999999995,409.65,13.007999999999999,102.05,1.9246000000000001]
[36.801589999999997,-121.883568333,"2013-05-18T09:31:16",138.39671296296001,8.2520407587797191,412.67117239999999,405.41851639999999,{"$f":"VLOOKUP(C220,pH_Proc!O:R,4)","v":8.0563304590778753},{"$f":"VLOOKUP(C220,[1]Proc_CTD!$A:$H,8)","v":88.196824669654816},null,null,425.93,12.449,83.332999999999998,418,12.518000000000001,101.24,1.9072,1.3113999999999999,12.683999999999999,91.558999999999997,1.4970000000000001,12.714,101,417.24,12.881,85.971999999999994,410.68,12.939,102.06,1.9239999999999999]
[36.804276667000003,-121.871761667,"2013-05-18T10:31:16",138.43837962963153,7.1892362637084819,408.14123480000001,409.74633080000001,{"$f":"VLOOKUP(C221,pH_Proc!O:R,4)","v":8.057878936572072},{"$f":"VLOOKUP(C221,[1]Proc_CTD!$A:$H,8)","v":87.633942506694439},null,null,420.69,12.361000000000001,83.614999999999995,413.27,12.43,101.91,1.9080999999999999,1.0609999999999999,12.606,91.882999999999996,1.339,12.635,100.98,420.31,12.811999999999999,85.971999999999994,414.89,12.871,102.05,1.9201999999999999]
[36.805911666999997,-121.864088333,"2013-05-18T11:31:17",138.48005787037255,6.5037983358272564,396.67728248000003,414.56122248000003,{"$f":"VLOOKUP(C222,pH_Proc!O:R,4)","v":8.0401732710126605},{"$f":"VLOOKUP(C222,[1]Proc_CTD!$A:$H,8)","v":88.377989783199965},null,null,411.85,12.391,83.466999999999999,401.8,12.459,101.64,1.9016,1.1888000000000001,12.645,91.6,1.4394,12.675000000000001,100.7,426.24,12.840999999999999,86.012,419.85,12.9,102.05,1.9180999999999999]
[36.808340000000001,-121.853603333,"2013-05-18T12:31:18",138.52173611111357,5.5767645082381936,314.70701135999997,413.87618336000003,{"$f":"VLOOKUP(C223,pH_Proc!O:R,4)","v":8.1685153829878221},{"$f":"VLOOKUP(C223,[1]Proc_CTD!$A:$H,8)","v":101.80933309673406},null,null,324.74,12.773,83.71,318.88,12.840999999999999,101.97,1.8988,1.1773,13.038,91.802000000000007,1.2507999999999999,13.067,101.28,425.54,13.244,86.025000000000006,418.97,13.303000000000001,102.08,1.9093]
[36.809183333,-121.84921,"2013-05-18T13:31:17",138.56339120370103,5.191807269221826,303.83654823999996,418.86842823999996,{"$f":"VLOOKUP(C224,pH_Proc!O:R,4)","v":8.1748269356277703},{"$f":"VLOOKUP(C224,[1]Proc_CTD!$A:$H,8)","v":104.77958801522425},null,null,314.23,13.097,83.843999999999994,307.83999999999997,13.164999999999999,102.04,1.9141999999999999,0.84594000000000003,13.353,92.070999999999998,1.1821999999999999,13.382,101.58,429.59,13.56,86.093000000000004,423.94,13.609,102.13,1.9215]
[36.809361666999997,-121.85021,"2013-05-18T14:31:16",138.60504629629577,5.2819473292116887,242.97239780000001,414.63840579999999,{"$f":"VLOOKUP(C225,pH_Proc!O:R,4)","v":8.2366809769464417},{"$f":"VLOOKUP(C225,[1]Proc_CTD!$A:$H,8)","v":107.43554316761964},null,null,251.23,13.263999999999999,83.238,246.2,13.343,100.82,1.9356,0.65144000000000002,13.53,91.519000000000005,0.97150000000000003,13.56,100.73,425.75,13.738,86.227000000000004,419.46,13.807,102.2,1.9384999999999999]
[36.808689999999999,-121.85002166699999,"2013-05-18T15:31:16",138.64671296296001,5.260479246720192,235.57584791599999,411.581559916,{"$f":"VLOOKUP(C226,pH_Proc!O:R,4)","v":8.2807276424684186},{"$f":"VLOOKUP(C226,[1]Proc_CTD!$A:$H,8)","v":113.30557994921207},null,null,243.33,14.105,83.427000000000007,238.42,14.185,101.2,1.9558,0.45374999999999999,14.384,91.492000000000004,0.65673000000000004,14.414,100.7,422.31,14.593999999999999,86.213999999999999,416.06,14.654,102.22,1.9508000000000001]
[36.808391667000002,-121.849785,"2013-05-18T16:31:16",138.68837962963153,5.237675012802419,238.54678153199998,414.56240153200002,{"$f":"VLOOKUP(C227,pH_Proc!O:R,4)","v":8.2706419692913684},{"$f":"VLOOKUP(C227,[1]Proc_CTD!$A:$H,8)","v":113.05438518622941},null,null,245.38,14.683999999999999,83.587999999999994,241.09,14.754,101.42,1.9715,0.13447999999999999,14.944000000000001,91.572999999999993,0.32821,14.974,100.81,424.86,15.154999999999999,86.268000000000001,418.74,15.215999999999999,102.21,1.9609000000000001]
[36.808476667000001,-121.848401667,"2013-05-18T17:31:17",138.73005787037255,5.115240541288526,236.73003083600003,408.24741883600007,{"$f":"VLOOKUP(C228,pH_Proc!O:R,4)","v":8.2719107639191218},{"$f":"VLOOKUP(C228,[1]Proc_CTD!$A:$H,8)","v":116.27848954870765},null,null,243.54,14.984,84.314999999999998,239.24,15.045,102.78,1.9864999999999999,5.2700999999999998E-2,15.226000000000001,92.218999999999994,0.31183,15.256,101.43,418.6,15.428000000000001,86.3,412.35,15.497999999999999,102.25,1.9678]
[36.808419999999998,-121.849778333,"2013-05-18T18:31:16",138.77171296296001,5.2372424842624001,237.48122567199999,402.55841367199997,{"$f":"VLOOKUP(C229,pH_Proc!O:R,4)","v":8.2646461248282179},{"$f":"VLOOKUP(C229,[1]Proc_CTD!$A:$H,8)","v":117.58008080542076},null,null,244.9,15.055,84.194000000000003,240.07,15.125,102.44,1.9825999999999999,6.6716999999999999E-2,15.295999999999999,92.798000000000002,0.38366,15.327,102.04,413.4,15.507999999999999,86.227000000000004,406.68,15.558999999999999,102.23,1.9696]
[36.808276667000001,-121.847616667,"2013-05-18T19:31:16",138.81337962963153,5.0443325190891253,238.33356137200002,403.00452137200006,{"$f":"VLOOKUP(C230,pH_Proc!O:R,4)","v":8.2662068579406451},{"$f":"VLOOKUP(C230,[1]Proc_CTD!$A:$H,8)","v":119.37715976243615},null,null,245.08,14.914,84.019000000000005,240.86,14.984,102.3,1.9784999999999999,2.6838999999999998E-2,15.164999999999999,92.26,0.31341000000000002,15.186,101.55,412.68,15.347,86.186999999999998,407.06,15.417999999999999,102.17,1.9650000000000001]
[36.808243333,-121.848696667,"2013-05-18T20:31:16",138.85504629629577,5.1401362821087471,297.08815989999999,403.05421990000002,{"$f":"VLOOKUP(C231,pH_Proc!O:R,4)","v":8.2000500259099454},{"$f":"VLOOKUP(C231,[1]Proc_CTD!$A:$H,8)","v":120.17091315919338},null,null,307,14.474,84.234999999999999,300.27999999999997,14.544,102.22,1.9706999999999999,0.32845000000000002,14.704000000000001,92.138000000000005,0.43325000000000002,14.734,101.39,413.38,14.904,86.16,407.23,14.954000000000001,102.14,1.9596]
[36.808345000000003,-121.849665,"2013-05-18T21:31:16",138.89671296296001,5.2267508886786027,330.21866901200002,402.16065701200006,{"$f":"VLOOKUP(C232,pH_Proc!O:R,4)","v":8.1372180889975745},{"$f":"VLOOKUP(C232,[1]Proc_CTD!$A:$H,8)","v":109.53969130287676},null,null,340.42,13.867000000000001,83.912000000000006,334.18,13.936,102.16,1.9524999999999999,0.75731999999999999,14.105,92.125,0.89510999999999996,14.135,101.19,413.01,14.294,86.186999999999998,406.79,14.353999999999999,102.12,1.9479]
[36.808414999999997,-121.849156667,"2013-05-18T22:31:17",138.93839120370103,5.1819693977436545,320.05544884,401.88562084,{"$f":"VLOOKUP(C233,pH_Proc!O:R,4)","v":8.1361634744379465},{"$f":"VLOOKUP(C233,[1]Proc_CTD!$A:$H,8)","v":108.0466181874276},null,null,329.74,13.292999999999999,83.75,324.20999999999998,13.362,102.04,1.9461999999999999,0.7419,13.54,92.637,1.1827000000000001,13.56,100.98,412.84,13.728,86.132999999999996,406.8,13.788,102.05,1.9391]
[36.809220000000003,-121.84891,"2013-05-18T23:31:16",138.98004629629577,5.1654544523736838,319.42926323999995,401.26934324000001,{"$f":"VLOOKUP(C234,pH_Proc!O:R,4)","v":8.1550968225345137},{"$f":"VLOOKUP(C234,[1]Proc_CTD!$A:$H,8)","v":108.6905954521021},null,null,329.97,13.007999999999999,83.521000000000001,323.77999999999997,13.077,101.33,1.9327000000000001,1.0771999999999999,13.254,91.585999999999999,1.3847,13.284000000000001,100.78,412.85,13.451000000000001,86.105999999999995,406.38,13.510999999999999,102.04,1.9366000000000001]
[36.809195000000003,-121.85008500000001,"2013-05-19T00:31:17",139.02172453703679,5.2695761938848449,334.70938083999999,401.46948484000001,{"$f":"VLOOKUP(C235,pH_Proc!O:R,4)","v":8.1358460339744223},{"$f":"VLOOKUP(C235,[1]Proc_CTD!$A:$H,8)","v":105.45159058196926},null,null,345.01,12.811999999999999,83.319000000000003,339.13,12.88,101.28,1.9331,0.99024000000000001,13.057,91.506,1.3127,13.087,100.62,412.7,13.254,86.281000000000006,406.51,13.313000000000001,102.01,1.9292]
[36.808818332999998,-121.849445,"2013-05-19T01:31:18",139.06340277777781,5.2100836081123401,343.27544131999997,401.97043331999998,{"$f":"VLOOKUP(C236,pH_Proc!O:R,4)","v":8.1077845263853003},{"$f":"VLOOKUP(C236,[1]Proc_CTD!$A:$H,8)","v":98.864847233137354},null,null,352.43,12.714,82.727000000000004,347.69,12.782,100.47,1.9238,0.98118000000000005,12.959,90.980999999999995,1.2271000000000001,12.988,100.37,413.28,13.166,86.186999999999998,406.93,13.215,102.02,1.9319]
[36.808430000000001,-121.849231667,"2013-05-19T02:31:16",139.10504629629577,5.1887203177498673,315.19111623999999,401.98519623999999,{"$f":"VLOOKUP(C237,pH_Proc!O:R,4)","v":8.1535421273750242},{"$f":"VLOOKUP(C237,[1]Proc_CTD!$A:$H,8)","v":108.36653626895973},null,null,325.06,12.840999999999999,82.968999999999994,319.20999999999998,12.91,100.43,1.9232,0.85228000000000004,13.097,91.25,1.0922000000000001,13.125999999999999,100.3,412.42,13.303000000000001,86.16,406.81,13.363,102.01,1.9331]
[36.808318333000003,-121.84898,"2013-05-19T03:31:17",139.14672453703679,5.1657257592557162,261.21227279200002,402.05449279200002,{"$f":"VLOOKUP(C238,pH_Proc!O:R,4)","v":8.2408837064458549},{"$f":"VLOOKUP(C238,[1]Proc_CTD!$A:$H,8)","v":122.75079927885628},null,null,270.2,13.372,82.875,264.52,13.441000000000001,100.23,1.9380999999999999,0.82321,13.629,91.168999999999997,0.88226000000000004,13.659000000000001,100.45,412.6,13.837,85.984999999999999,406.67,13.907,102.05,1.9407000000000001]
[36.809105000000002,-121.847783333,"2013-05-19T04:31:16",139.18837962963153,5.0645616409097869,251.53687300000001,403.54540900000001,{"$f":"VLOOKUP(C239,pH_Proc!O:R,4)","v":8.2491437897599482},{"$f":"VLOOKUP(C239,[1]Proc_CTD!$A:$H,8)","v":118.72516153101924},null,null,259.81,13.659000000000001,83.427000000000007,254.57,13.728,101.68,1.952,0.66913,13.926,92.058000000000007,0.69750000000000001,13.946,100.73,414.81,14.125,86.12,407.99,14.185,102.08,1.9480999999999999]
[36.808839999999996,-121.84995499999999,"2013-05-19T05:31:16",139.23004629629577,5.2555272913752979,235.08351939599999,406.531551396,{"$f":"VLOOKUP(C240,pH_Proc!O:R,4)","v":8.2729660431044287},{"$f":"VLOOKUP(C240,[1]Proc_CTD!$A:$H,8)","v":119.02909278614354},null,null,242.36,13.827,83.614999999999995,238.06,13.906000000000001,102.06,1.9545999999999999,0.61007999999999996,14.085000000000001,91.855999999999995,0.79362999999999995,14.115,100.92,417.38,14.294,86.12,411.1,14.353999999999999,102.12,1.95]
[36.808824999999999,-121.847436667,"2013-05-19T06:31:16",139.27171296296001,5.0317558495842984,233.468703648,407.18566764800005,{"$f":"VLOOKUP(C241,pH_Proc!O:R,4)","v":8.2698329914743454},{"$f":"VLOOKUP(C241,[1]Proc_CTD!$A:$H,8)","v":115.95348841459352},null,null,241.16,13.965999999999999,83.036000000000001,236.23,14.026,100.65,1.9460999999999999,0.57545000000000002,14.225,91.370999999999995,0.59343999999999997,14.244,100.28,417.48,14.423999999999999,86.954999999999998,411.56,14.474,102.12,1.9307000000000001]
[36.808315,-121.848961667,"2013-05-19T07:31:16",139.31337962963153,5.1640780744206181,223.569819008,407.98742300800001,{"$f":"VLOOKUP(C242,pH_Proc!O:R,4)","v":8.284374647965949},{"$f":"VLOOKUP(C242,[1]Proc_CTD!$A:$H,8)","v":115.91611143311818},null,null,231.11,14.036,83.816999999999993,226.24,14.105,102.37,1.9522999999999999,0.45255000000000001,14.284000000000001,91.748000000000005,0.59423999999999999,14.314,100.98,418.27,14.484,86.16,412.37,14.554,102.13,1.9467000000000001]
[36.808898333000002,-121.84987833300001,"2013-05-19T08:31:18",139.35506944444205,5.2491097823818365,233.44845169600001,406.283603696,{"$f":"VLOOKUP(C243,pH_Proc!O:R,4)","v":8.2779552449294656},{"$f":"VLOOKUP(C243,[1]Proc_CTD!$A:$H,8)","v":115.32091045811087},null,null,240.76,14.164999999999999,83.507999999999996,236.22,14.244,101.82,1.9376,0.32730999999999999,14.423999999999999,91.841999999999999,0.60387999999999997,14.444000000000001,101.08,417.39,14.614000000000001,86.052000000000007,410.66,14.673999999999999,102.08,1.9392]
[36.809265000000003,-121.849665,"2013-05-19T09:31:16",139.39671296296001,5.2328206720518482,231.89593745200003,412.380065452,{"$f":"VLOOKUP(C244,pH_Proc!O:R,4)","v":8.2608171743065544},{"$f":"VLOOKUP(C244,[1]Proc_CTD!$A:$H,8)","v":117.00197104744865},null,null,239.6,14.065,84.543999999999997,234.78,14.125,101.5,1.9103000000000001,0.45932000000000001,14.304,92.825000000000003,0.73080999999999996,14.334,100.84,423.41,14.504,87.049000000000007,416.94,14.564,102.05,1.9101999999999999]
[36.809278333000002,-121.849646667,"2013-05-19T10:31:16",139.43837962963153,5.2312959191349178,239.970907912,413.004219912,{"$f":"VLOOKUP(C245,pH_Proc!O:R,4)","v":8.2448089437430898},{"$f":"VLOOKUP(C245,[1]Proc_CTD!$A:$H,8)","v":115.85366314071372},null,null,246.83,13.996,84.611999999999995,242.82,14.065,101.09,1.8976999999999999,0.55386999999999997,14.244,92.435000000000002,0.62085999999999997,14.263999999999999,100.94,423.58,14.444000000000001,87.534000000000006,417.46,14.494,102.04,1.8959999999999999]
[36.809179999999998,-121.84837166699999,"2013-05-19T11:31:17",139.48005787037255,5.1173601031377229,265.53822448799997,410.056312488,{"$f":"VLOOKUP(C246,pH_Proc!O:R,4)","v":8.2214748416945529},{"$f":"VLOOKUP(C246,[1]Proc_CTD!$A:$H,8)","v":113.08414374476644},null,null,273.2,13.817,85.554000000000002,268.64,13.887,102.17,1.8795999999999999,0.48558000000000001,14.065,92.918999999999997,0.63614000000000004,14.095000000000001,101.38,419.85,14.254,86.429000000000002,414.5,14.314,102.04,1.9035]
[36.809154999999997,-121.848283333,"2013-05-19T12:31:18",139.52173611111357,5.1093278587349573,279.10229630399999,409.303324304,{"$f":"VLOOKUP(C247,pH_Proc!O:R,4)","v":8.2016525651118481},{"$f":"VLOOKUP(C247,[1]Proc_CTD!$A:$H,8)","v":109.58859586544675},null,null,287.69,13.629,85.043000000000006,282.56,13.698,101.7,1.8956999999999999,0.49959999999999999,13.887,92.716999999999999,0.86612,13.907,100.94,419.94,14.074999999999999,87.465999999999994,413.97,14.135,102.02,1.8934]
[36.809171667000001,-121.849405,"2013-05-19T13:31:17",139.56339120370103,5.2090312089871134,276.78855042000004,408.54513442000001,{"$f":"VLOOKUP(C248,pH_Proc!O:R,4)","v":8.1966570503064293},{"$f":"VLOOKUP(C248,[1]Proc_CTD!$A:$H,8)","v":108.33173188939205},null,null,284.7,13.52,85.257999999999996,280.07,13.59,102.36,1.8837999999999999,0.59962000000000004,13.768000000000001,93.484999999999999,0.71135000000000004,13.797000000000001,102.01,418.9,13.965999999999999,87.290999999999997,413.05,14.036,102.06,1.8934]
[36.809236667,-121.84998,"2013-05-19T14:31:18",139.60506944444205,5.2605677498883292,288.843534756,408.57180675600006,{"$f":"VLOOKUP(C249,pH_Proc!O:R,4)","v":8.1741410908580932},{"$f":"VLOOKUP(C249,[1]Proc_CTD!$A:$H,8)","v":106.93982661511403},null,null,297.42,13.422000000000001,85.379000000000005,292.51,13.491,102.28,1.8869,0.67540999999999995,13.669,93.471000000000004,0.98443000000000003,13.698,101.59,419.44,13.867000000000001,87.668000000000006,413.35,13.936,102.09,1.8923000000000001]
[36.809143333000002,-121.85006666699999,"2013-05-19T15:31:17",139.64672453703679,5.267566013717321,288.48563798000004,408.82820598000001,{"$f":"VLOOKUP(C250,pH_Proc!O:R,4)","v":8.1849358419085885},{"$f":"VLOOKUP(C250,[1]Proc_CTD!$A:$H,8)","v":109.51712410279535},null,null,297.18,13.481,85.581000000000003,291.97000000000003,13.55,102.24,1.903,0.64849999999999997,13.728,93.430999999999997,0.80564999999999998,13.757999999999999,101.32,419.36,13.926,87.56,413.43,13.996,102.08,1.8995]
[36.808706667000003,-121.84992666700001,"2013-05-19T16:31:18",139.68840277777781,5.2521447951908424,280.91724374399996,410.68231974399998,{"$f":"VLOOKUP(C251,pH_Proc!O:R,4)","v":8.2031330443715422},{"$f":"VLOOKUP(C251,[1]Proc_CTD!$A:$H,8)","v":113.7722898708267},null,null,289.68,13.728,85.379000000000005,284.20999999999998,13.797000000000001,102.14,1.9096,0.43786999999999998,13.986000000000001,92.933000000000007,0.68432000000000004,14.016,101.46,420.26,14.195,87.694999999999993,415.18,14.254,102.08,1.9019999999999999]
[36.809094999999999,-121.850006667,"2013-05-19T17:31:16",139.73004629629577,5.2618861979155191,273.52714396800002,408.82088396800003,{"$f":"VLOOKUP(C252,pH_Proc!O:R,4)","v":8.2090449667794658},{"$f":"VLOOKUP(C252,[1]Proc_CTD!$A:$H,8)","v":116.61688634342661},null,null,281.95,13.956,85.688999999999993,276.83999999999997,14.026,102.75,1.9218,0.23563000000000001,14.205,93.430999999999997,0.77303999999999995,14.234,101.35,419.38,14.404,87.116,413.39,14.474,102.06,1.9242999999999999]
[36.809313332999999,-121.848436667,"2013-05-19T18:31:16",139.77171296296001,5.1241704189860338,263.39701651599995,409.46075251600001,{"$f":"VLOOKUP(C253,pH_Proc!O:R,4)","v":8.2202736190971208},{"$f":"VLOOKUP(C253,[1]Proc_CTD!$A:$H,8)","v":117.87334847533806},null,null,271.88,14.026,84.665999999999997,266.57,14.085000000000001,101.79,1.9339,0.36585000000000001,14.284000000000001,92.972999999999999,0.72723000000000004,14.304,101.15,419.84,14.484,87.278000000000006,413.99,14.534000000000001,102.02,1.9176]
[36.808325000000004,-121.849458333,"2013-05-19T19:31:16",139.81337962963153,5.208273640255916,266.97301187599999,407.75578387600001,{"$f":"VLOOKUP(C254,pH_Proc!O:R,4)","v":8.2011371222007661},{"$f":"VLOOKUP(C254,[1]Proc_CTD!$A:$H,8)","v":116.99874330464795},null,null,274.44,13.956,85.622,270.33999999999997,14.026,102.82,1.9307000000000001,0.47936000000000001,14.205,93.713999999999999,0.88802999999999999,14.234,102.17,418.5,14.404,87.453000000000003,412.43,14.454000000000001,101.95,1.9187000000000001]
[36.808456667000002,-121.84831833299999,"2013-05-19T20:31:16",139.85504629629577,5.1077171750664938,275.54662225200002,406.11424625200004,{"$f":"VLOOKUP(C255,pH_Proc!O:R,4)","v":8.1626239582903377},{"$f":"VLOOKUP(C255,[1]Proc_CTD!$A:$H,8)","v":110.85651484149162},null,null,283.76,13.728,84.733000000000004,278.88,13.788,102.26,1.9404999999999999,0.5716,13.965999999999999,92.703999999999994,0.77481,13.996,101.6,416.57,14.185,86.980999999999995,410.66,14.234999999999999,101.91,1.9339999999999999]
[36.808393332999998,-121.848198333,"2013-05-19T21:31:17",139.89672453703679,5.09668394991514,276.62260132800003,405.66439332800002,{"$f":"VLOOKUP(C256,pH_Proc!O:R,4)","v":8.190047419791771},{"$f":"VLOOKUP(C256,[1]Proc_CTD!$A:$H,8)","v":117.57766058579158},null,null,285.42,13.837,83.656000000000006,280.12,13.906000000000001,100.58,1.931,0.45863999999999999,14.085000000000001,92.179000000000002,0.92884,14.105,100.66,416.31,14.263999999999999,86.873999999999995,410.36,14.334,101.81,1.9224000000000001]
[36.808266666999998,-121.849146667,"2013-05-19T22:31:17",139.93839120370103,5.1802570684728479,278.36746948400003,405.279041484,{"$f":"VLOOKUP(C257,pH_Proc!O:R,4)","v":8.220073914008875},{"$f":"VLOOKUP(C257,[1]Proc_CTD!$A:$H,8)","v":117.61115506417329},null,null,286.94,13.372,83.912000000000006,281.85000000000002,13.441000000000001,100.46,1.9280999999999999,0.86167000000000005,13.609,91.263000000000005,0.89776999999999996,13.638999999999999,99.908000000000001,415.84,13.807,86.968000000000004,409.94,13.856999999999999,101.79,1.9184000000000001]
[36.808433333000004,-121.849961667,"2013-05-19T23:31:17",139.98005787037255,5.253610467063333,288.97292332799998,404.77762732799999,{"$f":"VLOOKUP(C258,pH_Proc!O:R,4)","v":8.1880923412218518},{"$f":"VLOOKUP(C258,[1]Proc_CTD!$A:$H,8)","v":111.32023653019299},null,null,298.23,13.135999999999999,84.463999999999999,292.52,13.205,101.24,1.9112,0.53093999999999997,13.391999999999999,92.097999999999999,0.86384000000000005,13.422000000000001,100.59,415.6,13.59,86.766000000000005,409.4,13.648999999999999,101.71,1.9179999999999999]
[36.809221667000003,-121.847933333,"2013-05-20T00:31:16",{"$f":"C259-41274","v":140.02171296296001},{"$f":"ABS(Rhumb(36.806,A259,-121.791,B259))","v":5.0787728959338745},{"$f":"0.9908*(O259-V259)","v":284.52008978399999},{"$f":"0.9908*(AB259-V259)","v":404.55550978400004},{"$f":"VLOOKUP(C259,pH_Proc!O:R,4)","v":8.1955810557272386},{"$f":"VLOOKUP(C259,[1]Proc_CTD!$A:$H,8)","v":112.70918020022734},null,null,293.12,13.234,84.234999999999999,288.07,13.292999999999999,101.33,1.9129,0.68230999999999997,13.491,92.421000000000006,0.90802000000000005,13.510999999999999,100.65,415.04,13.689,86.900999999999996,409.22,13.747999999999999,101.67,1.9155]
[36.809048333,-121.850226667,"2013-05-20T01:31:16",140.06337962963153,5.2810868138172609,260.01554491999997,404.04814091999998,{"$f":"VLOOKUP(C260,pH_Proc!O:R,4)","v":8.2287958468901685},{"$f":"VLOOKUP(C260,[1]Proc_CTD!$A:$H,8)","v":114.55260121707818},null,null,268.31,13.215,83.924999999999997,263.63,13.273999999999999,101.05,1.9217,0.75609000000000004,13.451000000000001,92.206000000000003,1.2000999999999999,13.481,100.42,415,13.659000000000001,86.805999999999997,409,13.718,101.58,1.9174]
[36.809228333,-121.849386667,"2013-05-20T02:31:16",140.10504629629577,5.2078322320957602,277.2025562,403.75744020000002,{"$f":"VLOOKUP(C261,pH_Proc!O:R,4)","v":8.2142851141856159},{"$f":"VLOOKUP(C261,[1]Proc_CTD!$A:$H,8)","v":113.97458272074773},null,null,290.11,13.125999999999999,63.889000000000003,280.81,13.195,99.260999999999996,1.9632000000000001,0.91247,13.382,91.061000000000007,1.0335000000000001,13.401999999999999,99.531000000000006,414.88,13.58,86.671999999999997,408.54,13.648999999999999,101.6,1.8972]
[36.809170000000002,-121.84952833299999,"2013-05-20T03:31:17",140.14672453703679,5.219968212878384,262.42764751999999,404.07241551999999,{"$f":"VLOOKUP(C262,pH_Proc!O:R,4)","v":8.2213199997317723},{"$f":"VLOOKUP(C262,[1]Proc_CTD!$A:$H,8)","v":112.45148956786196},null,null,270.52999999999997,13.412000000000001,83.587999999999994,265.88,13.481,100.57,1.9206000000000001,0.58914,13.669,91.828999999999994,1.0156000000000001,13.698,99.745999999999995,414.93,13.877000000000001,87.034999999999997,408.84,13.936,101.63,1.9106000000000001]
[36.809175000000003,-121.848711667,"2013-05-20T04:31:16",140.18837962963153,5.1475045946553539,271.319374052,404.52252605199999,{"$f":"VLOOKUP(C263,pH_Proc!O:R,4)","v":8.2101858686751381},{"$f":"VLOOKUP(C263,[1]Proc_CTD!$A:$H,8)","v":118.17037139472178},null,null,279.38,13.52,83.870999999999995,274.70999999999998,13.59,101.2,1.9181999999999999,0.63361000000000001,13.768000000000001,92.474999999999994,0.87131000000000003,13.797000000000001,100.8,414.98,13.965999999999999,86.887,409.15,14.026,101.68,1.921]
[36.80829,-121.847645,"2013-05-20T05:31:18",140.23006944444205,5.0469246721818388,275.54623584000001,406.84705184000001,{"$f":"VLOOKUP(C264,pH_Proc!O:R,4)","v":8.2083304371146042},{"$f":"VLOOKUP(C264,[1]Proc_CTD!$A:$H,8)","v":114.54429813272537},null,null,284.02,13.481,83.938000000000002,278.87,13.55,101.31,1.9233,0.60538000000000003,13.728,92.138000000000005,0.76519999999999999,13.757999999999999,100.08,417.06,13.926,87.116,411.39,13.996,101.73,1.9154]
[36.808383333000002,-121.849548333,"2013-05-20T06:31:16",140.27171296296001,5.2165958542067772,280.63540077599998,407.24973277599997,{"$f":"VLOOKUP(C265,pH_Proc!O:R,4)","v":8.2006816449170419},{"$f":"VLOOKUP(C265,[1]Proc_CTD!$A:$H,8)","v":115.53887966708261},null,null,289.99,13.432,83.912000000000006,284.23,13.500999999999999,101.59,1.9213,0.60141999999999995,13.689,92.515000000000001,0.98877999999999999,13.708,100.74,417.65,13.887,86.766000000000005,412.02,13.936,101.71,1.9226000000000001]
[36.808338333000002,-121.84804,"2013-05-20T07:31:16",140.31337962963153,5.0822994035079878,261.40020773599997,412.24950773599994,{"$f":"VLOOKUP(C266,pH_Proc!O:R,4)","v":8.2290872719991874},{"$f":"VLOOKUP(C266,[1]Proc_CTD!$A:$H,8)","v":112.52070246512793},null,null,269.58999999999997,13.609,83.978999999999999,264.64999999999998,13.679,101.51,1.9227000000000001,0.50421000000000005,13.867000000000001,92.381,0.82257999999999998,13.887,100.88,422.65,14.065,86.832999999999998,416.9,14.115,101.68,1.9188000000000001]
[36.808321667000001,-121.849291667,"2013-05-20T08:31:17",140.35505787037255,5.1934430527612356,275.08154073200001,412.00019273200002,{"$f":"VLOOKUP(C267,pH_Proc!O:R,4)","v":8.2099610978471951},{"$f":"VLOOKUP(C267,[1]Proc_CTD!$A:$H,8)","v":111.46459273891321},null,null,283.3,13.54,84.76,278.45,13.609,102.21,1.9217,0.56401000000000001,13.778,92.65,0.81420999999999999,13.807,101.03,422.79,13.976000000000001,86.900999999999996,416.64,14.036,101.67,1.9123000000000001]
[36.809411666999999,-121.84905999999999,"2013-05-20T09:31:16",140.39671296296001,5.1802806176228851,274.33209961199998,408.78365961200006,{"$f":"VLOOKUP(C268,pH_Proc!O:R,4)","v":8.2089516485238239},{"$f":"VLOOKUP(C268,[1]Proc_CTD!$A:$H,8)","v":111.51120660113209},null,null,283.32,13.263999999999999,84.436999999999998,277.83999999999997,13.333,102.12,1.9221999999999999,0.88600999999999996,13.510999999999999,92.784999999999997,0.96060999999999996,13.54,101.33,419.16,13.708,87.088999999999999,413.54,13.768000000000001,101.66,1.9100999999999999]
[36.808351666999997,-121.848293333,"2013-05-20T10:31:16",140.43837962963153,5.1048878726497131,276.27348303999997,416.19425904000002,{"$f":"VLOOKUP(C269,pH_Proc!O:R,4)","v":8.2086596738590174},{"$f":"VLOOKUP(C269,[1]Proc_CTD!$A:$H,8)","v":112.34284814236383},null,null,284.81,13.175000000000001,85.164000000000001,279.83999999999997,13.244,102.82,1.9206000000000001,0.76166,13.432,92.918999999999997,1.0012000000000001,13.451000000000001,101.58,427.11,13.629,86.698999999999998,421.06,13.689,101.62,1.9137999999999999]
[36.809286667000002,-121.84972999999999,"2013-05-20T11:31:17",140.48005787037255,5.2387574546585318,264.44035863999994,416.73622663999998,{"$f":"VLOOKUP(C270,pH_Proc!O:R,4)","v":8.2122958887107647},{"$f":"VLOOKUP(C270,[1]Proc_CTD!$A:$H,8)","v":112.72197682846766},null,null,273.23,13.125999999999999,85.055999999999997,268.08999999999997,13.195,102.48,1.9105000000000001,0.79283000000000003,13.372,93.31,1.1941999999999999,13.401999999999999,101.43,427.49,13.58,86.941000000000003,421.8,13.638999999999999,101.64,1.9048]
[36.808843332999999,-121.850015,"2013-05-20T12:31:16",140.52171296296001,5.2608788186960123,273.78072932000003,417.93222132,{"$f":"VLOOKUP(C271,pH_Proc!O:R,4)","v":8.2125763760615715},{"$f":"VLOOKUP(C271,[1]Proc_CTD!$A:$H,8)","v":113.56206495492414},null,null,282.33,13.067,84.881,277.38,13.135999999999999,102.09,1.9044000000000001,0.95445000000000002,13.313000000000001,92.811999999999998,1.0570999999999999,13.343,101.28,428.87,13.521000000000001,87.102999999999994,422.87,13.58,101.62,1.8989]
[36.809255,-121.850365,"2013-05-20T13:31:16",140.56337962963153,5.2948849409515875,275.13019892000005,413.73321092000003,{"$f":"VLOOKUP(C272,pH_Proc!O:R,4)","v":8.2062163643613726},{"$f":"VLOOKUP(C272,[1]Proc_CTD!$A:$H,8)","v":109.54860834381782},null,null,284.45,12.997999999999999,85.352000000000004,278.79000000000002,13.067,102.67,1.8978999999999999,0.88466999999999996,13.254,93.525000000000006,1.1051,13.284000000000001,101.43,424.89,13.451000000000001,87.197000000000003,418.68,13.510999999999999,101.67,1.8909]
[36.808349999999997,-121.84983333300001,"2013-05-20T14:31:18",140.60506944444205,5.2417387394638792,269.14071383999999,421.57529384000003,{"$f":"VLOOKUP(C273,pH_Proc!O:R,4)","v":8.2168266613149843},{"$f":"VLOOKUP(C273,[1]Proc_CTD!$A:$H,8)","v":114.52285382690891},null,null,278.07,12.988,84.180999999999997,272.64999999999998,13.057,101.6,1.9126000000000001,0.76288,13.234,92.394000000000005,1.0102,13.263999999999999,100.9,432.44,13.442,87.116,426.5,13.500999999999999,101.7,1.9029]
[36.807888333000001,-121.849101667,"2013-05-20T15:31:16",140.64671296296001,5.174392495777723,269.21165512000005,414.14587912000002,{"$f":"VLOOKUP(C274,pH_Proc!O:R,4)","v":8.2256658827004649},{"$f":"VLOOKUP(C274,[1]Proc_CTD!$A:$H,8)","v":118.06875714974063},null,null,278.38,13.057,85.028999999999996,272.8,13.116,102.75,1.9226000000000001,0.61214999999999997,13.313000000000001,93.108000000000004,1.0886,13.333,101.05,424.79,13.521000000000001,87.061999999999998,419.08,13.58,101.68,1.9071]
[36.798605000000002,-121.84722499999999,"2013-05-20T16:31:16",{"$f":"C275-41274","v":140.68837962963153},{"$f":"ABS(Rhumb(36.806,A275,-121.791,B275))","v":5.0705589338447163},{"$f":"0.9908*(O275-V275)","v":250.87142199599998},{"$f":"0.9908*(AB275-V275)","v":417.43480999600001},{"$f":"VLOOKUP(C275,pH_Proc!O:R,4)","v":8.2425603724933296},{"$f":"VLOOKUP(C275,[1]Proc_CTD!$A:$H,8)","v":120.56875362931747},null,null,258.83999999999997,13.510999999999999,85.069000000000003,254.01,13.59,102.82,1.9348000000000001,0.42706,13.778,93.228999999999999,0.80913000000000002,13.807,101.4,427.98,13.986000000000001,86.914000000000001,422.12,14.055999999999999,101.67,1.9186000000000001]
[36.795858332999998,-121.86417166699999,"2013-05-20T17:31:16",140.73004629629577,6.6085617355492845,222.39203523200001,419.55132723200001,{"$f":"VLOOKUP(C276,pH_Proc!O:R,4)","v":8.2913446306977239},{"$f":"VLOOKUP(C276,[1]Proc_CTD!$A:$H,8)","v":116.32697612875798},null,null,229.66,14.374000000000001,85.472999999999999,224.86,14.444000000000001,102.82,1.9449000000000001,0.29791000000000001,14.644,93.403999999999996,0.40295999999999998,14.673999999999999,101.4,429.66,14.864000000000001,86.757999999999996,423.85,14.933999999999999,101.67,1.9358]
[36.794053333000001,-121.87522166700001,"2013-05-20T18:31:16",140.77171296296001,7.6118866426790008,240.58089393200001,414.78334993200002,{"$f":"VLOOKUP(C277,pH_Proc!O:R,4)","v":8.246387593047789},{"$f":"VLOOKUP(C277,[1]Proc_CTD!$A:$H,8)","v":119.21247408115461},null,null,247.98,14.404,84.584999999999994,243.4,14.464,101.93,1.9414,0.56064999999999998,14.634,92.730999999999995,0.58521000000000001,14.664,100.78,425.28,14.814,87.143000000000001,419.22,14.874000000000001,101.68,1.9319]
[36.792193333,-121.88660166699999,"2013-05-20T19:31:16",140.81337962963153,8.6453147463583875,241.674370536,405.017658536,{"$f":"VLOOKUP(C278,pH_Proc!O:R,4)","v":8.2609788407130651},{"$f":"VLOOKUP(C278,[1]Proc_CTD!$A:$H,8)","v":119.1588187790489},null,null,249.17,13.877000000000001,85.11,244.73,13.936,102.21,1.9274,0.55091999999999997,14.105,92.838999999999999,0.81157999999999997,14.135,101.12,415.6,14.304,87.102999999999994,409.59,14.353999999999999,101.67,1.9157999999999999]
[36.791303333000002,-121.89269,"2013-05-20T20:31:19",140.85508101851883,9.1961499701276033,214.36988432000001,405.78253632000002,{"$f":"VLOOKUP(C279,pH_Proc!O:R,4)","v":8.2862378161679739},{"$f":"VLOOKUP(C279,[1]Proc_CTD!$A:$H,8)","v":127.46000174454716},null,null,221.25,13.54,84.691999999999993,217.43,13.609,101.89,1.9297,0.61495999999999995,13.788,92.555999999999997,1.0696000000000001,13.817,101.04,416.55,13.986000000000001,87.156999999999996,410.62,14.055999999999999,101.68,1.9177]
[36.790113333000001,-121.899248333,"2013-05-20T21:31:16",140.89671296296001,9.794135401390605,222.361855464,405.16445546400001,{"$f":"VLOOKUP(C280,pH_Proc!O:R,4)","v":8.2730472092918603},{"$f":"VLOOKUP(C280,[1]Proc_CTD!$A:$H,8)","v":125.96170338017588},null,null,228.77,13.491,84.341999999999999,225.25,13.57,101.7,1.927,0.59575,13.747999999999999,92.421000000000006,0.82342000000000004,13.778,100.94,415.39,13.946,87.022000000000006,409.75,14.016,101.63,1.9184000000000001]
[36.789389999999997,-121.90423333299999,"2013-05-20T22:31:16",140.93837962963153,10.245051132663583,247.60765744,404.27295343999998,{"$f":"VLOOKUP(C281,pH_Proc!O:R,4)","v":8.2544467818271716},{"$f":"VLOOKUP(C281,[1]Proc_CTD!$A:$H,8)","v":117.88988982249944},null,null,255.95,13.471,84.302000000000007,250.91,13.54,101.48,1.9180999999999999,0.82467000000000001,13.718,92.326999999999998,1.0032000000000001,13.738,100.61,414.45,13.917,86.995000000000005,409.03,13.976000000000001,101.54,1.9137]
[36.788119999999999,-121.91224,"2013-05-20T23:31:18",140.98006944444205,10.971480726828544,257.17826031599998,403.83647631599996,{"$f":"VLOOKUP(C282,pH_Proc!O:R,4)","v":8.2421305916534902},{"$f":"VLOOKUP(C282,[1]Proc_CTD!$A:$H,8)","v":119.27685509415303},null,null,264.86,13.215,84.275000000000006,260.56,13.273999999999999,101.44,1.9167000000000001,0.60163,13.451000000000001,92.313999999999993,0.99373,13.481,100.31,414.43,13.648999999999999,86.698999999999998,408.58,13.708,101.47,1.9174]
[36.786283333,-121.923426667,"2013-05-21T00:31:17",141.02172453703679,11.987728231923677,251.85440458399998,403.81340058400002,{"$f":"VLOOKUP(C283,pH_Proc!O:R,4)","v":8.2555280739321564},{"$f":"VLOOKUP(C283,[1]Proc_CTD!$A:$H,8)","v":121.75330571689686},null,null,258.57,13.125999999999999,83.992000000000004,254.98,13.195,100.74,1.9136,0.71745000000000003,13.372,91.95,0.78702000000000005,13.401999999999999,100.46,413.78,13.57,86.846999999999994,408.35,13.638999999999999,101.42,1.9119999999999999]
[36.783911666999998,-121.938551667,"2013-05-21T01:31:16",141.06337962963153,13.35953780745225,305.46037036000007,402.58849436000003,{"$f":"VLOOKUP(C284,pH_Proc!O:R,4)","v":8.1665314764449839},{"$f":"VLOOKUP(C284,[1]Proc_CTD!$A:$H,8)","v":106.2392770483895},null,null,315.61,12.988,83.641999999999996,309.42,13.057,100.51,1.8997999999999999,0.87577000000000005,13.234,91.760999999999996,1.1233,13.263999999999999,100.02,412.57,13.432,86.753,407.45,13.491,101.38,1.9046000000000001]
[36.781485000000004,-121.95371666699999,"2013-05-21T02:31:16",141.10504629629577,14.736032718007939,328.72375988000005,403.02385188,{"$f":"VLOOKUP(C285,pH_Proc!O:R,4)","v":8.1437318460370456},{"$f":"VLOOKUP(C285,[1]Proc_CTD!$A:$H,8)","v":104.1736365263323},null,null,339.29,12.792,83.816999999999993,332.91,12.861000000000001,100.53,1.9080999999999999,0.97033000000000003,13.038,91.869,1.1338999999999999,13.067,99.881,413.89,13.234,86.82,407.9,13.294,101.42,1.9056]
[36.779404999999997,-121.967391667,"2013-05-21T03:31:17",141.14672453703679,15.975090365289224,458.44226828000001,402.68995228,{"$f":"VLOOKUP(C286,pH_Proc!O:R,4)","v":7.9747249052328169},{"$f":"VLOOKUP(C286,[1]Proc_CTD!$A:$H,8)","v":82.839286454609393},null,null,473.81,12.497999999999999,83.683000000000007,464.32,12.567,100.06,1.9087000000000001,1.0738000000000001,12.743,91.465000000000003,1.6209,12.773,99.947999999999993,413.49,12.93,86.725999999999999,408.05,12.989000000000001,101.47,1.9048]
[36.776298333,-121.986741667,"2013-05-21T04:31:18",141.18840277777781,17.731796667383051,537.78721664,403.37528864000006,{"$f":"VLOOKUP(C287,pH_Proc!O:R,4)","v":8.0190483250344649},{"$f":"VLOOKUP(C287,[1]Proc_CTD!$A:$H,8)","v":89.38750005771746},null,null,539.83000000000004,12.313000000000001,84.006,544.14,12.371,100.81,1.897,1.3927,12.547000000000001,91.95,1.3592,12.577,100.16,414.06,12.743,86.980999999999995,408.48,12.802,101.55,1.8888]
[36.773195000000001,-122.005493333,"2013-05-21T05:31:16",141.23004629629577,19.436210772670243,668.45431696000003,403.18743296000002,{"$f":"VLOOKUP(C288,pH_Proc!O:R,4)","v":7.8446104200097668},{"$f":"VLOOKUP(C288,[1]Proc_CTD!$A:$H,8)","v":72.67629152743767},null,null,688.03,11.757999999999999,82.83,676.48,11.826000000000001,100.85,1.8754999999999999,1.5851999999999999,12.000999999999999,91.707999999999998,1.8188,12.03,100.26,414.52,12.186,86.753,408.75,12.254,101.62,1.8794999999999999]
[36.770571666999999,-122.02210833300001,"2013-05-21T06:31:16",141.27171296296001,20.943834249651324,600.4079564000001,402.6938164,{"$f":"VLOOKUP(C289,pH_Proc!O:R,4)","v":7.9000103177013088},{"$f":"VLOOKUP(C289,[1]Proc_CTD!$A:$H,8)","v":71.685374398155503},null,null,617.16999999999996,11.622,81.272000000000006,607.86,11.69,101.51,1.8697999999999999,1.6660999999999999,11.865,92.191999999999993,1.877,11.894,100.18,414.4,12.069000000000001,86.658000000000001,408.31,12.137,101.59,1.871]
[36.767926666999998,-122.03841166700001,"2013-05-21T07:31:16",141.31337962963153,22.424725580416307,561.65519231999997,402.62188432000005,{"$f":"VLOOKUP(C290,pH_Proc!O:R,4)","v":7.9282498331667144},{"$f":"VLOOKUP(C290,[1]Proc_CTD!$A:$H,8)","v":72.078304276077859},null,null,579.66999999999996,11.593,82.471000000000004,568.61,11.651,102.86,1.8734999999999999,1.5084,11.835000000000001,92.852000000000004,1.7396,11.865,101.07,414.05,12.04,86.980999999999995,408.1,12.098000000000001,101.58,1.8652]
[36.765168332999998,-122.05594499999999,"2013-05-21T08:31:16",141.35504629629577,24.015580631407396,535.98534775999997,401.51397176,{"$f":"VLOOKUP(C291,pH_Proc!O:R,4)","v":7.9451891340000325},{"$f":"VLOOKUP(C291,[1]Proc_CTD!$A:$H,8)","v":72.422185882431364},null,null,552.66999999999996,11.573,82.564999999999998,542.77,11.651,102.59,1.8646,1.7748999999999999,11.826000000000001,93.067999999999998,1.8078000000000001,11.855,101.17,412.83,12.03,86.941000000000003,407.05,12.098000000000001,101.54,1.861]
[36.761521666999997,-122.07868000000001,"2013-05-21T09:31:16",141.39671296296001,26.079970411166048,571.05976684000007,401.52397883999998,{"$f":"VLOOKUP(C292,pH_Proc!O:R,4)","v":7.9311252297151027},{"$f":"VLOOKUP(C292,[1]Proc_CTD!$A:$H,8)","v":71.651262410623886},null,null,588.12,11.651,82.548000000000002,578.04999999999995,11.718999999999999,102.67,1.8664000000000001,1.6620999999999999,11.903,93.054000000000002,1.6877,11.933,101.33,412.44,12.098000000000001,87.007999999999996,406.94,12.157,101.54,1.8574999999999999]
[36.757586666999998,-122.10298,"2013-05-21T10:31:16",141.43837962963153,28.287374694627271,586.43064172000004,401.51763772000004,{"$f":"VLOOKUP(C293,pH_Proc!O:R,4)","v":7.9061882882460308},{"$f":"VLOOKUP(C293,[1]Proc_CTD!$A:$H,8)","v":70.483533450844817},null,null,604.33000000000004,11.563000000000001,82.911000000000001,593.66999999999996,11.631,102.69,1.8651,1.5029999999999999,11.805999999999999,93.108000000000004,1.7941,11.835000000000001,101.43,413.31,12.010999999999999,86.941000000000003,407.04,12.079000000000001,101.52,1.8584000000000001]
[36.753816667000002,-122.126851667,"2013-05-21T11:31:18",141.48006944444205,30.453940044852615,606.70617475999995,401.87809076000002,{"$f":"VLOOKUP(C294,pH_Proc!O:R,4)","v":7.8914015608298058},{"$f":"VLOOKUP(C294,[1]Proc_CTD!$A:$H,8)","v":69.806822977684561},null,null,625.16999999999996,11.476000000000001,82.793999999999997,614.14,11.544,102.74,1.871,1.5713999999999999,11.728,93.188999999999993,1.8003,11.757999999999999,101.29,412.91,11.923,87.034999999999997,407.41,11.981,101.55,1.8596999999999999]
[36.750313333000001,-122.14855666699999,"2013-05-21T12:31:17",141.52172453703679,32.425569102942177,600.28371008000011,401.99490608000002,{"$f":"VLOOKUP(C295,pH_Proc!O:R,4)","v":7.8984171510957353},{"$f":"VLOOKUP(C295,[1]Proc_CTD!$A:$H,8)","v":70.312819297658137},null,null,618.02,11.505000000000001,83.197999999999993,607.86,11.573,102.91,1.8669,1.7116,11.747999999999999,93.120999999999995,2.0024000000000002,11.776999999999999,101.28,414.05,11.952,86.968000000000004,407.73,12.02,101.6,1.8631]
[36.746928333,-122.169441667,"2013-05-21T13:31:16",141.56337962963153,34.323099602522134,585.12902775999999,403.25777976000001,{"$f":"VLOOKUP(C296,pH_Proc!O:R,4)","v":7.9108266357916976},{"$f":"VLOOKUP(C296,[1]Proc_CTD!$A:$H,8)","v":71.606865136016808},null,null,602.63,11.563000000000001,83.224999999999994,592.42999999999995,11.622,102.76,1.8660000000000001,1.6463000000000001,11.805999999999999,93.418000000000006,1.8677999999999999,11.835000000000001,101.51,414.65,12.010999999999999,87.049000000000007,408.87,12.079000000000001,101.64,1.8602000000000001]
[36.743871667000001,-122.188183333,"2013-05-21T14:31:16",141.60504629629577,36.026378652162485,585.44400308000002,403.70155907999998,{"$f":"VLOOKUP(C297,pH_Proc!O:R,4)","v":7.9083872555741666},{"$f":"VLOOKUP(C297,[1]Proc_CTD!$A:$H,8)","v":71.243649055038745},null,null,604.29999999999995,11.544,82.75,592.64,11.612,102.74,1.8779999999999999,1.7039,11.787000000000001,93.27,1.7599,11.816000000000001,101.82,415.31,11.991,87.251000000000005,409.21,12.058999999999999,101.7,1.8648]
[36.739215000000002,-122.19595,"2013-05-21T15:31:18",{"$f":"C298-41274","v":141.64673611111357},{"$f":"ABS(Rhumb(36.806,A298,-121.791,B298))","v":36.807227669204323},{"$f":"0.9908*(O298-V298)","v":574.26143795999997},{"$f":"0.9908*(AB298-V298)","v":403.08092195999996},{"$f":"VLOOKUP(C298,pH_Proc!O:R,4)","v":7.9291238969070887},{"$f":"VLOOKUP(C298,[1]Proc_CTD!$A:$H,8)","v":73.455037800041794},null,null,592.42999999999995,11.651,81.757000000000005,581.15,11.718999999999999,101.4,1.8688,1.5284,11.903,92.784999999999997,1.5563,11.933,101.08,414.13,12.108000000000001,86.968000000000004,408.38,12.166,101.74,1.871]
[36.735263332999999,-122.19083500000001,"2013-05-21T16:31:18",141.68840277777781,36.454523719730993,613.9861768400001,402.62872084000003,{"$f":"VLOOKUP(C299,pH_Proc!O:R,4)","v":7.8889613053738987},{"$f":"VLOOKUP(C299,[1]Proc_CTD!$A:$H,8)","v":70.070578665452885},null,null,634.14,11.573,83.44,621.6,11.631,102.88,1.8734999999999999,1.6944999999999999,11.816000000000001,93.62,1.9127000000000001,11.835000000000001,102.02,414.26,12.010999999999999,86.778999999999996,408.28,12.079000000000001,101.82,1.8794]
[36.733429999999998,-122.18145833299999,"2013-05-21T17:31:16",141.73004629629577,35.685819682712825,612.77551831999995,402.16116232000002,{"$f":"VLOOKUP(C300,pH_Proc!O:R,4)","v":7.8894637412882735},{"$f":"VLOOKUP(C300,[1]Proc_CTD!$A:$H,8)","v":69.073039679246335},null,null,631.55999999999995,11.496,82.534000000000006,620.39,11.554,102.65,1.8775999999999999,1.5311999999999999,11.747999999999999,93.188999999999993,1.9246000000000001,11.776999999999999,101.2,413.51,11.942,87.13,407.82,12.000999999999999,101.83,1.8743000000000001]
[36.732126667000003,-122.174375,"2013-05-21T18:31:16",141.77171296296001,35.105742051655895,631.46775295999998,402.31552895999999,{"$f":"VLOOKUP(C301,pH_Proc!O:R,4)","v":7.8832487274693364},{"$f":"VLOOKUP(C301,[1]Proc_CTD!$A:$H,8)","v":71.296358172472026},null,null,649.84,11.476000000000001,82.426000000000002,639.16,11.544,102.04,1.8712,1.4308000000000001,11.728,92.664000000000001,1.8288,11.757999999999999,101.01,414.01,11.923,86.900999999999996,407.88,11.991,101.87,1.8727]
[36.731756666999999,-122.16853,"2013-05-21T19:31:16",141.81337962963153,34.609901610958609,632.92046392000009,402.63872792000001,{"$f":"VLOOKUP(C302,pH_Proc!O:R,4)","v":7.8783493029881493},{"$f":"VLOOKUP(C302,[1]Proc_CTD!$A:$H,8)","v":68.98426235441859},null,null,655.78,11.457000000000001,82.548000000000002,640.61,11.534000000000001,101.94,1.8720000000000001,1.536,11.709,93.054000000000002,1.8126,11.738,101.38,414.2,11.913,87.061999999999998,408.19,11.972,101.87,1.8758999999999999]
[36.731618333,-122.165838333,"2013-05-21T20:31:16",141.85504629629577,34.380957666287586,645.38552056000003,403.10519656000002,{"$f":"VLOOKUP(C303,pH_Proc!O:R,4)","v":7.876874832407915},{"$f":"VLOOKUP(C303,[1]Proc_CTD!$A:$H,8)","v":70.125609345198626},null,null,664.75,11.465999999999999,81.986000000000004,653.4,11.534000000000001,100.66,1.8668,1.6879,11.709,92.058000000000007,2.0217999999999998,11.738,100.19,414.55,11.913,87.143000000000001,408.87,11.972,101.86,1.8675999999999999]
[36.734830000000002,-122.165213333,"2013-05-21T21:31:16",141.89671296296001,34.2419810560069,637.20062084000006,403.01513283999998,{"$f":"VLOOKUP(C304,pH_Proc!O:R,4)","v":7.881524042726487},{"$f":"VLOOKUP(C304,[1]Proc_CTD!$A:$H,8)","v":70.612379837126809},null,null,655.24,11.486000000000001,81.945999999999998,644.91,11.554,100.68,1.8615999999999999,1.7173,11.728,91.775000000000006,1.7927,11.757999999999999,100.34,414.57,11.942,87.075999999999993,408.55,11.991,101.82,1.8682000000000001]
[36.741003333000002,-122.163791667,"2013-05-21T22:31:16",141.93837962963153,33.964894792481452,637.89636060000009,402.70025659999999,{"$f":"VLOOKUP(C305,pH_Proc!O:R,4)","v":7.8796373600225591},{"$f":"VLOOKUP(C305,[1]Proc_CTD!$A:$H,8)","v":69.872383806283111},null,null,657.46,11.496,82.013000000000005,645.74,11.563000000000001,100.63,1.8694999999999999,1.6167,11.747999999999999,92.031000000000006,1.9205000000000001,11.776999999999999,99.988,414.09,11.942,86.914000000000001,408.36,12.000999999999999,101.77,1.8702000000000001]
[36.735556666999997,-122.15975,"2013-05-21T23:31:17",141.98005787037255,33.749958165675231,648.13082919999999,402.76911720000004,{"$f":"VLOOKUP(C306,pH_Proc!O:R,4)","v":7.8730026574198506},{"$f":"VLOOKUP(C306,[1]Proc_CTD!$A:$H,8)","v":67.899778578298267},null,null,667.88,11.486000000000001,81.905000000000001,655.9,11.554,100.78,1.8649,1.6836,11.747999999999999,92.623000000000005,1.7509999999999999,11.766999999999999,100.73,414.28,11.942,86.805999999999997,408.26,12.000999999999999,101.7,1.8762000000000001]
[36.724081667,-122.166433333,"2013-05-22T00:31:17",142.02172453703679,34.644815202835325,653.05114200000003,402.71561400000002,{"$f":"VLOOKUP(C307,pH_Proc!O:R,4)","v":7.8725142848565159},{"$f":"VLOOKUP(C307,[1]Proc_CTD!$A:$H,8)","v":69.62976115250693},null,null,673.41,11.446999999999999,81.945999999999998,661.05,11.515000000000001,100.51,1.8694999999999999,1.8130999999999999,11.699,91.977000000000004,1.9350000000000001,11.718999999999999,100.38,414.43,11.894,86.927999999999997,408.39,11.962,101.68,1.8725000000000001]
[36.723531667000003,-122.18264000000001,"2013-05-22T01:31:16",142.06337962963153,36.054598378409771,647.49770799999999,402.67102800000004,{"$f":"VLOOKUP(C308,pH_Proc!O:R,4)","v":7.8823288963427176},{"$f":"VLOOKUP(C308,[1]Proc_CTD!$A:$H,8)","v":69.602570585801288},null,null,668.21,11.398999999999999,81.147999999999996,655.4,11.465999999999999,100.37,1.8701000000000001,1.7453000000000001,11.651,91.465000000000003,1.89,11.68,99.462999999999994,414.55,11.845000000000001,86.698999999999998,408.3,11.913,101.64,1.8764000000000001]
[36.723268333,-122.19031,"2013-05-22T02:31:16",142.10504629629577,36.722820561973926,605.71517660000006,402.63090060000002,{"$f":"VLOOKUP(C309,pH_Proc!O:R,4)","v":7.9006696825961571},{"$f":"VLOOKUP(C309,[1]Proc_CTD!$A:$H,8)","v":71.31456286029902},null,null,625.63,11.436999999999999,80.894999999999996,613.08000000000004,11.505000000000001,101.16,1.869,1.6415,11.69,92.394000000000005,1.7404999999999999,11.718999999999999,100.37,414.39,11.894,87.022000000000006,408.11,11.952,101.68,1.8677999999999999]
[36.723005000000001,-122.190018333,"2013-05-22T03:31:16",142.14671296296001,36.705091215279431,601.5640218399999,403.18604584000002,{"$f":"VLOOKUP(C310,pH_Proc!O:R,4)","v":7.9099371612176048},{"$f":"VLOOKUP(C310,[1]Proc_CTD!$A:$H,8)","v":73.183650889424257},null,null,619.80999999999995,11.544,81.069999999999993,608.79999999999995,11.612,100.76,1.8707,1.5893999999999999,11.795999999999999,92.004000000000005,1.6501999999999999,11.816000000000001,100.5,414.96,11.991,87.17,408.58,12.058999999999999,101.68,1.8620000000000001]
[36.723035000000003,-122.18512333300001,"2013-05-22T04:31:16",142.18837962963153,36.282582879256935,608.17107256000008,403.03584056000005,{"$f":"VLOOKUP(C311,pH_Proc!O:R,4)","v":7.9040285970236415},{"$f":"VLOOKUP(C311,[1]Proc_CTD!$A:$H,8)","v":74.605495171552434},null,null,627.57000000000005,11.631,81.066999999999993,615.71,11.699,100.82,1.8680000000000001,1.6418999999999999,11.884,92.138000000000005,1.8917999999999999,11.913,100.58,414.8,12.087999999999999,86.887,408.67,12.137,101.79,1.8705000000000001]
[36.723418332999998,-122.183856667,"2013-05-22T05:31:17",142.23005787037255,36.162593376696634,603.42276263999986,402.88484264000004,{"$f":"VLOOKUP(C312,pH_Proc!O:R,4)","v":7.9080268885296681},{"$f":"VLOOKUP(C312,[1]Proc_CTD!$A:$H,8)","v":73.378165589161242},null,null,621.13,11.738,82.025999999999996,610.80999999999995,11.805999999999999,102.57,1.8727,1.6605000000000001,11.981,92.986999999999995,1.7842,12.01,100.96,414.6,12.186,86.954999999999998,408.41,12.234999999999999,101.77,1.8685]
[36.723026666999999,-122.19922,"2013-05-22T06:31:17",142.27172453703679,37.497998143622915,627.53437603999998,402.89029203999996,{"$f":"VLOOKUP(C313,pH_Proc!O:R,4)","v":7.8886059236353603},{"$f":"VLOOKUP(C313,[1]Proc_CTD!$A:$H,8)","v":70.367107355131111},null,null,646.39,11.525,80.989999999999995,635.32000000000005,11.593,101.91,1.8689,1.6325000000000001,11.766999999999999,92.528999999999996,1.9587000000000001,11.795999999999999,100.89,414.35,11.972,86.753,408.59,12.03,101.75,1.8711]
[36.721978333000003,-122.226203333,"2013-05-22T07:31:16",142.31337962963153,39.858369781133142,610.23183747999997,402.55024948000005,{"$f":"VLOOKUP(C314,pH_Proc!O:R,4)","v":7.8962200224698318},{"$f":"VLOOKUP(C314,[1]Proc_CTD!$A:$H,8)","v":69.310363058163034},null,null,627.47,11.476000000000001,80.837999999999994,617.78,11.544,100.42,1.8606,1.5654999999999999,11.728,92.191999999999993,1.8818999999999999,11.757999999999999,100.61,414.67,11.923,86.739000000000004,408.17,11.991,101.78,1.8664000000000001]
[36.720951667000001,-122.25709999999999,"2013-05-22T08:31:16",142.35504629629577,42.562965540388838,559.28609043999995,402.64061043999999,{"$f":"VLOOKUP(C315,pH_Proc!O:R,4)","v":7.9356243575443868},{"$f":"VLOOKUP(C315,[1]Proc_CTD!$A:$H,8)","v":73.69311798450191},null,null,573.04,11.544,80.801000000000002,566.27,11.612,100.55,1.8603000000000001,1.514,11.805999999999999,92.218999999999994,1.7907,11.826000000000001,100.8,414.52,12.000999999999999,86.846999999999994,408.17,12.058999999999999,101.71,1.8633999999999999]
[36.719916667,-122.284785,"2013-05-22T09:31:16",142.39671296296001,44.994245090748279,524.87273312000002,404.01494911999998,{"$f":"VLOOKUP(C316,pH_Proc!O:R,4)","v":7.965036716837596},{"$f":"VLOOKUP(C316,[1]Proc_CTD!$A:$H,8)","v":76.822430183470175},null,null,540.32000000000005,11.69,80.245999999999995,531.41999999999996,11.757999999999999,101.59,1.8568,1.4835,11.942,91.802000000000007,1.6736,11.972,100.16,414.97,12.147,86.846999999999994,409.44,12.205,101.7,1.8605]
[36.719071667000001,-122.30629999999999,"2013-05-22T10:31:17",142.43839120370103,46.887288244850666,547.74168515999997,404.41255715999995,{"$f":"VLOOKUP(C317,pH_Proc!O:R,4)","v":7.9367518399462851},{"$f":"VLOOKUP(C317,[1]Proc_CTD!$A:$H,8)","v":76.146613706993634},null,null,566.1,11.67,80.716999999999999,554.54,11.747999999999999,100.76,1.8591,1.5279,11.923,92.34,1.7122999999999999,11.952,100.92,415.14,12.118,87.061999999999998,409.88,12.176,101.66,1.8573]
[36.718591666999998,-122.32303,"2013-05-22T11:31:16",142.48004629629577,48.356679916541189,586.7817812400001,404.13770923999999,{"$f":"VLOOKUP(C318,pH_Proc!O:R,4)","v":7.9187366372781502},{"$f":"VLOOKUP(C318,[1]Proc_CTD!$A:$H,8)","v":74.128035595275961},null,null,606.77,11.583,80.811000000000007,594.1,11.651,100.42,1.8587,1.7273000000000001,11.826000000000001,92.771000000000001,1.8696999999999999,11.855,100.93,416.05,12.03,87.034999999999997,409.76,12.087999999999999,101.67,1.8545]
[36.718003332999999,-122.338256667,"2013-05-22T12:31:16",142.52171296296001,49.698504371326194,694.93651843999999,404.17635044000002,{"$f":"VLOOKUP(C319,pH_Proc!O:R,4)","v":7.8374469868641361},{"$f":"VLOOKUP(C319,[1]Proc_CTD!$A:$H,8)","v":64.074630038221358},null,null,716.34,11.234,81.349999999999994,703.41,11.292,100.97,1.8517999999999999,1.8952,11.476000000000001,91.855999999999995,2.0207000000000002,11.496,100.41,416.75,11.661,86.644999999999996,409.95,11.718999999999999,101.68,1.8573999999999999]
[36.715113332999998,-122.35718166700001,"2013-05-22T13:31:16",142.56337962963153,51.414739483753593,654.43201995999993,404.61170795999999,{"$f":"VLOOKUP(C320,pH_Proc!O:R,4)","v":7.8696650721087735},{"$f":"VLOOKUP(C320,[1]Proc_CTD!$A:$H,8)","v":65.641314095144182},null,null,673.66,11.05,80.989999999999995,662.27,11.118,101.32,1.8554999999999999,1.6963999999999999,11.302,92.058000000000007,1.7613000000000001,11.331,100.59,416.51,11.505000000000001,86.617999999999995,410.13,11.564,101.75,1.8604000000000001]
[36.697369999999999,-122.379218333,"2013-05-22T14:31:17",142.60505787037255,53.754590515445678,623.70642023999994,404.20458824000002,{"$f":"VLOOKUP(C321,pH_Proc!O:R,4)","v":7.8910160297129019},{"$f":"VLOOKUP(C321,[1]Proc_CTD!$A:$H,8)","v":69.993158516110825},null,null,643.1,11.128,81.043999999999997,631.47,11.195,101.05,1.8537999999999999,1.5066999999999999,11.379,92.058000000000007,1.9722,11.407999999999999,100.38,415.69,11.583,86.82,409.93,11.641,101.71,1.8553999999999999]

{"sheet":"CO2_Std","index":5,"n_rows":14,"n_cols":12,"rows_kept":14,"cut":false,"hidden":false,"merged":[]}
["Da e. ime","ZeroPumpOff pco2","StandardFlowOn Pressure","StandardFlowOff pco2","StandardFlowOff Temp","StandardFlowOff Pressure","StandardFlowOff pco2 Humidity","Std_ZeroCor","CalFactor",null,null,"Standard value is 401.16"]
["2013-05-09T20:31:29",-1.6767000000000001,103.17,404.56,20.63,102.17,1.8734999999999999,{"$f":"D2-B2","v":406.23669999999998},{"$f":"401.16/H2","v":0.9875030985629808}]
["2013-05-11T15:31:16",1.3418000000000001,103.13,406.44,13.58,102.06,1.7899,{"$f":"D3-B3","v":405.09820000000002},{"$f":"401.16/H3","v":0.99027840656907384}]
["2013-05-12T14:31:16",1.5264,103.25,406.21,13.263999999999999,102.17,1.794,404.68359999999996,0.99129295083863067]
["2013-05-13T13:31:16",1.2162999999999999,103.04,405.87,13.619,101.94,1.7944,404.65370000000001,0.9913661978130931]
["2013-05-14T12:31:16",1.5389999999999999,102.78,406.17,12.763,101.68,1.7825,404.63100000000003,0.99142181394900541]
["2013-05-15T11:31:17",1.2857000000000001,102.99,406.48,13.57,101.89,1.7717000000000001,405.1943,0.99004354207351886]
["2013-05-16T10:31:16",1.5557000000000001,102.96,405.87,13.205,101.83,1.7971999999999999,404.3143,0.99219839614873884]
["2013-05-17T09:31:16",1.5204,102.86,406.18,13.048,101.74,1.7878000000000001,404.65960000000001,0.99135174353950828]
["2013-05-18T08:31:18",1.3997999999999999,103.17,406.38,13.234999999999999,102.05,1.7859,404.98019999999997,0.99056694623589014]
["2013-05-19T07:31:16",0.59423999999999999,103.26,405.61,14.784000000000001,102.13,1.7985,405.01576,0.990479975396513]
["2013-05-20T06:31:16",0.98877999999999999,102.87,406.41,14.164999999999999,101.73,1.7768999999999999,405.42122000000001,0.98948940067813917,{"$f":"AVERAGE(I3:I12)","v":0.99084893732421109},{"$f":"STDEV(H3:H12)","v":0.33098673732408657}]
["2013-05-21T05:31:16",1.8188,102.75,406.82,12.459,101.6,1.7427999999999999,{"$f":"D13-B13","v":405.00119999999998},{"$f":"401.16/H13","v":0.99051558365753001},{"$f":"AVERAGE(I4:I13)","v":0.99087265503305666},{"$f":"STDEV(H4:H13)","v":0.32476209319027854}]
["2013-05-22T04:31:16",1.8917999999999999,102.92,406.6,12.362,101.77,1.7270000000000001,404.70820000000003,0.99123269555694693,0.99086662950488846,0.32340574944383466]

{"sheet":"pCO2-pH_Plot","index":6,"n_rows":0,"n_cols":0,"rows_kept":0,"cut":false,"hidden":false,"merged":[]}